{"text_format":"1","workbook":"xlsx","n_sheets":45,"sheets":["Infos","Versionsinfo","Auswertung_M","Auswertung_W","BraunJanisLuca","MorgensternLuna","SchneiderFiona","MöllerMaya","FeyhMiguel","LauhöferSaskia","MeinertPaul","RischValentin","StöhrGabriela","BraafLuisa","ThomsonAdrian","HofmannSimon","WöllBettina","WolfrumPhilipp","EschkeRyan","HenseleitNele","RadfelderHenningMirja","LangnerSabrina","VolskaNikola","RonsiekNiederbrökerHannah","KolaSheridan","ZimmerhackelJana","StaiberSelina","SchuldtChristine","PapeNina","ImleVanessa","AmedickCarlotta","BaumannIsabel","GarmannLars","SchuldtMatthias","RöslerManuel","LauxtermannCaio","HoffmannSimon","BuddeMax","BubnerJacob","BrandtDominic","BestMoritz","Vorlage","Listen","Punktetabellen","Standsprünge"],"not_rendered":{"charts":0,"images":0,"macros":1,"external_links":0,"defined_names":41,"comments":3,"pivot_tables":0},"unopened":[],"bounds":{"document_bytes":16777216,"sheet_cells":100000,"rows_first":2000,"rows_last":500,"rows_between":2000,"halvings":0,"cell_chars":16384,"cell_head_chars":4096},"cells_cut":0,"cells_raw":0,"read":"whole","date_system":"1900"}

{"sheet":"Infos","index":0,"n_rows":16,"n_cols":1,"rows_kept":16,"cut":false,"hidden":true,"merged":[]}
["Wertungsbögen zum bundeseinheitlichen Leistungsvoraussetzungstest"]
["Kadertest Stand 09.07.2019"]
[]
[]
[]
[]
[]
["Löschen von Teilnehmern\n- Zeile in Auswertungsblatt markieren, Rechtsklick, \" Zellen löschen\"\n- Aktivenblatt löschen"]
[]
["Änderungen an Teilnehmerdaten\nVerein und Jahrgang lassen sich auf der jeweiligen Aktivenkarte ändern und\nwerden auf dem Auswertungsblatt übernommen"]
[]
["Passwort zum Bearbeiten von Zellen\nKadertest"]
[]
["Makros in Excel zulassen\nDatei --> Optionen --> Trust Center --> Einstellungen für das Trust Center --> Makroeinstellungen --> Alle Makros aktivieren"]
[]
["Korbinian Hauck, 15.07.2019"]

{"sheet":"Versionsinfo","index":1,"n_rows":5,"n_cols":3,"rows_kept":5,"cut":false,"hidden":true,"merged":[]}
["Version","Datum","Änderungen"]
["2019_v1","2019-07-09","Erstanlage mit Bewertungstabelle für 2019"]
["2019_v2","2019-07-12","Gesamt-Mindestwert eingefügt"]
["2019_v3","2019-07-14","Formatierungen angepasst"]
["2019_v4","2019-07-15","Makro bzgl. Blattschutz angepasst"]

{"sheet":"Auswertung_M","index":2,"n_rows":17,"n_cols":38,"rows_kept":17,"cut":false,"hidden":false,"merged":[]}
["Name","Jg","AK","Verein","FD","BM","BBW","QSL","QSR","Punktzahl Beweglichkeit","KLZ","BEH","FLG","RV","PS","HAST","SW","Bleep","Punktzahl\nKraft/Kondition","SSH","TBN 1","TBN 2","TBN 3","TN 1","TN 2","TN 3","TN 4","TN 5","TN 6","TV","Punktzahl\nTrampolin","Punktzahl\nBKÜ","Gesamtpunkte","Summe Kraft, Beweglichkeit, BKÜ","Mindestwert Kondi erfüllt?","Mindestwert Gesamt","Gesamtwert erfüllt?","Alles erfüllt?"]
["Wolfrum, Philipp",{"$f":"(WolfrumPhilipp!$H$1)","v":2007},{"$f":"(WolfrumPhilipp!$H$2)","v":13},{"$f":"(WolfrumPhilipp!$B$2)","v":"Munich-Airriders"},{"$f":"(WolfrumPhilipp!$H$4)","v":10},{"$f":"(WolfrumPhilipp!$H$5)","v":10},{"$f":"(WolfrumPhilipp!$H$6)","v":10},{"$f":"(WolfrumPhilipp!$H$7)","v":10},{"$f":"(WolfrumPhilipp!$H$8)","v":10},{"$f":"(WolfrumPhilipp!$H$9)","v":50},{"$f":"(WolfrumPhilipp!$H$11)","v":10},{"$f":"(WolfrumPhilipp!$H$12)","v":1},{"$f":"(WolfrumPhilipp!$H$13)","v":8},{"$f":"(WolfrumPhilipp!$H$14)","v":10},{"$f":"(WolfrumPhilipp!$H$15)","v":10},{"$f":"(WolfrumPhilipp!$H$16)","v":10},{"$f":"(WolfrumPhilipp!$H$17)","v":10},{"$f":"(WolfrumPhilipp!$H$18)","v":10},{"$f":"(WolfrumPhilipp!$H$19)","v":69},{"$f":"(WolfrumPhilipp!$H$21)","v":7.5999999999999801},{"$f":"(WolfrumPhilipp!$H$22)","v":8},{"$f":"(WolfrumPhilipp!$H$23)","v":10},{"$f":"(WolfrumPhilipp!$H$24)","v":0},{"$f":"(WolfrumPhilipp!$H$25)","v":9},{"$f":"(WolfrumPhilipp!$H$26)","v":11},{"$f":"(WolfrumPhilipp!$H$27)","v":8},{"$f":"(WolfrumPhilipp!$H$28)","v":9},{"$f":"(WolfrumPhilipp!$H$29)","v":0},{"$f":"(WolfrumPhilipp!$H$30)","v":0},{"$f":"(WolfrumPhilipp!$H$36)","v":7},{"$f":"(WolfrumPhilipp!$H$37)","v":92.59999999999998},{"$f":"(WolfrumPhilipp!$H$51)","v":28},{"$f":"(WolfrumPhilipp!$H$52)","v":239.59999999999997},{"$f":"(WolfrumPhilipp!$B$75)","v":147},{"$f":"(WolfrumPhilipp!$B$76)","v":"Ja"},{"$f":"(WolfrumPhilipp!$B$77)","v":144},{"$f":"(WolfrumPhilipp!$B$78)","v":"Ja"},{"$f":"(WolfrumPhilipp!$B$79)","v":"Ja"}]
["Budde, Max",{"$f":"(BuddeMax!$H$1)","v":2002},{"$f":"(BuddeMax!$H$2)","v":18},{"$f":"(BuddeMax!$B$2)","v":"SC Cottbus"},{"$f":"(BuddeMax!$H$4)","v":10},{"$f":"(BuddeMax!$H$5)","v":10},{"$f":"(BuddeMax!$H$6)","v":10},{"$f":"(BuddeMax!$H$7)","v":6},{"$f":"(BuddeMax!$H$8)","v":6},{"$f":"(BuddeMax!$H$9)","v":42},{"$f":"(BuddeMax!$H$11)","v":9},{"$f":"(BuddeMax!$H$12)","v":2},{"$f":"(BuddeMax!$H$13)","v":6},{"$f":"(BuddeMax!$H$14)","v":10},{"$f":"(BuddeMax!$H$15)","v":9},{"$f":"(BuddeMax!$H$16)","v":10},{"$f":"(BuddeMax!$H$17)","v":4},{"$f":"(BuddeMax!$H$18)","v":5},{"$f":"(BuddeMax!$H$19)","v":55},{"$f":"(BuddeMax!$H$21)","v":7.6499999999999702},{"$f":"(BuddeMax!$H$22)","v":0},{"$f":"(BuddeMax!$H$23)","v":0},{"$f":"(BuddeMax!$H$24)","v":0},{"$f":"(BuddeMax!$H$25)","v":16},{"$f":"(BuddeMax!$H$26)","v":13},{"$f":"(BuddeMax!$H$27)","v":11},{"$f":"(BuddeMax!$H$28)","v":12},{"$f":"(BuddeMax!$H$29)","v":12},{"$f":"(BuddeMax!$H$30)","v":11},{"$f":"(BuddeMax!$H$36)","v":10},{"$f":"(BuddeMax!$H$37)","v":142.64999999999998},{"$f":"(BuddeMax!$H$51)","v":23},{"$f":"(BuddeMax!$H$52)","v":262.64999999999998},{"$f":"(BuddeMax!$B$75)","v":120},{"$f":"(BuddeMax!$B$76)","v":"Ja"},{"$f":"(BuddeMax!$B$77)","v":186},{"$f":"(BuddeMax!$B$78)","v":"Ja"},{"$f":"(BuddeMax!$B$79)","v":"Ja"}]
["Thomson, Adrian",{"$f":"(ThomsonAdrian!$H$1)","v":2006},{"$f":"(ThomsonAdrian!$H$2)","v":14},{"$f":"(ThomsonAdrian!$B$2)","v":"TG Münster"},{"$f":"(ThomsonAdrian!$H$4)","v":10},{"$f":"(ThomsonAdrian!$H$5)","v":6},{"$f":"(ThomsonAdrian!$H$6)","v":10},{"$f":"(ThomsonAdrian!$H$7)","v":6},{"$f":"(ThomsonAdrian!$H$8)","v":6},{"$f":"(ThomsonAdrian!$H$9)","v":38},{"$f":"(ThomsonAdrian!$H$11)","v":7},{"$f":"(ThomsonAdrian!$H$12)","v":4},{"$f":"(ThomsonAdrian!$H$13)","v":2},{"$f":"(ThomsonAdrian!$H$14)","v":10},{"$f":"(ThomsonAdrian!$H$15)","v":10},{"$f":"(ThomsonAdrian!$H$16)","v":10},{"$f":"(ThomsonAdrian!$H$17)","v":1},{"$f":"(ThomsonAdrian!$H$18)","v":8},{"$f":"(ThomsonAdrian!$H$19)","v":52},{"$f":"(ThomsonAdrian!$H$21)","v":1.3999999999999879},{"$f":"(ThomsonAdrian!$H$22)","v":5},{"$f":"(ThomsonAdrian!$H$23)","v":8},{"$f":"(ThomsonAdrian!$H$24)","v":0},{"$f":"(ThomsonAdrian!$H$25)","v":9},{"$f":"(ThomsonAdrian!$H$26)","v":7},{"$f":"(ThomsonAdrian!$H$27)","v":8},{"$f":"(ThomsonAdrian!$H$28)","v":8},{"$f":"(ThomsonAdrian!$H$29)","v":0},{"$f":"(ThomsonAdrian!$H$30)","v":0},{"$f":"(ThomsonAdrian!$H$36)","v":8},{"$f":"(ThomsonAdrian!$H$37)","v":74.399999999999991},{"$f":"(ThomsonAdrian!$H$51)","v":23.5},{"$f":"(ThomsonAdrian!$H$52)","v":187.89999999999998},{"$f":"(ThomsonAdrian!$B$75)","v":113.5},{"$f":"(ThomsonAdrian!$B$76)","v":"Ja"},{"$f":"(ThomsonAdrian!$B$77)","v":144},{"$f":"(ThomsonAdrian!$B$78)","v":"Ja"},{"$f":"(ThomsonAdrian!$B$79)","v":"Ja"}]
["Bubner, Jacob",{"$f":"(BubnerJacob!$H$1)","v":2001},{"$f":"(BubnerJacob!$H$2)","v":19},{"$f":"(BubnerJacob!$B$2)","v":"SC Cottbus"},{"$f":"(BubnerJacob!$H$4)","v":10},{"$f":"(BubnerJacob!$H$5)","v":6},{"$f":"(BubnerJacob!$H$6)","v":4},{"$f":"(BubnerJacob!$H$7)","v":2},{"$f":"(BubnerJacob!$H$8)","v":6},{"$f":"(BubnerJacob!$H$9)","v":28},{"$f":"(BubnerJacob!$H$11)","v":10},{"$f":"(BubnerJacob!$H$12)","v":6},{"$f":"(BubnerJacob!$H$13)","v":4},{"$f":"(BubnerJacob!$H$14)","v":10},{"$f":"(BubnerJacob!$H$15)","v":9},{"$f":"(BubnerJacob!$H$16)","v":10},{"$f":"(BubnerJacob!$H$17)","v":3},{"$f":"(BubnerJacob!$H$18)","v":7},{"$f":"(BubnerJacob!$H$19)","v":59},{"$f":"(BubnerJacob!$H$21)","v":-4.7499999999999787},{"$f":"(BubnerJacob!$H$22)","v":0},{"$f":"(BubnerJacob!$H$23)","v":0},{"$f":"(BubnerJacob!$H$24)","v":0},{"$f":"(BubnerJacob!$H$25)","v":16},{"$f":"(BubnerJacob!$H$26)","v":13},{"$f":"(BubnerJacob!$H$27)","v":12},{"$f":"(BubnerJacob!$H$28)","v":15},{"$f":"(BubnerJacob!$H$29)","v":0},{"$f":"(BubnerJacob!$H$30)","v":0},{"$f":"(BubnerJacob!$H$36)","v":0},{"$f":"(BubnerJacob!$H$37)","v":98.250000000000028},{"$f":"(BubnerJacob!$H$51)","v":25.5},{"$f":"(BubnerJacob!$H$52)","v":210.75000000000003},{"$f":"(BubnerJacob!$B$75)","v":112.5},{"$f":"(BubnerJacob!$B$76)","v":"Ja"},{"$f":"(BubnerJacob!$B$77)","v":198},{"$f":"(BubnerJacob!$B$78)","v":"Ja"},{"$f":"(BubnerJacob!$B$79)","v":"Ja"}]
["Lauxtermann, Caio",{"$f":"(LauxtermannCaio!$H$1)","v":2003},{"$f":"(LauxtermannCaio!$H$2)","v":17},{"$f":"(LauxtermannCaio!$B$2)","v":"SC Cottbus"},{"$f":"(LauxtermannCaio!$H$4)","v":10},{"$f":"(LauxtermannCaio!$H$5)","v":6},{"$f":"(LauxtermannCaio!$H$6)","v":8},{"$f":"(LauxtermannCaio!$H$7)","v":10},{"$f":"(LauxtermannCaio!$H$8)","v":6},{"$f":"(LauxtermannCaio!$H$9)","v":40},{"$f":"(LauxtermannCaio!$H$11)","v":10},{"$f":"(LauxtermannCaio!$H$12)","v":1},{"$f":"(LauxtermannCaio!$H$13)","v":2},{"$f":"(LauxtermannCaio!$H$14)","v":10},{"$f":"(LauxtermannCaio!$H$15)","v":10},{"$f":"(LauxtermannCaio!$H$16)","v":10},{"$f":"(LauxtermannCaio!$H$17)","v":0},{"$f":"(LauxtermannCaio!$H$18)","v":8},{"$f":"(LauxtermannCaio!$H$19)","v":51},{"$f":"(LauxtermannCaio!$H$21)","v":9.4999999999999929},{"$f":"(LauxtermannCaio!$H$22)","v":0},{"$f":"(LauxtermannCaio!$H$23)","v":0},{"$f":"(LauxtermannCaio!$H$24)","v":0},{"$f":"(LauxtermannCaio!$H$25)","v":18},{"$f":"(LauxtermannCaio!$H$26)","v":15},{"$f":"(LauxtermannCaio!$H$27)","v":12},{"$f":"(LauxtermannCaio!$H$28)","v":14},{"$f":"(LauxtermannCaio!$H$29)","v":13},{"$f":"(LauxtermannCaio!$H$30)","v":11},{"$f":"(LauxtermannCaio!$H$36)","v":11},{"$f":"(LauxtermannCaio!$H$37)","v":153.5},{"$f":"(LauxtermannCaio!$H$51)","v":21},{"$f":"(LauxtermannCaio!$H$52)","v":265.5},{"$f":"(LauxtermannCaio!$B$75)","v":112},{"$f":"(LauxtermannCaio!$B$76)","v":"Ja"},{"$f":"(LauxtermannCaio!$B$77)","v":186},{"$f":"(LauxtermannCaio!$B$78)","v":"Ja"},{"$f":"(LauxtermannCaio!$B$79)","v":"Ja"}]
["Garmann, Lars",{"$f":"(GarmannLars!$H$1)","v":2004},{"$f":"(GarmannLars!$H$2)","v":16},{"$f":"(GarmannLars!$B$2)","v":"SC Cottbus"},{"$f":"(GarmannLars!$H$4)","v":10},{"$f":"(GarmannLars!$H$5)","v":10},{"$f":"(GarmannLars!$H$6)","v":8},{"$f":"(GarmannLars!$H$7)","v":10},{"$f":"(GarmannLars!$H$8)","v":10},{"$f":"(GarmannLars!$H$9)","v":48},{"$f":"(GarmannLars!$H$11)","v":7},{"$f":"(GarmannLars!$H$12)","v":1},{"$f":"(GarmannLars!$H$13)","v":2},{"$f":"(GarmannLars!$H$14)","v":10},{"$f":"(GarmannLars!$H$15)","v":9},{"$f":"(GarmannLars!$H$16)","v":10},{"$f":"(GarmannLars!$H$17)","v":0},{"$f":"(GarmannLars!$H$18)","v":0},{"$f":"(GarmannLars!$H$19)","v":39},{"$f":"(GarmannLars!$H$21)","v":-1.5000000000000213},{"$f":"(GarmannLars!$H$22)","v":9},{"$f":"(GarmannLars!$H$23)","v":9},{"$f":"(GarmannLars!$H$24)","v":0},{"$f":"(GarmannLars!$H$25)","v":13},{"$f":"(GarmannLars!$H$26)","v":9},{"$f":"(GarmannLars!$H$27)","v":8},{"$f":"(GarmannLars!$H$28)","v":9},{"$f":"(GarmannLars!$H$29)","v":0},{"$f":"(GarmannLars!$H$30)","v":0},{"$f":"(GarmannLars!$H$36)","v":8},{"$f":"(GarmannLars!$H$37)","v":100.49999999999997},{"$f":"(GarmannLars!$H$51)","v":24},{"$f":"(GarmannLars!$H$52)","v":211.49999999999997},{"$f":"(GarmannLars!$B$75)","v":111},{"$f":"(GarmannLars!$B$76)","v":"Ja"},{"$f":"(GarmannLars!$B$77)","v":162},{"$f":"(GarmannLars!$B$78)","v":"Ja"},{"$f":"(GarmannLars!$B$79)","v":"Ja"}]
["Meinert, Paul",{"$f":"(MeinertPaul!$H$1)","v":2004},{"$f":"(MeinertPaul!$H$2)","v":16},{"$f":"(MeinertPaul!$B$2)","v":"TV Blecher"},{"$f":"(MeinertPaul!$H$4)","v":6},{"$f":"(MeinertPaul!$H$5)","v":6},{"$f":"(MeinertPaul!$H$6)","v":10},{"$f":"(MeinertPaul!$H$7)","v":6},{"$f":"(MeinertPaul!$H$8)","v":6},{"$f":"(MeinertPaul!$H$9)","v":34},{"$f":"(MeinertPaul!$H$11)","v":10},{"$f":"(MeinertPaul!$H$12)","v":2},{"$f":"(MeinertPaul!$H$13)","v":4},{"$f":"(MeinertPaul!$H$14)","v":10},{"$f":"(MeinertPaul!$H$15)","v":10},{"$f":"(MeinertPaul!$H$16)","v":10},{"$f":"(MeinertPaul!$H$17)","v":0},{"$f":"(MeinertPaul!$H$18)","v":8},{"$f":"(MeinertPaul!$H$19)","v":54},{"$f":"(MeinertPaul!$H$21)","v":3.3999999999999986},{"$f":"(MeinertPaul!$H$22)","v":0},{"$f":"(MeinertPaul!$H$23)","v":0},{"$f":"(MeinertPaul!$H$24)","v":0},{"$f":"(MeinertPaul!$H$25)","v":11},{"$f":"(MeinertPaul!$H$26)","v":0},{"$f":"(MeinertPaul!$H$27)","v":0},{"$f":"(MeinertPaul!$H$28)","v":0},{"$f":"(MeinertPaul!$H$29)","v":0},{"$f":"(MeinertPaul!$H$30)","v":0},{"$f":"(MeinertPaul!$H$36)","v":8},{"$f":"(MeinertPaul!$H$37)","v":56.4},{"$f":"(MeinertPaul!$H$51)","v":21.5},{"$f":"(MeinertPaul!$H$52)","v":165.9},{"$f":"(MeinertPaul!$B$75)","v":109.5},{"$f":"(MeinertPaul!$B$76)","v":"Ja"},{"$f":"(MeinertPaul!$B$77)","v":162},{"$f":"(MeinertPaul!$B$78)","v":"Ja"},{"$f":"(MeinertPaul!$B$79)","v":"Ja"}]
["Risch, Valentin",{"$f":"(RischValentin!$H$1)","v":2005},{"$f":"(RischValentin!$H$2)","v":15},{"$f":"(RischValentin!$B$2)","v":"SG Frankfurt-Nied"},{"$f":"(RischValentin!$H$4)","v":10},{"$f":"(RischValentin!$H$5)","v":10},{"$f":"(RischValentin!$H$6)","v":10},{"$f":"(RischValentin!$H$7)","v":10},{"$f":"(RischValentin!$H$8)","v":6},{"$f":"(RischValentin!$H$9)","v":46},{"$f":"(RischValentin!$H$11)","v":5},{"$f":"(RischValentin!$H$12)","v":6},{"$f":"(RischValentin!$H$13)","v":0},{"$f":"(RischValentin!$H$14)","v":7},{"$f":"(RischValentin!$H$15)","v":10},{"$f":"(RischValentin!$H$16)","v":10},{"$f":"(RischValentin!$H$17)","v":0},{"$f":"(RischValentin!$H$18)","v":2},{"$f":"(RischValentin!$H$19)","v":40},{"$f":"(RischValentin!$H$21)","v":3.1499999999999773},{"$f":"(RischValentin!$H$22)","v":9},{"$f":"(RischValentin!$H$23)","v":10},{"$f":"(RischValentin!$H$24)","v":0},{"$f":"(RischValentin!$H$25)","v":11},{"$f":"(RischValentin!$H$26)","v":13},{"$f":"(RischValentin!$H$27)","v":11},{"$f":"(RischValentin!$H$28)","v":12},{"$f":"(RischValentin!$H$29)","v":0},{"$f":"(RischValentin!$H$30)","v":0},{"$f":"(RischValentin!$H$36)","v":9},{"$f":"(RischValentin!$H$37)","v":112.14999999999998},{"$f":"(RischValentin!$H$51)","v":23.5},{"$f":"(RischValentin!$H$52)","v":221.64999999999998},{"$f":"(RischValentin!$B$75)","v":109.5},{"$f":"(RischValentin!$B$76)","v":"Ja"},{"$f":"(RischValentin!$B$77)","v":162},{"$f":"(RischValentin!$B$78)","v":"Ja"},{"$f":"(RischValentin!$B$79)","v":"Ja"}]
["Rösler, Manuel",{"$f":"(RöslerManuel!$H$1)","v":2002},{"$f":"(RöslerManuel!$H$2)","v":18},{"$f":"(RöslerManuel!$B$2)","v":"MTV Stuttgart"},{"$f":"(RöslerManuel!$H$4)","v":10},{"$f":"(RöslerManuel!$H$5)","v":6},{"$f":"(RöslerManuel!$H$6)","v":2},{"$f":"(RöslerManuel!$H$7)","v":6},{"$f":"(RöslerManuel!$H$8)","v":6},{"$f":"(RöslerManuel!$H$9)","v":30},{"$f":"(RöslerManuel!$H$11)","v":10},{"$f":"(RöslerManuel!$H$12)","v":0},{"$f":"(RöslerManuel!$H$13)","v":10},{"$f":"(RöslerManuel!$H$14)","v":7},{"$f":"(RöslerManuel!$H$15)","v":9},{"$f":"(RöslerManuel!$H$16)","v":10},{"$f":"(RöslerManuel!$H$17)","v":0},{"$f":"(RöslerManuel!$H$18)","v":10},{"$f":"(RöslerManuel!$H$19)","v":56},{"$f":"(RöslerManuel!$H$21)","v":12.59999999999998},{"$f":"(RöslerManuel!$H$22)","v":0},{"$f":"(RöslerManuel!$H$23)","v":0},{"$f":"(RöslerManuel!$H$24)","v":0},{"$f":"(RöslerManuel!$H$25)","v":13},{"$f":"(RöslerManuel!$H$26)","v":14},{"$f":"(RöslerManuel!$H$27)","v":15},{"$f":"(RöslerManuel!$H$28)","v":10},{"$f":"(RöslerManuel!$H$29)","v":11},{"$f":"(RöslerManuel!$H$30)","v":10},{"$f":"(RöslerManuel!$H$36)","v":10},{"$f":"(RöslerManuel!$H$37)","v":146.59999999999997},{"$f":"(RöslerManuel!$H$51)","v":20.5},{"$f":"(RöslerManuel!$H$52)","v":253.09999999999997},{"$f":"(RöslerManuel!$B$75)","v":106.5},{"$f":"(RöslerManuel!$B$76)","v":"Ja"},{"$f":"(RöslerManuel!$B$77)","v":186},{"$f":"(RöslerManuel!$B$78)","v":"Ja"},{"$f":"(RöslerManuel!$B$79)","v":"Ja"}]
["Feyh, Miguel",{"$f":"(FeyhMiguel!$H$1)","v":2005},{"$f":"(FeyhMiguel!$H$2)","v":15},{"$f":"(FeyhMiguel!$B$2)","v":"Frankfurt Flyers"},{"$f":"(FeyhMiguel!$H$4)","v":10},{"$f":"(FeyhMiguel!$H$5)","v":2},{"$f":"(FeyhMiguel!$H$6)","v":6},{"$f":"(FeyhMiguel!$H$7)","v":2},{"$f":"(FeyhMiguel!$H$8)","v":2},{"$f":"(FeyhMiguel!$H$9)","v":22},{"$f":"(FeyhMiguel!$H$11)","v":10},{"$f":"(FeyhMiguel!$H$12)","v":6},{"$f":"(FeyhMiguel!$H$13)","v":4},{"$f":"(FeyhMiguel!$H$14)","v":10},{"$f":"(FeyhMiguel!$H$15)","v":10},{"$f":"(FeyhMiguel!$H$16)","v":10},{"$f":"(FeyhMiguel!$H$17)","v":2},{"$f":"(FeyhMiguel!$H$18)","v":2},{"$f":"(FeyhMiguel!$H$19)","v":54},{"$f":"(FeyhMiguel!$H$21)","v":9.3999999999999773},{"$f":"(FeyhMiguel!$H$22)","v":9},{"$f":"(FeyhMiguel!$H$23)","v":8},{"$f":"(FeyhMiguel!$H$24)","v":0},{"$f":"(FeyhMiguel!$H$25)","v":11},{"$f":"(FeyhMiguel!$H$26)","v":9},{"$f":"(FeyhMiguel!$H$27)","v":8},{"$f":"(FeyhMiguel!$H$28)","v":8},{"$f":"(FeyhMiguel!$H$29)","v":0},{"$f":"(FeyhMiguel!$H$30)","v":0},{"$f":"(FeyhMiguel!$H$36)","v":9},{"$f":"(FeyhMiguel!$H$37)","v":104.39999999999998},{"$f":"(FeyhMiguel!$H$51)","v":25.5},{"$f":"(FeyhMiguel!$H$52)","v":205.89999999999998},{"$f":"(FeyhMiguel!$B$75)","v":101.5},{"$f":"(FeyhMiguel!$B$76)","v":"Ja"},{"$f":"(FeyhMiguel!$B$77)","v":162},{"$f":"(FeyhMiguel!$B$78)","v":"Ja"},{"$f":"(FeyhMiguel!$B$79)","v":"Ja"}]
["Schuldt, Matthias",{"$f":"(SchuldtMatthias!$H$1)","v":2000},{"$f":"(SchuldtMatthias!$H$2)","v":20},{"$f":"(SchuldtMatthias!$B$2)","v":"Frankfurt Flyers"},{"$f":"(SchuldtMatthias!$H$4)","v":10},{"$f":"(SchuldtMatthias!$H$5)","v":2},{"$f":"(SchuldtMatthias!$H$6)","v":6},{"$f":"(SchuldtMatthias!$H$7)","v":6},{"$f":"(SchuldtMatthias!$H$8)","v":6},{"$f":"(SchuldtMatthias!$H$9)","v":30},{"$f":"(SchuldtMatthias!$H$11)","v":8},{"$f":"(SchuldtMatthias!$H$12)","v":2},{"$f":"(SchuldtMatthias!$H$13)","v":10},{"$f":"(SchuldtMatthias!$H$14)","v":10},{"$f":"(SchuldtMatthias!$H$15)","v":9},{"$f":"(SchuldtMatthias!$H$16)","v":10},{"$f":"(SchuldtMatthias!$H$17)","v":0},{"$f":"(SchuldtMatthias!$H$18)","v":4},{"$f":"(SchuldtMatthias!$H$19)","v":53},{"$f":"(SchuldtMatthias!$H$21)","v":0},{"$f":"(SchuldtMatthias!$H$22)","v":0},{"$f":"(SchuldtMatthias!$H$23)","v":0},{"$f":"(SchuldtMatthias!$H$24)","v":0},{"$f":"(SchuldtMatthias!$H$25)","v":0},{"$f":"(SchuldtMatthias!$H$26)","v":0},{"$f":"(SchuldtMatthias!$H$27)","v":0},{"$f":"(SchuldtMatthias!$H$28)","v":0},{"$f":"(SchuldtMatthias!$H$29)","v":0},{"$f":"(SchuldtMatthias!$H$30)","v":0},{"$f":"(SchuldtMatthias!$H$36)","v":0},{"$f":"(SchuldtMatthias!$H$37)","v":0},{"$f":"(SchuldtMatthias!$H$51)","v":23},{"$f":"(SchuldtMatthias!$H$52)","v":106},{"$f":"(SchuldtMatthias!$B$75)","v":106},{"$f":"(SchuldtMatthias!$B$76)","v":"Ja"},{"$f":"(SchuldtMatthias!$B$77)","v":198},{"$f":"(SchuldtMatthias!$B$78)","v":"Nein"},{"$f":"(SchuldtMatthias!$B$79)","v":"Nein"}]
["Best, Moritz",{"$f":"(BestMoritz!$H$1)","v":2000},{"$f":"(BestMoritz!$H$2)","v":20},{"$f":"(BestMoritz!$B$2)","v":"MTV Bad Kreuznach"},{"$f":"(BestMoritz!$H$4)","v":6},{"$f":"(BestMoritz!$H$5)","v":6},{"$f":"(BestMoritz!$H$6)","v":10},{"$f":"(BestMoritz!$H$7)","v":6},{"$f":"(BestMoritz!$H$8)","v":2},{"$f":"(BestMoritz!$H$9)","v":30},{"$f":"(BestMoritz!$H$11)","v":7},{"$f":"(BestMoritz!$H$12)","v":2},{"$f":"(BestMoritz!$H$13)","v":2},{"$f":"(BestMoritz!$H$14)","v":10},{"$f":"(BestMoritz!$H$15)","v":8},{"$f":"(BestMoritz!$H$16)","v":10},{"$f":"(BestMoritz!$H$17)","v":0},{"$f":"(BestMoritz!$H$18)","v":8},{"$f":"(BestMoritz!$H$19)","v":47},{"$f":"(BestMoritz!$H$21)","v":-3.2499999999999929},{"$f":"(BestMoritz!$H$22)","v":0},{"$f":"(BestMoritz!$H$23)","v":0},{"$f":"(BestMoritz!$H$24)","v":0},{"$f":"(BestMoritz!$H$25)","v":16},{"$f":"(BestMoritz!$H$26)","v":14},{"$f":"(BestMoritz!$H$27)","v":15},{"$f":"(BestMoritz!$H$28)","v":14},{"$f":"(BestMoritz!$H$29)","v":0},{"$f":"(BestMoritz!$H$30)","v":0},{"$f":"(BestMoritz!$H$36)","v":13},{"$f":"(BestMoritz!$H$37)","v":120.75},{"$f":"(BestMoritz!$H$51)","v":14},{"$f":"(BestMoritz!$H$52)","v":211.75},{"$f":"(BestMoritz!$B$75)","v":91},{"$f":"(BestMoritz!$B$76)","v":"Nein"},{"$f":"(BestMoritz!$B$77)","v":198},{"$f":"(BestMoritz!$B$78)","v":"Ja"},{"$f":"(BestMoritz!$B$79)","v":"Nein"}]
["Braun, Janis-Luca",{"$f":"(BraunJanisLuca!$H$1)","v":2007},{"$f":"(BraunJanisLuca!$H$2)","v":13},{"$f":"(BraunJanisLuca!$B$2)","v":"SV Ostfildern"},{"$f":"(BraunJanisLuca!$H$4)","v":10},{"$f":"(BraunJanisLuca!$H$5)","v":10},{"$f":"(BraunJanisLuca!$H$6)","v":4},{"$f":"(BraunJanisLuca!$H$7)","v":10},{"$f":"(BraunJanisLuca!$H$8)","v":10},{"$f":"(BraunJanisLuca!$H$9)","v":44},{"$f":"(BraunJanisLuca!$H$11)","v":0},{"$f":"(BraunJanisLuca!$H$12)","v":0},{"$f":"(BraunJanisLuca!$H$13)","v":2},{"$f":"(BraunJanisLuca!$H$14)","v":3},{"$f":"(BraunJanisLuca!$H$15)","v":8},{"$f":"(BraunJanisLuca!$H$16)","v":10},{"$f":"(BraunJanisLuca!$H$17)","v":0},{"$f":"(BraunJanisLuca!$H$18)","v":2},{"$f":"(BraunJanisLuca!$H$19)","v":25},{"$f":"(BraunJanisLuca!$H$21)","v":1.0499999999999865},{"$f":"(BraunJanisLuca!$H$22)","v":3},{"$f":"(BraunJanisLuca!$H$23)","v":5},{"$f":"(BraunJanisLuca!$H$24)","v":0},{"$f":"(BraunJanisLuca!$H$25)","v":6},{"$f":"(BraunJanisLuca!$H$26)","v":6},{"$f":"(BraunJanisLuca!$H$27)","v":5},{"$f":"(BraunJanisLuca!$H$28)","v":9},{"$f":"(BraunJanisLuca!$H$29)","v":0},{"$f":"(BraunJanisLuca!$H$30)","v":0},{"$f":"(BraunJanisLuca!$H$36)","v":7},{"$f":"(BraunJanisLuca!$H$37)","v":60.049999999999983},{"$f":"(BraunJanisLuca!$H$51)","v":21},{"$f":"(BraunJanisLuca!$H$52)","v":150.04999999999998},{"$f":"(BraunJanisLuca!$B$75)","v":90},{"$f":"(BraunJanisLuca!$B$76)","v":"Nein"},{"$f":"(BraunJanisLuca!$B$77)","v":144},{"$f":"(BraunJanisLuca!$B$78)","v":"Ja"},{"$f":"(BraunJanisLuca!$B$79)","v":"Nein"}]
["Hofmann, Simon",{"$f":"(HofmannSimon!$H$1)","v":2003},{"$f":"(HofmannSimon!$H$2)","v":17},{"$f":"(HofmannSimon!$B$2)","v":"TB Ruit"},{"$f":"(HofmannSimon!$H$4)","v":10},{"$f":"(HofmannSimon!$H$5)","v":6},{"$f":"(HofmannSimon!$H$6)","v":8},{"$f":"(HofmannSimon!$H$7)","v":2},{"$f":"(HofmannSimon!$H$8)","v":2},{"$f":"(HofmannSimon!$H$9)","v":28},{"$f":"(HofmannSimon!$H$11)","v":6},{"$f":"(HofmannSimon!$H$12)","v":2},{"$f":"(HofmannSimon!$H$13)","v":4},{"$f":"(HofmannSimon!$H$14)","v":8},{"$f":"(HofmannSimon!$H$15)","v":8},{"$f":"(HofmannSimon!$H$16)","v":10},{"$f":"(HofmannSimon!$H$17)","v":0},{"$f":"(HofmannSimon!$H$18)","v":0},{"$f":"(HofmannSimon!$H$19)","v":38},{"$f":"(HofmannSimon!$H$21)","v":3.0000000000000071},{"$f":"(HofmannSimon!$H$22)","v":0},{"$f":"(HofmannSimon!$H$23)","v":0},{"$f":"(HofmannSimon!$H$24)","v":0},{"$f":"(HofmannSimon!$H$25)","v":11},{"$f":"(HofmannSimon!$H$26)","v":16},{"$f":"(HofmannSimon!$H$27)","v":9},{"$f":"(HofmannSimon!$H$28)","v":12},{"$f":"(HofmannSimon!$H$29)","v":0},{"$f":"(HofmannSimon!$H$30)","v":0},{"$f":"(HofmannSimon!$H$36)","v":9},{"$f":"(HofmannSimon!$H$37)","v":102},{"$f":"(HofmannSimon!$H$51)","v":14},{"$f":"(HofmannSimon!$H$52)","v":182},{"$f":"(HofmannSimon!$B$75)","v":80},{"$f":"(HofmannSimon!$B$76)","v":"Nein"},{"$f":"(HofmannSimon!$B$77)","v":186},{"$f":"(HofmannSimon!$B$78)","v":"Nein"},{"$f":"(HofmannSimon!$B$79)","v":"Nein"}]
["Eschke, Ryan",{"$f":"(EschkeRyan!$H$1)","v":2007},{"$f":"(EschkeRyan!$H$2)","v":13},{"$f":"(EschkeRyan!$B$2)","v":"TB Ruit"},{"$f":"(EschkeRyan!$H$4)","v":6},{"$f":"(EschkeRyan!$H$5)","v":2},{"$f":"(EschkeRyan!$H$6)","v":0},{"$f":"(EschkeRyan!$H$7)","v":6},{"$f":"(EschkeRyan!$H$8)","v":0},{"$f":"(EschkeRyan!$H$9)","v":14},{"$f":"(EschkeRyan!$H$11)","v":0},{"$f":"(EschkeRyan!$H$12)","v":0},{"$f":"(EschkeRyan!$H$13)","v":10},{"$f":"(EschkeRyan!$H$14)","v":5},{"$f":"(EschkeRyan!$H$15)","v":7},{"$f":"(EschkeRyan!$H$16)","v":8},{"$f":"(EschkeRyan!$H$17)","v":0},{"$f":"(EschkeRyan!$H$18)","v":7},{"$f":"(EschkeRyan!$H$19)","v":37},{"$f":"(EschkeRyan!$H$21)","v":-8.8000000000000078},{"$f":"(EschkeRyan!$H$22)","v":8},{"$f":"(EschkeRyan!$H$23)","v":8},{"$f":"(EschkeRyan!$H$24)","v":0},{"$f":"(EschkeRyan!$H$25)","v":9},{"$f":"(EschkeRyan!$H$26)","v":9},{"$f":"(EschkeRyan!$H$27)","v":9},{"$f":"(EschkeRyan!$H$28)","v":8},{"$f":"(EschkeRyan!$H$29)","v":0},{"$f":"(EschkeRyan!$H$30)","v":0},{"$f":"(EschkeRyan!$H$36)","v":8},{"$f":"(EschkeRyan!$H$37)","v":71.199999999999989},{"$f":"(EschkeRyan!$H$51)","v":17.5},{"$f":"(EschkeRyan!$H$52)","v":139.69999999999999},{"$f":"(EschkeRyan!$B$75)","v":68.5},{"$f":"(EschkeRyan!$B$76)","v":"Nein"},{"$f":"(EschkeRyan!$B$77)","v":144},{"$f":"(EschkeRyan!$B$78)","v":"Nein"},{"$f":"(EschkeRyan!$B$79)","v":"Nein"}]
["Brandt, Dominic",{"$f":"(BrandtDominic!$H$1)","v":2001},{"$f":"(BrandtDominic!$H$2)","v":19},{"$f":"(BrandtDominic!$B$2)","v":"SC Cottbus"},{"$f":"(BrandtDominic!$H$4)","v":0},{"$f":"(BrandtDominic!$H$5)","v":6},{"$f":"(BrandtDominic!$H$6)","v":10},{"$f":"(BrandtDominic!$H$7)","v":6},{"$f":"(BrandtDominic!$H$8)","v":6},{"$f":"(BrandtDominic!$H$9)","v":28},{"$f":"(BrandtDominic!$H$11)","v":10},{"$f":"(BrandtDominic!$H$12)","v":2},{"$f":"(BrandtDominic!$H$13)","v":0},{"$f":"(BrandtDominic!$H$14)","v":10},{"$f":"(BrandtDominic!$H$15)","v":0},{"$f":"(BrandtDominic!$H$16)","v":10},{"$f":"(BrandtDominic!$H$17)","v":7},{"$f":"(BrandtDominic!$H$18)","v":0},{"$f":"(BrandtDominic!$H$19)","v":39},{"$f":"(BrandtDominic!$H$21)","v":-6.6000000000000014},{"$f":"(BrandtDominic!$H$22)","v":0},{"$f":"(BrandtDominic!$H$23)","v":0},{"$f":"(BrandtDominic!$H$24)","v":0},{"$f":"(BrandtDominic!$H$25)","v":14},{"$f":"(BrandtDominic!$H$26)","v":0},{"$f":"(BrandtDominic!$H$27)","v":0},{"$f":"(BrandtDominic!$H$28)","v":0},{"$f":"(BrandtDominic!$H$29)","v":0},{"$f":"(BrandtDominic!$H$30)","v":0},{"$f":"(BrandtDominic!$H$36)","v":0},{"$f":"(BrandtDominic!$H$37)","v":41.4},{"$f":"(BrandtDominic!$H$51)","v":0},{"$f":"(BrandtDominic!$H$52)","v":108.4},{"$f":"(BrandtDominic!$B$75)","v":67},{"$f":"(BrandtDominic!$B$76)","v":"Nein"},{"$f":"(BrandtDominic!$B$77)","v":198},{"$f":"(BrandtDominic!$B$78)","v":"Nein"},{"$f":"(BrandtDominic!$B$79)","v":"Nein"}]

{"sheet":"Auswertung_W","index":3,"n_rows":21,"n_cols":38,"rows_kept":21,"cut":false,"hidden":false,"merged":[]}
["Name","Jg","AK","Verein","FD","BM","BBW","QSL","QSR","Punktzahl Beweglichkeit","KLZ","BEH","FLG","RV","PS","HAST","SW","Bleep","Punktzahl\nKraft/Kondition","SSH","TBN 1","TBN 2","TBN 3","TN 1","TN 2","TN 3","TN 4","TN 5","TN 6","TV","Punktzahl\nTrampolin","Punktzahl\nBKÜ","Gesamtpunkte","Summe Kraft, Beweglichkeit, BKÜ","Mindestwert Kondi erfüllt?","Mindestwert gesamt","Gesamtwert erfüllt?","Alles erfüllt?"]
["Braaf, Luisa",{"$f":"(BraafLuisa!$H$1)","v":2004},{"$f":"(BraafLuisa!$H$2)","v":16},{"$f":"(BraafLuisa!$B$2)","v":"TV Blecher"},{"$f":"(BraafLuisa!$H$4)","v":10},{"$f":"(BraafLuisa!$H$5)","v":10},{"$f":"(BraafLuisa!$H$6)","v":8},{"$f":"(BraafLuisa!$H$7)","v":10},{"$f":"(BraafLuisa!$H$8)","v":10},{"$f":"(BraafLuisa!$H$9)","v":48},{"$f":"(BraafLuisa!$H$11)","v":6},{"$f":"(BraafLuisa!$H$12)","v":4},{"$f":"(BraafLuisa!$H$13)","v":10},{"$f":"(BraafLuisa!$H$14)","v":10},{"$f":"(BraafLuisa!$H$15)","v":10},{"$f":"(BraafLuisa!$H$16)","v":10},{"$f":"(BraafLuisa!$H$17)","v":2},{"$f":"(BraafLuisa!$H$18)","v":10},{"$f":"(BraafLuisa!$H$19)","v":62},{"$f":"(BraafLuisa!$H$21)","v":2.7999999999999758},{"$f":"(BraafLuisa!$H$22)","v":6},{"$f":"(BraafLuisa!$H$23)","v":8},{"$f":"(BraafLuisa!$H$24)","v":0},{"$f":"(BraafLuisa!$H$25)","v":7},{"$f":"(BraafLuisa!$H$26)","v":8},{"$f":"(BraafLuisa!$H$27)","v":11},{"$f":"(BraafLuisa!$H$28)","v":9},{"$f":"(BraafLuisa!$H$29)","v":0},{"$f":"(BraafLuisa!$H$30)","v":0},{"$f":"(BraafLuisa!$H$36)","v":9},{"$f":"(BraafLuisa!$H$37)","v":95.799999999999983},{"$f":"(BraafLuisa!$H$51)","v":28.5},{"$f":"(BraafLuisa!$H$52)","v":234.29999999999998},{"$f":"(BraafLuisa!$B$75)","v":138.5},{"$f":"(BraafLuisa!$B$76)","v":"Ja"},{"$f":"(BraafLuisa!$B$77)","v":159},{"$f":"(BraafLuisa!$B$78)","v":"Ja"},{"$f":"(BraafLuisa!$B$79)","v":"Ja"}]
["Morgenstern, Luna",{"$f":"(MorgensternLuna!$H$1)","v":2008},{"$f":"(MorgensternLuna!$H$2)","v":12},{"$f":"(MorgensternLuna!$B$2)","v":"TV Blecher"},{"$f":"(MorgensternLuna!$H$4)","v":10},{"$f":"(MorgensternLuna!$H$5)","v":6},{"$f":"(MorgensternLuna!$H$6)","v":4},{"$f":"(MorgensternLuna!$H$7)","v":10},{"$f":"(MorgensternLuna!$H$8)","v":10},{"$f":"(MorgensternLuna!$H$9)","v":40},{"$f":"(MorgensternLuna!$H$11)","v":10},{"$f":"(MorgensternLuna!$H$12)","v":10},{"$f":"(MorgensternLuna!$H$13)","v":0},{"$f":"(MorgensternLuna!$H$14)","v":10},{"$f":"(MorgensternLuna!$H$15)","v":6},{"$f":"(MorgensternLuna!$H$16)","v":10},{"$f":"(MorgensternLuna!$H$17)","v":5},{"$f":"(MorgensternLuna!$H$18)","v":9},{"$f":"(MorgensternLuna!$H$19)","v":60},{"$f":"(MorgensternLuna!$H$21)","v":-3.9499999999999957},{"$f":"(MorgensternLuna!$H$22)","v":5},{"$f":"(MorgensternLuna!$H$23)","v":2},{"$f":"(MorgensternLuna!$H$24)","v":1},{"$f":"(MorgensternLuna!$H$25)","v":6},{"$f":"(MorgensternLuna!$H$26)","v":4},{"$f":"(MorgensternLuna!$H$27)","v":1},{"$f":"(MorgensternLuna!$H$28)","v":0},{"$f":"(MorgensternLuna!$H$29)","v":0},{"$f":"(MorgensternLuna!$H$30)","v":0},{"$f":"(MorgensternLuna!$H$36)","v":-1},{"$f":"(MorgensternLuna!$H$37)","v":34.050000000000004},{"$f":"(MorgensternLuna!$H$51)","v":21.5},{"$f":"(MorgensternLuna!$H$52)","v":155.55000000000001},{"$f":"(MorgensternLuna!$B$75)","v":121.5},{"$f":"(MorgensternLuna!$B$76)","v":"Ja"},{"$f":"(MorgensternLuna!$B$77)","v":129},{"$f":"(MorgensternLuna!$B$78)","v":"Ja"},{"$f":"(MorgensternLuna!$B$79)","v":"Ja"}]
["Baumann, Isabel",{"$f":"(BaumannIsabel!$H$1)","v":2001},{"$f":"(BaumannIsabel!$H$2)","v":19},{"$f":"(BaumannIsabel!$B$2)","v":"SC Cottbus"},{"$f":"(BaumannIsabel!$H$4)","v":10},{"$f":"(BaumannIsabel!$H$5)","v":10},{"$f":"(BaumannIsabel!$H$6)","v":8},{"$f":"(BaumannIsabel!$H$7)","v":10},{"$f":"(BaumannIsabel!$H$8)","v":10},{"$f":"(BaumannIsabel!$H$9)","v":48},{"$f":"(BaumannIsabel!$H$11)","v":1},{"$f":"(BaumannIsabel!$H$12)","v":0},{"$f":"(BaumannIsabel!$H$13)","v":10},{"$f":"(BaumannIsabel!$H$14)","v":10},{"$f":"(BaumannIsabel!$H$15)","v":6},{"$f":"(BaumannIsabel!$H$16)","v":10},{"$f":"(BaumannIsabel!$H$17)","v":0},{"$f":"(BaumannIsabel!$H$18)","v":7},{"$f":"(BaumannIsabel!$H$19)","v":44},{"$f":"(BaumannIsabel!$H$21)","v":7.9500000000000171},{"$f":"(BaumannIsabel!$H$22)","v":0},{"$f":"(BaumannIsabel!$H$23)","v":0},{"$f":"(BaumannIsabel!$H$24)","v":0},{"$f":"(BaumannIsabel!$H$25)","v":12},{"$f":"(BaumannIsabel!$H$26)","v":13},{"$f":"(BaumannIsabel!$H$27)","v":0},{"$f":"(BaumannIsabel!$H$28)","v":0},{"$f":"(BaumannIsabel!$H$29)","v":0},{"$f":"(BaumannIsabel!$H$30)","v":0},{"$f":"(BaumannIsabel!$H$36)","v":11},{"$f":"(BaumannIsabel!$H$37)","v":84.950000000000017},{"$f":"(BaumannIsabel!$H$51)","v":23.5},{"$f":"(BaumannIsabel!$H$52)","v":200.45000000000002},{"$f":"(BaumannIsabel!$B$75)","v":115.5},{"$f":"(BaumannIsabel!$B$76)","v":"Ja"},{"$f":"(BaumannIsabel!$B$77)","v":178},{"$f":"(BaumannIsabel!$B$78)","v":"Ja"},{"$f":"(BaumannIsabel!$B$79)","v":"Ja"}]
["Volska, Nikola",{"$f":"(VolskaNikola!$H$1)","v":2008},{"$f":"(VolskaNikola!$H$2)","v":12},{"$f":"(VolskaNikola!$B$2)","v":"TGJ Salzgitter"},{"$f":"(VolskaNikola!$H$4)","v":10},{"$f":"(VolskaNikola!$H$5)","v":10},{"$f":"(VolskaNikola!$H$6)","v":10},{"$f":"(VolskaNikola!$H$7)","v":10},{"$f":"(VolskaNikola!$H$8)","v":10},{"$f":"(VolskaNikola!$H$9)","v":50},{"$f":"(VolskaNikola!$H$11)","v":1},{"$f":"(VolskaNikola!$H$12)","v":7},{"$f":"(VolskaNikola!$H$13)","v":6},{"$f":"(VolskaNikola!$H$14)","v":10},{"$f":"(VolskaNikola!$H$15)","v":8},{"$f":"(VolskaNikola!$H$16)","v":6},{"$f":"(VolskaNikola!$H$17)","v":0},{"$f":"(VolskaNikola!$H$18)","v":7},{"$f":"(VolskaNikola!$H$19)","v":45},{"$f":"(VolskaNikola!$H$21)","v":6.4499999999999957},{"$f":"(VolskaNikola!$H$22)","v":0},{"$f":"(VolskaNikola!$H$23)","v":9},{"$f":"(VolskaNikola!$H$24)","v":4},{"$f":"(VolskaNikola!$H$25)","v":6},{"$f":"(VolskaNikola!$H$26)","v":8},{"$f":"(VolskaNikola!$H$27)","v":7},{"$f":"(VolskaNikola!$H$28)","v":0},{"$f":"(VolskaNikola!$H$29)","v":0},{"$f":"(VolskaNikola!$H$30)","v":0},{"$f":"(VolskaNikola!$H$36)","v":0},{"$f":"(VolskaNikola!$H$37)","v":61.449999999999996},{"$f":"(VolskaNikola!$H$51)","v":13.5},{"$f":"(VolskaNikola!$H$52)","v":169.95},{"$f":"(VolskaNikola!$B$75)","v":108.5},{"$f":"(VolskaNikola!$B$76)","v":"Ja"},{"$f":"(VolskaNikola!$B$77)","v":129},{"$f":"(VolskaNikola!$B$78)","v":"Ja"},{"$f":"(VolskaNikola!$B$79)","v":"Ja"}]
["Schneider, Fiona",{"$f":"(SchneiderFiona!$H$1)","v":2004},{"$f":"(SchneiderFiona!$H$2)","v":16},{"$f":"(SchneiderFiona!$B$2)","v":"TV Blecher"},{"$f":"(SchneiderFiona!$H$4)","v":10},{"$f":"(SchneiderFiona!$H$5)","v":6},{"$f":"(SchneiderFiona!$H$6)","v":10},{"$f":"(SchneiderFiona!$H$7)","v":10},{"$f":"(SchneiderFiona!$H$8)","v":10},{"$f":"(SchneiderFiona!$H$9)","v":46},{"$f":"(SchneiderFiona!$H$11)","v":1},{"$f":"(SchneiderFiona!$H$12)","v":2},{"$f":"(SchneiderFiona!$H$13)","v":0},{"$f":"(SchneiderFiona!$H$14)","v":10},{"$f":"(SchneiderFiona!$H$15)","v":6},{"$f":"(SchneiderFiona!$H$16)","v":10},{"$f":"(SchneiderFiona!$H$17)","v":0},{"$f":"(SchneiderFiona!$H$18)","v":7},{"$f":"(SchneiderFiona!$H$19)","v":36},{"$f":"(SchneiderFiona!$H$21)","v":-1.9000000000000128},{"$f":"(SchneiderFiona!$H$22)","v":6},{"$f":"(SchneiderFiona!$H$23)","v":8},{"$f":"(SchneiderFiona!$H$24)","v":0},{"$f":"(SchneiderFiona!$H$25)","v":7},{"$f":"(SchneiderFiona!$H$26)","v":0},{"$f":"(SchneiderFiona!$H$27)","v":0},{"$f":"(SchneiderFiona!$H$28)","v":0},{"$f":"(SchneiderFiona!$H$29)","v":0},{"$f":"(SchneiderFiona!$H$30)","v":0},{"$f":"(SchneiderFiona!$H$36)","v":8},{"$f":"(SchneiderFiona!$H$37)","v":60.099999999999987},{"$f":"(SchneiderFiona!$H$51)","v":22.5},{"$f":"(SchneiderFiona!$H$52)","v":164.6},{"$f":"(SchneiderFiona!$B$75)","v":104.5},{"$f":"(SchneiderFiona!$B$76)","v":"Ja"},{"$f":"(SchneiderFiona!$B$77)","v":159},{"$f":"(SchneiderFiona!$B$78)","v":"Ja"},{"$f":"(SchneiderFiona!$B$79)","v":"Ja"}]
["Wöll, Bettina",{"$f":"(WöllBettina!$H$1)","v":2006},{"$f":"(WöllBettina!$H$2)","v":14},{"$f":"(WöllBettina!$B$2)","v":"Munich-Airriders"},{"$f":"(WöllBettina!$H$4)","v":10},{"$f":"(WöllBettina!$H$5)","v":10},{"$f":"(WöllBettina!$H$6)","v":6},{"$f":"(WöllBettina!$H$7)","v":10},{"$f":"(WöllBettina!$H$8)","v":10},{"$f":"(WöllBettina!$H$9)","v":46},{"$f":"(WöllBettina!$H$11)","v":1},{"$f":"(WöllBettina!$H$12)","v":1},{"$f":"(WöllBettina!$H$13)","v":4},{"$f":"(WöllBettina!$H$14)","v":10},{"$f":"(WöllBettina!$H$15)","v":7},{"$f":"(WöllBettina!$H$16)","v":6},{"$f":"(WöllBettina!$H$17)","v":0},{"$f":"(WöllBettina!$H$18)","v":5},{"$f":"(WöllBettina!$H$19)","v":34},{"$f":"(WöllBettina!$H$21)","v":2.5999999999999979},{"$f":"(WöllBettina!$H$22)","v":5},{"$f":"(WöllBettina!$H$23)","v":7},{"$f":"(WöllBettina!$H$24)","v":0},{"$f":"(WöllBettina!$H$25)","v":4},{"$f":"(WöllBettina!$H$26)","v":9},{"$f":"(WöllBettina!$H$27)","v":7},{"$f":"(WöllBettina!$H$28)","v":8},{"$f":"(WöllBettina!$H$29)","v":0},{"$f":"(WöllBettina!$H$30)","v":0},{"$f":"(WöllBettina!$H$36)","v":7},{"$f":"(WöllBettina!$H$37)","v":73.599999999999994},{"$f":"(WöllBettina!$H$51)","v":21.5},{"$f":"(WöllBettina!$H$52)","v":175.1},{"$f":"(WöllBettina!$B$75)","v":101.5},{"$f":"(WöllBettina!$B$76)","v":"Ja"},{"$f":"(WöllBettina!$B$77)","v":143},{"$f":"(WöllBettina!$B$78)","v":"Ja"},{"$f":"(WöllBettina!$B$79)","v":"Ja"}]
["Möller, Maya",{"$f":"(MöllerMaya!$H$1)","v":2007},{"$f":"(MöllerMaya!$H$2)","v":13},{"$f":"(MöllerMaya!$B$2)","v":"TG Dietzenbach"},{"$f":"(MöllerMaya!$H$4)","v":10},{"$f":"(MöllerMaya!$H$5)","v":10},{"$f":"(MöllerMaya!$H$6)","v":4},{"$f":"(MöllerMaya!$H$7)","v":10},{"$f":"(MöllerMaya!$H$8)","v":10},{"$f":"(MöllerMaya!$H$9)","v":44},{"$f":"(MöllerMaya!$H$11)","v":0},{"$f":"(MöllerMaya!$H$12)","v":0},{"$f":"(MöllerMaya!$H$13)","v":4},{"$f":"(MöllerMaya!$H$14)","v":2},{"$f":"(MöllerMaya!$H$15)","v":8},{"$f":"(MöllerMaya!$H$16)","v":10},{"$f":"(MöllerMaya!$H$17)","v":5},{"$f":"(MöllerMaya!$H$18)","v":6},{"$f":"(MöllerMaya!$H$19)","v":35},{"$f":"(MöllerMaya!$H$21)","v":5.4499999999999993},{"$f":"(MöllerMaya!$H$22)","v":5},{"$f":"(MöllerMaya!$H$23)","v":3},{"$f":"(MöllerMaya!$H$24)","v":0},{"$f":"(MöllerMaya!$H$25)","v":9},{"$f":"(MöllerMaya!$H$26)","v":11},{"$f":"(MöllerMaya!$H$27)","v":8},{"$f":"(MöllerMaya!$H$28)","v":4},{"$f":"(MöllerMaya!$H$29)","v":0},{"$f":"(MöllerMaya!$H$30)","v":0},{"$f":"(MöllerMaya!$H$36)","v":7},{"$f":"(MöllerMaya!$H$37)","v":71.45},{"$f":"(MöllerMaya!$H$51)","v":18},{"$f":"(MöllerMaya!$H$52)","v":168.45},{"$f":"(MöllerMaya!$B$75)","v":97},{"$f":"(MöllerMaya!$B$76)","v":"Ja"},{"$f":"(MöllerMaya!$B$77)","v":143},{"$f":"(MöllerMaya!$B$78)","v":"Ja"},{"$f":"(MöllerMaya!$B$79)","v":"Ja"}]
["Staiber, Selina",{"$f":"(StaiberSelina!$H$1)","v":2001},{"$f":"(StaiberSelina!$H$2)","v":19},{"$f":"(StaiberSelina!$B$2)","v":"MTV Stuttgart"},{"$f":"(StaiberSelina!$H$4)","v":10},{"$f":"(StaiberSelina!$H$5)","v":10},{"$f":"(StaiberSelina!$H$6)","v":8},{"$f":"(StaiberSelina!$H$7)","v":10},{"$f":"(StaiberSelina!$H$8)","v":10},{"$f":"(StaiberSelina!$H$9)","v":48},{"$f":"(StaiberSelina!$H$11)","v":2},{"$f":"(StaiberSelina!$H$12)","v":6},{"$f":"(StaiberSelina!$H$13)","v":0},{"$f":"(StaiberSelina!$H$14)","v":10},{"$f":"(StaiberSelina!$H$15)","v":7},{"$f":"(StaiberSelina!$H$16)","v":10},{"$f":"(StaiberSelina!$H$17)","v":0},{"$f":"(StaiberSelina!$H$18)","v":4},{"$f":"(StaiberSelina!$H$19)","v":39},{"$f":"(StaiberSelina!$H$21)","v":-5.2500000000000036},{"$f":"(StaiberSelina!$H$22)","v":0},{"$f":"(StaiberSelina!$H$23)","v":0},{"$f":"(StaiberSelina!$H$24)","v":0},{"$f":"(StaiberSelina!$H$25)","v":10},{"$f":"(StaiberSelina!$H$26)","v":0},{"$f":"(StaiberSelina!$H$27)","v":0},{"$f":"(StaiberSelina!$H$28)","v":0},{"$f":"(StaiberSelina!$H$29)","v":0},{"$f":"(StaiberSelina!$H$30)","v":0},{"$f":"(StaiberSelina!$H$36)","v":11},{"$f":"(StaiberSelina!$H$37)","v":51.75},{"$f":"(StaiberSelina!$H$51)","v":19},{"$f":"(StaiberSelina!$H$52)","v":157.75},{"$f":"(StaiberSelina!$B$75)","v":106},{"$f":"(StaiberSelina!$B$76)","v":"Ja"},{"$f":"(StaiberSelina!$B$77)","v":178},{"$f":"(StaiberSelina!$B$78)","v":"Nein"},{"$f":"(StaiberSelina!$B$79)","v":"Nein"}]
["Amedick, Carlotta",{"$f":"(AmedickCarlotta!$H$1)","v":2000},{"$f":"(AmedickCarlotta!$H$2)","v":20},{"$f":"(AmedickCarlotta!$B$2)","v":"TSV Ganderkesee"},{"$f":"(AmedickCarlotta!$H$4)","v":10},{"$f":"(AmedickCarlotta!$H$5)","v":10},{"$f":"(AmedickCarlotta!$H$6)","v":6},{"$f":"(AmedickCarlotta!$H$7)","v":10},{"$f":"(AmedickCarlotta!$H$8)","v":10},{"$f":"(AmedickCarlotta!$H$9)","v":46},{"$f":"(AmedickCarlotta!$H$11)","v":2},{"$f":"(AmedickCarlotta!$H$12)","v":0},{"$f":"(AmedickCarlotta!$H$13)","v":2},{"$f":"(AmedickCarlotta!$H$14)","v":10},{"$f":"(AmedickCarlotta!$H$15)","v":0},{"$f":"(AmedickCarlotta!$H$16)","v":10},{"$f":"(AmedickCarlotta!$H$17)","v":0},{"$f":"(AmedickCarlotta!$H$18)","v":7},{"$f":"(AmedickCarlotta!$H$19)","v":31},{"$f":"(AmedickCarlotta!$H$21)","v":0},{"$f":"(AmedickCarlotta!$H$22)","v":0},{"$f":"(AmedickCarlotta!$H$23)","v":0},{"$f":"(AmedickCarlotta!$H$24)","v":0},{"$f":"(AmedickCarlotta!$H$25)","v":0},{"$f":"(AmedickCarlotta!$H$26)","v":0},{"$f":"(AmedickCarlotta!$H$27)","v":0},{"$f":"(AmedickCarlotta!$H$28)","v":0},{"$f":"(AmedickCarlotta!$H$29)","v":0},{"$f":"(AmedickCarlotta!$H$30)","v":0},{"$f":"(AmedickCarlotta!$H$36)","v":0},{"$f":"(AmedickCarlotta!$H$37)","v":0},{"$f":"(AmedickCarlotta!$H$51)","v":23.5},{"$f":"(AmedickCarlotta!$H$52)","v":100.5},{"$f":"(AmedickCarlotta!$B$75)","v":100.5},{"$f":"(AmedickCarlotta!$B$76)","v":"Ja"},{"$f":"(AmedickCarlotta!$B$77)","v":178},{"$f":"(AmedickCarlotta!$B$78)","v":"Nein"},{"$f":"(AmedickCarlotta!$B$79)","v":"Nein"}]
["Langner, Sabrina",{"$f":"(LangnerSabrina!$H$1)","v":2004},{"$f":"(LangnerSabrina!$H$2)","v":16},{"$f":"(LangnerSabrina!$B$2)","v":"TSV Ganderkesee"},{"$f":"(LangnerSabrina!$H$4)","v":10},{"$f":"(LangnerSabrina!$H$5)","v":10},{"$f":"(LangnerSabrina!$H$6)","v":6},{"$f":"(LangnerSabrina!$H$7)","v":10},{"$f":"(LangnerSabrina!$H$8)","v":10},{"$f":"(LangnerSabrina!$H$9)","v":46},{"$f":"(LangnerSabrina!$H$11)","v":0},{"$f":"(LangnerSabrina!$H$12)","v":0},{"$f":"(LangnerSabrina!$H$13)","v":4},{"$f":"(LangnerSabrina!$H$14)","v":10},{"$f":"(LangnerSabrina!$H$15)","v":7},{"$f":"(LangnerSabrina!$H$16)","v":10},{"$f":"(LangnerSabrina!$H$17)","v":0},{"$f":"(LangnerSabrina!$H$18)","v":5},{"$f":"(LangnerSabrina!$H$19)","v":36},{"$f":"(LangnerSabrina!$H$21)","v":-2.6999999999999957},{"$f":"(LangnerSabrina!$H$22)","v":6},{"$f":"(LangnerSabrina!$H$23)","v":0},{"$f":"(LangnerSabrina!$H$24)","v":0},{"$f":"(LangnerSabrina!$H$25)","v":7},{"$f":"(LangnerSabrina!$H$26)","v":9},{"$f":"(LangnerSabrina!$H$27)","v":0},{"$f":"(LangnerSabrina!$H$28)","v":0},{"$f":"(LangnerSabrina!$H$29)","v":0},{"$f":"(LangnerSabrina!$H$30)","v":0},{"$f":"(LangnerSabrina!$H$36)","v":7},{"$f":"(LangnerSabrina!$H$37)","v":57.300000000000004},{"$f":"(LangnerSabrina!$H$51)","v":18.5},{"$f":"(LangnerSabrina!$H$52)","v":157.80000000000001},{"$f":"(LangnerSabrina!$B$75)","v":100.5},{"$f":"(LangnerSabrina!$B$76)","v":"Ja"},{"$f":"(LangnerSabrina!$B$77)","v":159},{"$f":"(LangnerSabrina!$B$78)","v":"Nein"},{"$f":"(LangnerSabrina!$B$79)","v":"Nein"}]
["Imle, Vanessa",{"$f":"(ImleVanessa!$H$1)","v":2004},{"$f":"(ImleVanessa!$H$2)","v":16},{"$f":"(ImleVanessa!$B$2)","v":"MTV Stuttgart"},{"$f":"(ImleVanessa!$H$4)","v":10},{"$f":"(ImleVanessa!$H$5)","v":6},{"$f":"(ImleVanessa!$H$6)","v":6},{"$f":"(ImleVanessa!$H$7)","v":10},{"$f":"(ImleVanessa!$H$8)","v":10},{"$f":"(ImleVanessa!$H$9)","v":42},{"$f":"(ImleVanessa!$H$11)","v":0},{"$f":"(ImleVanessa!$H$12)","v":0},{"$f":"(ImleVanessa!$H$13)","v":0},{"$f":"(ImleVanessa!$H$14)","v":10},{"$f":"(ImleVanessa!$H$15)","v":8},{"$f":"(ImleVanessa!$H$16)","v":0},{"$f":"(ImleVanessa!$H$17)","v":0},{"$f":"(ImleVanessa!$H$18)","v":8},{"$f":"(ImleVanessa!$H$19)","v":26},{"$f":"(ImleVanessa!$H$21)","v":-1.9000000000000128},{"$f":"(ImleVanessa!$H$22)","v":0},{"$f":"(ImleVanessa!$H$23)","v":0},{"$f":"(ImleVanessa!$H$24)","v":0},{"$f":"(ImleVanessa!$H$25)","v":13},{"$f":"(ImleVanessa!$H$26)","v":9},{"$f":"(ImleVanessa!$H$27)","v":8},{"$f":"(ImleVanessa!$H$28)","v":7},{"$f":"(ImleVanessa!$H$29)","v":0},{"$f":"(ImleVanessa!$H$30)","v":0},{"$f":"(ImleVanessa!$H$36)","v":9},{"$f":"(ImleVanessa!$H$37)","v":81.099999999999994},{"$f":"(ImleVanessa!$H$51)","v":26.5},{"$f":"(ImleVanessa!$H$52)","v":175.6},{"$f":"(ImleVanessa!$B$75)","v":94.5},{"$f":"(ImleVanessa!$B$76)","v":"Nein"},{"$f":"(ImleVanessa!$B$77)","v":159},{"$f":"(ImleVanessa!$B$78)","v":"Ja"},{"$f":"(ImleVanessa!$B$79)","v":"Nein"}]
["Schuldt, Christine",{"$f":"(SchuldtChristine!$H$1)","v":2002},{"$f":"(SchuldtChristine!$H$2)","v":18},{"$f":"(SchuldtChristine!$B$2)","v":"Frankfurt Flyers"},{"$f":"(SchuldtChristine!$H$4)","v":10},{"$f":"(SchuldtChristine!$H$5)","v":10},{"$f":"(SchuldtChristine!$H$6)","v":6},{"$f":"(SchuldtChristine!$H$7)","v":10},{"$f":"(SchuldtChristine!$H$8)","v":10},{"$f":"(SchuldtChristine!$H$9)","v":46},{"$f":"(SchuldtChristine!$H$11)","v":0},{"$f":"(SchuldtChristine!$H$12)","v":0},{"$f":"(SchuldtChristine!$H$13)","v":2},{"$f":"(SchuldtChristine!$H$14)","v":8},{"$f":"(SchuldtChristine!$H$15)","v":7},{"$f":"(SchuldtChristine!$H$16)","v":10},{"$f":"(SchuldtChristine!$H$17)","v":0},{"$f":"(SchuldtChristine!$H$18)","v":4},{"$f":"(SchuldtChristine!$H$19)","v":31},{"$f":"(SchuldtChristine!$H$21)","v":3.8000000000000256},{"$f":"(SchuldtChristine!$H$22)","v":0},{"$f":"(SchuldtChristine!$H$23)","v":0},{"$f":"(SchuldtChristine!$H$24)","v":0},{"$f":"(SchuldtChristine!$H$25)","v":11},{"$f":"(SchuldtChristine!$H$26)","v":11},{"$f":"(SchuldtChristine!$H$27)","v":8},{"$f":"(SchuldtChristine!$H$28)","v":8},{"$f":"(SchuldtChristine!$H$29)","v":8},{"$f":"(SchuldtChristine!$H$30)","v":0},{"$f":"(SchuldtChristine!$H$36)","v":10},{"$f":"(SchuldtChristine!$H$37)","v":95.800000000000026},{"$f":"(SchuldtChristine!$H$51)","v":10},{"$f":"(SchuldtChristine!$H$52)","v":182.8},{"$f":"(SchuldtChristine!$B$75)","v":87},{"$f":"(SchuldtChristine!$B$76)","v":"Nein"},{"$f":"(SchuldtChristine!$B$77)","v":169},{"$f":"(SchuldtChristine!$B$78)","v":"Ja"},{"$f":"(SchuldtChristine!$B$79)","v":"Nein"}]
["Stöhr, Gabriela",{"$f":"(StöhrGabriela!$H$1)","v":2002},{"$f":"(StöhrGabriela!$H$2)","v":18},{"$f":"(StöhrGabriela!$B$2)","v":"Munich-Airrders"},{"$f":"(StöhrGabriela!$H$4)","v":10},{"$f":"(StöhrGabriela!$H$5)","v":10},{"$f":"(StöhrGabriela!$H$6)","v":10},{"$f":"(StöhrGabriela!$H$7)","v":10},{"$f":"(StöhrGabriela!$H$8)","v":10},{"$f":"(StöhrGabriela!$H$9)","v":50},{"$f":"(StöhrGabriela!$H$11)","v":3},{"$f":"(StöhrGabriela!$H$12)","v":1},{"$f":"(StöhrGabriela!$H$13)","v":4},{"$f":"(StöhrGabriela!$H$14)","v":7},{"$f":"(StöhrGabriela!$H$15)","v":0},{"$f":"(StöhrGabriela!$H$16)","v":10},{"$f":"(StöhrGabriela!$H$17)","v":0},{"$f":"(StöhrGabriela!$H$18)","v":5},{"$f":"(StöhrGabriela!$H$19)","v":30},{"$f":"(StöhrGabriela!$H$21)","v":0},{"$f":"(StöhrGabriela!$H$22)","v":0},{"$f":"(StöhrGabriela!$H$23)","v":0},{"$f":"(StöhrGabriela!$H$24)","v":0},{"$f":"(StöhrGabriela!$H$25)","v":0},{"$f":"(StöhrGabriela!$H$26)","v":0},{"$f":"(StöhrGabriela!$H$27)","v":0},{"$f":"(StöhrGabriela!$H$28)","v":0},{"$f":"(StöhrGabriela!$H$29)","v":0},{"$f":"(StöhrGabriela!$H$30)","v":0},{"$f":"(StöhrGabriela!$H$36)","v":0},{"$f":"(StöhrGabriela!$H$37)","v":0},{"$f":"(StöhrGabriela!$H$51)","v":7},{"$f":"(StöhrGabriela!$H$52)","v":87},{"$f":"(StöhrGabriela!$B$75)","v":87},{"$f":"(StöhrGabriela!$B$76)","v":"Nein"},{"$f":"(StöhrGabriela!$B$77)","v":169},{"$f":"(StöhrGabriela!$B$78)","v":"Nein"},{"$f":"(StöhrGabriela!$B$79)","v":"Nein"}]
["Kola, Sheridan",{"$f":"(KolaSheridan!$H$1)","v":2005},{"$f":"(KolaSheridan!$H$2)","v":15},{"$f":"(KolaSheridan!$B$2)","v":"MTV Peine"},{"$f":"(KolaSheridan!$H$4)","v":10},{"$f":"(KolaSheridan!$H$5)","v":10},{"$f":"(KolaSheridan!$H$6)","v":6},{"$f":"(KolaSheridan!$H$7)","v":10},{"$f":"(KolaSheridan!$H$8)","v":10},{"$f":"(KolaSheridan!$H$9)","v":46},{"$f":"(KolaSheridan!$H$11)","v":0},{"$f":"(KolaSheridan!$H$12)","v":0},{"$f":"(KolaSheridan!$H$13)","v":2},{"$f":"(KolaSheridan!$H$14)","v":3},{"$f":"(KolaSheridan!$H$15)","v":6},{"$f":"(KolaSheridan!$H$16)","v":10},{"$f":"(KolaSheridan!$H$17)","v":0},{"$f":"(KolaSheridan!$H$18)","v":2},{"$f":"(KolaSheridan!$H$19)","v":23},{"$f":"(KolaSheridan!$H$21)","v":0},{"$f":"(KolaSheridan!$H$22)","v":0},{"$f":"(KolaSheridan!$H$23)","v":0},{"$f":"(KolaSheridan!$H$24)","v":0},{"$f":"(KolaSheridan!$H$25)","v":0},{"$f":"(KolaSheridan!$H$26)","v":0},{"$f":"(KolaSheridan!$H$27)","v":0},{"$f":"(KolaSheridan!$H$28)","v":0},{"$f":"(KolaSheridan!$H$29)","v":0},{"$f":"(KolaSheridan!$H$30)","v":0},{"$f":"(KolaSheridan!$H$36)","v":0},{"$f":"(KolaSheridan!$H$37)","v":0},{"$f":"(KolaSheridan!$H$51)","v":12.5},{"$f":"(KolaSheridan!$H$52)","v":81.5},{"$f":"(KolaSheridan!$B$75)","v":81.5},{"$f":"(KolaSheridan!$B$76)","v":"Nein"},{"$f":"(KolaSheridan!$B$77)","v":159},{"$f":"(KolaSheridan!$B$78)","v":"Nein"},{"$f":"(KolaSheridan!$B$79)","v":"Nein"}]
["Radfelder-Henning, Mirja",{"$f":"(RadfelderHenningMirja!$H$1)","v":2005},{"$f":"(RadfelderHenningMirja!$H$2)","v":15},{"$f":"(RadfelderHenningMirja!$B$2)","v":"OSC Bremerhafen"},{"$f":"(RadfelderHenningMirja!$H$4)","v":10},{"$f":"(RadfelderHenningMirja!$H$5)","v":10},{"$f":"(RadfelderHenningMirja!$H$6)","v":8},{"$f":"(RadfelderHenningMirja!$H$7)","v":6},{"$f":"(RadfelderHenningMirja!$H$8)","v":10},{"$f":"(RadfelderHenningMirja!$H$9)","v":44},{"$f":"(RadfelderHenningMirja!$H$11)","v":0},{"$f":"(RadfelderHenningMirja!$H$12)","v":2},{"$f":"(RadfelderHenningMirja!$H$13)","v":0},{"$f":"(RadfelderHenningMirja!$H$14)","v":0},{"$f":"(RadfelderHenningMirja!$H$15)","v":7},{"$f":"(RadfelderHenningMirja!$H$16)","v":0},{"$f":"(RadfelderHenningMirja!$H$17)","v":0},{"$f":"(RadfelderHenningMirja!$H$18)","v":5},{"$f":"(RadfelderHenningMirja!$H$19)","v":14},{"$f":"(RadfelderHenningMirja!$H$21)","v":-5.3999999999999915},{"$f":"(RadfelderHenningMirja!$H$22)","v":6},{"$f":"(RadfelderHenningMirja!$H$23)","v":0},{"$f":"(RadfelderHenningMirja!$H$24)","v":0},{"$f":"(RadfelderHenningMirja!$H$25)","v":9},{"$f":"(RadfelderHenningMirja!$H$26)","v":9},{"$f":"(RadfelderHenningMirja!$H$27)","v":0},{"$f":"(RadfelderHenningMirja!$H$28)","v":0},{"$f":"(RadfelderHenningMirja!$H$29)","v":0},{"$f":"(RadfelderHenningMirja!$H$30)","v":0},{"$f":"(RadfelderHenningMirja!$H$36)","v":7},{"$f":"(RadfelderHenningMirja!$H$37)","v":56.600000000000009},{"$f":"(RadfelderHenningMirja!$H$51)","v":20.5},{"$f":"(RadfelderHenningMirja!$H$52)","v":135.10000000000002},{"$f":"(RadfelderHenningMirja!$B$75)","v":78.5},{"$f":"(RadfelderHenningMirja!$B$76)","v":"Nein"},{"$f":"(RadfelderHenningMirja!$B$77)","v":159},{"$f":"(RadfelderHenningMirja!$B$78)","v":"Nein"},{"$f":"(RadfelderHenningMirja!$B$79)","v":"Nein"}]
["Ronsiek-Niederbröker, Hannah",{"$f":"(RonsiekNiederbrökerHannah!$H$1)","v":2006},{"$f":"(RonsiekNiederbrökerHannah!$H$2)","v":14},{"$f":"(RonsiekNiederbrökerHannah!$B$2)","v":"SC Melle"},{"$f":"(RonsiekNiederbrökerHannah!$H$4)","v":10},{"$f":"(RonsiekNiederbrökerHannah!$H$5)","v":6},{"$f":"(RonsiekNiederbrökerHannah!$H$6)","v":8},{"$f":"(RonsiekNiederbrökerHannah!$H$7)","v":10},{"$f":"(RonsiekNiederbrökerHannah!$H$8)","v":10},{"$f":"(RonsiekNiederbrökerHannah!$H$9)","v":44},{"$f":"(RonsiekNiederbrökerHannah!$H$11)","v":0},{"$f":"(RonsiekNiederbrökerHannah!$H$12)","v":0},{"$f":"(RonsiekNiederbrökerHannah!$H$13)","v":4},{"$f":"(RonsiekNiederbrökerHannah!$H$14)","v":4},{"$f":"(RonsiekNiederbrökerHannah!$H$15)","v":0},{"$f":"(RonsiekNiederbrökerHannah!$H$16)","v":4},{"$f":"(RonsiekNiederbrökerHannah!$H$17)","v":0},{"$f":"(RonsiekNiederbrökerHannah!$H$18)","v":9},{"$f":"(RonsiekNiederbrökerHannah!$H$19)","v":21},{"$f":"(RonsiekNiederbrökerHannah!$H$21)","v":4.5500000000000007},{"$f":"(RonsiekNiederbrökerHannah!$H$22)","v":5},{"$f":"(RonsiekNiederbrökerHannah!$H$23)","v":8},{"$f":"(RonsiekNiederbrökerHannah!$H$24)","v":0},{"$f":"(RonsiekNiederbrökerHannah!$H$25)","v":9},{"$f":"(RonsiekNiederbrökerHannah!$H$26)","v":11},{"$f":"(RonsiekNiederbrökerHannah!$H$27)","v":6},{"$f":"(RonsiekNiederbrökerHannah!$H$28)","v":6},{"$f":"(RonsiekNiederbrökerHannah!$H$29)","v":0},{"$f":"(RonsiekNiederbrökerHannah!$H$30)","v":0},{"$f":"(RonsiekNiederbrökerHannah!$H$36)","v":7},{"$f":"(RonsiekNiederbrökerHannah!$H$37)","v":78.55},{"$f":"(RonsiekNiederbrökerHannah!$H$51)","v":9},{"$f":"(RonsiekNiederbrökerHannah!$H$52)","v":152.55000000000001},{"$f":"(RonsiekNiederbrökerHannah!$B$75)","v":74},{"$f":"(RonsiekNiederbrökerHannah!$B$76)","v":"Nein"},{"$f":"(RonsiekNiederbrökerHannah!$B$77)","v":143},{"$f":"(RonsiekNiederbrökerHannah!$B$78)","v":"Ja"},{"$f":"(RonsiekNiederbrökerHannah!$B$79)","v":"Nein"}]
["Pape, Nina",{"$f":"(PapeNina!$H$1)","v":2003},{"$f":"(PapeNina!$H$2)","v":17},{"$f":"(PapeNina!$B$2)","v":"FC Reislingen"},{"$f":"(PapeNina!$H$4)","v":10},{"$f":"(PapeNina!$H$5)","v":6},{"$f":"(PapeNina!$H$6)","v":4},{"$f":"(PapeNina!$H$7)","v":10},{"$f":"(PapeNina!$H$8)","v":10},{"$f":"(PapeNina!$H$9)","v":40},{"$f":"(PapeNina!$H$11)","v":0},{"$f":"(PapeNina!$H$12)","v":0},{"$f":"(PapeNina!$H$13)","v":0},{"$f":"(PapeNina!$H$14)","v":7},{"$f":"(PapeNina!$H$15)","v":2},{"$f":"(PapeNina!$H$16)","v":10},{"$f":"(PapeNina!$H$17)","v":0},{"$f":"(PapeNina!$H$18)","v":5},{"$f":"(PapeNina!$H$19)","v":24},{"$f":"(PapeNina!$H$21)","v":-4.3000000000000149},{"$f":"(PapeNina!$H$22)","v":0},{"$f":"(PapeNina!$H$23)","v":0},{"$f":"(PapeNina!$H$24)","v":0},{"$f":"(PapeNina!$H$25)","v":9},{"$f":"(PapeNina!$H$26)","v":0},{"$f":"(PapeNina!$H$27)","v":0},{"$f":"(PapeNina!$H$28)","v":0},{"$f":"(PapeNina!$H$29)","v":0},{"$f":"(PapeNina!$H$30)","v":0},{"$f":"(PapeNina!$H$36)","v":0},{"$f":"(PapeNina!$H$37)","v":35.699999999999989},{"$f":"(PapeNina!$H$51)","v":7},{"$f":"(PapeNina!$H$52)","v":106.69999999999999},{"$f":"(PapeNina!$B$75)","v":71},{"$f":"(PapeNina!$B$76)","v":"Nein"},{"$f":"(PapeNina!$B$77)","v":169},{"$f":"(PapeNina!$B$78)","v":"Nein"},{"$f":"(PapeNina!$B$79)","v":"Nein"}]
["Henseleit, Nele",{"$f":"(HenseleitNele!$H$1)","v":2002},{"$f":"(HenseleitNele!$H$2)","v":18},{"$f":"(HenseleitNele!$B$2)","v":"Geestemünder TV"},{"$f":"(HenseleitNele!$H$4)","v":6},{"$f":"(HenseleitNele!$H$5)","v":10},{"$f":"(HenseleitNele!$H$6)","v":6},{"$f":"(HenseleitNele!$H$7)","v":10},{"$f":"(HenseleitNele!$H$8)","v":6},{"$f":"(HenseleitNele!$H$9)","v":38},{"$f":"(HenseleitNele!$H$11)","v":0},{"$f":"(HenseleitNele!$H$12)","v":0},{"$f":"(HenseleitNele!$H$13)","v":10},{"$f":"(HenseleitNele!$H$14)","v":2},{"$f":"(HenseleitNele!$H$15)","v":4},{"$f":"(HenseleitNele!$H$16)","v":0},{"$f":"(HenseleitNele!$H$17)","v":0},{"$f":"(HenseleitNele!$H$18)","v":3},{"$f":"(HenseleitNele!$H$19)","v":19},{"$f":"(HenseleitNele!$H$21)","v":-7.2999999999999865},{"$f":"(HenseleitNele!$H$22)","v":0},{"$f":"(HenseleitNele!$H$23)","v":0},{"$f":"(HenseleitNele!$H$24)","v":0},{"$f":"(HenseleitNele!$H$25)","v":11},{"$f":"(HenseleitNele!$H$26)","v":0},{"$f":"(HenseleitNele!$H$27)","v":0},{"$f":"(HenseleitNele!$H$28)","v":0},{"$f":"(HenseleitNele!$H$29)","v":0},{"$f":"(HenseleitNele!$H$30)","v":0},{"$f":"(HenseleitNele!$H$36)","v":0},{"$f":"(HenseleitNele!$H$37)","v":35.700000000000017},{"$f":"(HenseleitNele!$H$51)","v":3},{"$f":"(HenseleitNele!$H$52)","v":95.700000000000017},{"$f":"(HenseleitNele!$B$75)","v":60},{"$f":"(HenseleitNele!$B$76)","v":"Nein"},{"$f":"(HenseleitNele!$B$77)","v":169},{"$f":"(HenseleitNele!$B$78)","v":"Nein"},{"$f":"(HenseleitNele!$B$79)","v":"Nein"}]
["Zimmerhackel, Jana",{"$f":"(ZimmerhackelJana!$H$1)","v":2003},{"$f":"(ZimmerhackelJana!$H$2)","v":17},{"$f":"(ZimmerhackelJana!$B$2)","v":"MTV Stuttgart"},{"$f":"(ZimmerhackelJana!$H$4)","v":0},{"$f":"(ZimmerhackelJana!$H$5)","v":6},{"$f":"(ZimmerhackelJana!$H$6)","v":10},{"$f":"(ZimmerhackelJana!$H$7)","v":10},{"$f":"(ZimmerhackelJana!$H$8)","v":10},{"$f":"(ZimmerhackelJana!$H$9)","v":36},{"$f":"(ZimmerhackelJana!$H$11)","v":0},{"$f":"(ZimmerhackelJana!$H$12)","v":4},{"$f":"(ZimmerhackelJana!$H$13)","v":6},{"$f":"(ZimmerhackelJana!$H$14)","v":10},{"$f":"(ZimmerhackelJana!$H$15)","v":0},{"$f":"(ZimmerhackelJana!$H$16)","v":2},{"$f":"(ZimmerhackelJana!$H$17)","v":0},{"$f":"(ZimmerhackelJana!$H$18)","v":0},{"$f":"(ZimmerhackelJana!$H$19)","v":22},{"$f":"(ZimmerhackelJana!$H$21)","v":0},{"$f":"(ZimmerhackelJana!$H$22)","v":0},{"$f":"(ZimmerhackelJana!$H$23)","v":0},{"$f":"(ZimmerhackelJana!$H$24)","v":0},{"$f":"(ZimmerhackelJana!$H$25)","v":0},{"$f":"(ZimmerhackelJana!$H$26)","v":0},{"$f":"(ZimmerhackelJana!$H$27)","v":0},{"$f":"(ZimmerhackelJana!$H$28)","v":0},{"$f":"(ZimmerhackelJana!$H$29)","v":0},{"$f":"(ZimmerhackelJana!$H$30)","v":0},{"$f":"(ZimmerhackelJana!$H$36)","v":0},{"$f":"(ZimmerhackelJana!$H$37)","v":0},{"$f":"(ZimmerhackelJana!$H$51)","v":0},{"$f":"(ZimmerhackelJana!$H$52)","v":58},{"$f":"(ZimmerhackelJana!$B$75)","v":58},{"$f":"(ZimmerhackelJana!$B$76)","v":"Nein"},{"$f":"(ZimmerhackelJana!$B$77)","v":169},{"$f":"(ZimmerhackelJana!$B$78)","v":"Nein"},{"$f":"(ZimmerhackelJana!$B$79)","v":"Nein"}]
["Lauhöfer, Saskia",{"$f":"(LauhöferSaskia!$H$1)","v":2003},{"$f":"(LauhöferSaskia!$H$2)","v":17},{"$f":"(LauhöferSaskia!$B$2)","v":"Frankfurt Flyers"},{"$f":"(LauhöferSaskia!$H$4)","v":0},{"$f":"(LauhöferSaskia!$H$5)","v":0},{"$f":"(LauhöferSaskia!$H$6)","v":0},{"$f":"(LauhöferSaskia!$H$7)","v":10},{"$f":"(LauhöferSaskia!$H$8)","v":0},{"$f":"(LauhöferSaskia!$H$9)","v":10},{"$f":"(LauhöferSaskia!$H$11)","v":0},{"$f":"(LauhöferSaskia!$H$12)","v":0},{"$f":"(LauhöferSaskia!$H$13)","v":0},{"$f":"(LauhöferSaskia!$H$14)","v":0},{"$f":"(LauhöferSaskia!$H$15)","v":5},{"$f":"(LauhöferSaskia!$H$16)","v":0},{"$f":"(LauhöferSaskia!$H$17)","v":0},{"$f":"(LauhöferSaskia!$H$18)","v":3},{"$f":"(LauhöferSaskia!$H$19)","v":8},{"$f":"(LauhöferSaskia!$H$21)","v":0},{"$f":"(LauhöferSaskia!$H$22)","v":0},{"$f":"(LauhöferSaskia!$H$23)","v":0},{"$f":"(LauhöferSaskia!$H$24)","v":0},{"$f":"(LauhöferSaskia!$H$25)","v":0},{"$f":"(LauhöferSaskia!$H$26)","v":0},{"$f":"(LauhöferSaskia!$H$27)","v":0},{"$f":"(LauhöferSaskia!$H$28)","v":0},{"$f":"(LauhöferSaskia!$H$29)","v":0},{"$f":"(LauhöferSaskia!$H$30)","v":0},{"$f":"(LauhöferSaskia!$H$36)","v":0},{"$f":"(LauhöferSaskia!$H$37)","v":0},{"$f":"(LauhöferSaskia!$H$51)","v":9},{"$f":"(LauhöferSaskia!$H$52)","v":27},{"$f":"(LauhöferSaskia!$B$75)","v":27},{"$f":"(LauhöferSaskia!$B$76)","v":"Nein"},{"$f":"(LauhöferSaskia!$B$77)","v":169},{"$f":"(LauhöferSaskia!$B$78)","v":"Nein"},{"$f":"(LauhöferSaskia!$B$79)","v":"Nein"}]

{"sheet":"BraunJanisLuca","index":4,"n_rows":79,"n_cols":8,"rows_kept":79,"cut":false,"hidden":false,"merged":[[11,0,11,4],[0,1,0,4],[1,1,1,5],[2,0,2,4],[3,0,3,4],[4,0,4,4],[5,0,5,4],[6,0,6,4],[7,0,7,4],[8,0,8,6],[9,0,9,4],[10,0,10,4],[23,0,23,1],[12,0,12,4],[13,0,13,4],[14,0,14,4],[15,0,15,4],[16,0,16,1],[17,0,17,4],[18,0,18,6],[19,0,19,2],[20,0,20,2],[21,0,21,1],[22,0,22,1],[41,0,41,3],[30,0,30,1],[31,0,31,1],[32,0,32,1],[33,0,33,1],[34,0,34,1],[35,0,35,1],[36,0,36,6],[37,0,37,3],[38,0,38,3],[39,0,39,3],[40,0,40,3],[48,0,48,3],[49,0,49,3],[50,0,50,6],[51,0,51,6],[42,0,42,3],[43,0,43,3],[44,0,44,3],[45,0,45,3],[46,0,46,3],[47,0,47,3]]}
["Name","Braun, Janis-Luca",null,null,null,"männlich","Jahrgang",2007]
["Verein","SV Ostfildern",null,null,null,null,"AK",{"$f":"2020-H1","v":13}]
["Übung",null,null,null,null,"Wert","Berechnung","Punkte"]
["Fußdehnung",null,null,null,null,10,"Bild",{"$f":"F4","v":10}]
["Briefmarke mit Armrumpfwinkel",null,null,null,null,10,"Bild",{"$f":"F5","v":10}]
["Bückbeweglichkeit",null,null,null,null,14,"Tabelle",{"$f":"IF(F6=\"\",0,VLOOKUP(F6,Punktetabellen!A10:B15,2,1))","v":4}]
["Querspagat links",null,null,null,null,0,"Tabelle",{"$f":"IF(F7=\"\",0,VLOOKUP(F7,Punktetabellen!A3:B6,2,0))","v":10}]
["Querspagat rechts",null,null,null,null,0,"Tabelle",{"$f":"IF(F8=\"\",0,VLOOKUP(F8,Punktetabellen!A3:B6,2,0))","v":10}]
["Gesamtpunktzahl Beweglichkeit",null,null,null,null,null,null,{"$f":"SUM(H4:H8)","v":44}]
["Übung",null,null,null,null,"Wert","Berechnung","Punktzahl"]
["Klimmzug",null,null,null,null,4,"Tabelle",{"$f":"IF(F11=\"\",0,IF(H2<12,VLOOKUP(F11,Punktetabellen!D4:F14,3,1),VLOOKUP(F11,Punktetabellen!E4:F14,2,1)))","v":0}]
["Beinheben",null,null,null,null,0,"Tabelle",{"$f":"IF(H2=9,VLOOKUP(F12,Punktetabellen!D19:F29,3,1),VLOOKUP(F12,Punktetabellen!E19:F29,2,1))","v":0}]
["Flieger",null,null,null,null,80,"Tabelle",{"$f":"IF(H2=9,VLOOKUP(F13,Punktetabellen!H4:K9,4,1),IF(H2<12,VLOOKUP(F13,Punktetabellen!I4:K9,3,1),VLOOKUP(F13,Punktetabellen!J4:K9,2,1)))","v":2}]
["Rollenverbindung",null,null,null,null,15,"Tabelle",{"$f":"IF(H2=9,VLOOKUP(F14,Punktetabellen!H14:K24,4,1),IF(H2<12,VLOOKUP(F14,Punktetabellen!I14:K24,3,1),VLOOKUP(F14,Punktetabellen!J14:K24,2,1)))","v":3}]
["Prellsprünge",null,null,null,null,36,"Tabelle",{"$f":"IF(H2=9,VLOOKUP(F15,Punktetabellen!M4:Q14,5,1),IF(H2<12,VLOOKUP(F15,Punktetabellen!N4:Q14,4,1),IF(H2<14,VLOOKUP(F15,Punktetabellen!O4:Q14,3,1),VLOOKUP(F15,Punktetabellen!P4:Q14,2,1))))","v":8}]
["Handstandstehen",null,null,null,null,30,"Tabelle",{"$f":"IF(F16=\"\",0,IF(H2<10,VLOOKUP(F16,Punktetabellen!D34:F40,3,1),VLOOKUP(F16,Punktetabellen!E34:F40,2,1)))","v":10}]
["Schweizer, Wiener",null,{"$f":"IF(H2<12,\"\",IF(AND(H2>13,H2<17),\"Schweizer: \",\"Wiener: \"))","v":"Wiener: "},null,{"$f":"IF(H2<12,\"\",IF(AND(H2>13,H2<17),\"Wiener: \",\"Schweizer: \"))","v":"Schweizer: "},null,"Tabelle",{"$f":"IF(H2<12,VLOOKUP(F17,Punktetabellen!A20:B25,2,1),((MIN(5,1*D17)*2)+MIN(MAX(0,5-(1*D17)),(1*F17))))","v":0}]
["Bleep-Test",null,null,null,null,"L6 S10","Tabelle",{"$f":"IF(F18=\"\",0,VLOOKUP(F18,INDIRECT(C55),2,0))","v":2}]
["Gesamtpunktzahl Kraft/Kondition",null,null,null,null,null,null,{"$f":"SUM(H11:H18)","v":25}]
["Übung",null,null,"Max / Soll","Max. Abzug","Abzug / Ist","Berechnung","Punkte"]
["Standsprunghöhe",null,null,{"$f":"IF(F1=\"männlich\",VLOOKUP(H2,Standsprünge!A3:C15,3,0),VLOOKUP(H2,Standsprünge!A3:B15,2,0))","v":15.3},null,15.404999999999999,"(Ist - Soll) x 10",{"$f":"IF(F21=\"\",0,(F21-D21)*10)","v":1.0499999999999865}]
[{"$f":"IF(H2>16,\"entfällt\",\"TBN\")","v":"TBN"},null,"7/4 rw c zum Rücken, 1/2 Schraube ein",{"$f":"IF(C22=\"\",\"\",VLOOKUP(C22,INDIRECT($C$62),2,0))","v":9},{"$f":"IF(C22=\"\",\"\",VLOOKUP(C22,INDIRECT($C$62),3,0))","v":6},6,{"$f":"IF(H2>16,\"entfällt\",\"Wert - Abzug\")","v":"Wert - Abzug"},{"$f":"IF(A22=\"entfällt\",0,IF(F22=\"\",0,D22-F22))","v":3}]
[{"$f":"IF(H2>16,\"entfällt\",\"TBN\")","v":"TBN"},null,"7/4 vw b zum Rücken, platt, Arme angelegt",{"$f":"IF(C23=\"\",\"\",VLOOKUP(C23,INDIRECT($C$62),2,0))","v":9},{"$f":"IF(C23=\"\",\"\",VLOOKUP(C23,INDIRECT($C$62),3,0))","v":6},4,{"$f":"IF(H2>16,\"entfällt\",\"Wert - Abzug\")","v":"Wert - Abzug"},{"$f":"IF(A23=\"entfällt\",0,IF(F23=\"\",0,D23-F23))","v":5}]
[{"$f":"IF(H2>12,\"entfällt\",\"TBN\")","v":"entfällt"},null,null,{"$f":"IF(C24=\"\",\"\",VLOOKUP(C24,INDIRECT($C$62),2,0))","v":""},{"$f":"IF(C24=\"\",\"\",VLOOKUP(C24,INDIRECT($C$62),3,0))","v":""},null,{"$f":"IF(H2>16,\"entfällt\",\"Wert - Abzug\")","v":"Wert - Abzug"},0]
["TN",{"$f":"IF(C25=\"\",\"\",VLOOKUP(C25,INDIRECT($C$65),2,0))","v":"800<"},"Doppelsalto rw b",{"$f":"IF(C25=\"\",\"\",VLOOKUP(C25,INDIRECT($C$65),3,0))","v":12},{"$f":"IF(C25=\"\",\"\",VLOOKUP(C25,INDIRECT($C$65),4,0))","v":6},6,"Wert - Abzug",6]
["TN","811°","1/2 ein 1/2 aus c",12,6,6,"Wert - Abzug",6]
["TN","801°","Fliffis c",11,6,6,"Wert - Abzug",5]
[{"$f":"IF(H2>12,\"TN\",\"entfällt\")","v":"TN"},"801<","Fliffis b",13,6,4,{"$f":"IF(H2>12,\"Wert - Abzug\",\"entfällt\")","v":"Wert - Abzug"},9]
[{"$f":"IF(H2>16,\"TN\",\"entfällt\")","v":"entfällt"},"",null,"","",null,{"$f":"IF(H2>16,\"Wert - Abzug\",\"entfällt\")","v":"entfällt"},0]
[{"$f":"IF(H2>16,\"TN\",\"entfällt\")","v":"entfällt"},"",null,"","",null,{"$f":"IF(H2>16,\"Wert - Abzug\",\"entfällt\")","v":"entfällt"},{"$f":"IF(A30=\"entfällt\",0,IF(F30=\"\",0,D30-F30))","v":0}]
[{"$f":"IF($H$2>11,\"Verbindung Sprung 1\",\"entfällt\")","v":"Verbindung Sprung 1"},null,{"$f":"IF(A31<>\"entfällt\",VLOOKUP(1,INDIRECT($C$73),2,0),\"\")","v":"40/"},{"$f":"IF(A31<>\"entfällt\",VLOOKUP(1,INDIRECT($C$73),3,0),\"\")","v":6},{"$f":"IF(A31<>\"entfällt\",VLOOKUP(1,INDIRECT($C$73),4,0),\"\")","v":3},1,{"$f":"IF(H2>12,\"Wert - Abzug\",\"entfällt\")","v":"Wert - Abzug"},{"$f":"IF(A31=\"entfällt\",0,IF(F31=\"\",0,D31-F31))","v":5}]
[{"$f":"IF($H$2>11,\"Verbindung Sprung 2\",\"entfällt\")","v":"Verbindung Sprung 2"},null,{"$f":"IF(A32<>\"entfällt\",VLOOKUP(2,INDIRECT($C$73),2,0),\"\")","v":"41/"},{"$f":"IF(A32<>\"entfällt\",VLOOKUP(2,INDIRECT($C$73),3,0),\"\")","v":6},{"$f":"IF(A32<>\"entfällt\",VLOOKUP(2,INDIRECT($C$73),4,0),\"\")","v":3},3,{"$f":"IF(H2>12,\"Wert - Abzug\",\"entfällt\")","v":"Wert - Abzug"},{"$f":"IF(A32=\"entfällt\",0,IF(F32=\"\",0,D32-F32))","v":3}]
[{"$f":"IF($H$2>11,\"Verbindung Sprung 3\",\"entfällt\")","v":"Verbindung Sprung 3"},null,{"$f":"IF(A33<>\"entfällt\",VLOOKUP(3,INDIRECT($C$73),2,0),\"\")","v":"42/"},{"$f":"IF(A33<>\"entfällt\",VLOOKUP(3,INDIRECT($C$73),3,0),\"\")","v":7},{"$f":"IF(A33<>\"entfällt\",VLOOKUP(3,INDIRECT($C$73),4,0),\"\")","v":3},3,{"$f":"IF(H2>12,\"Wert - Abzug\",\"entfällt\")","v":"Wert - Abzug"},4]
[{"$f":"IF($H$2>11,\"Verbindung Sprung 4\",\"entfällt\")","v":"Verbindung Sprung 4"},null,{"$f":"IF(A34<>\"entfällt\",VLOOKUP(4,INDIRECT($C$73),2,0),\"\")","v":"40°"},{"$f":"IF(A34<>\"entfällt\",VLOOKUP(4,INDIRECT($C$73),3,0),\"\")","v":5},{"$f":"IF(A34<>\"entfällt\",VLOOKUP(4,INDIRECT($C$73),4,0),\"\")","v":3},2,{"$f":"IF(H2>12,\"Wert - Abzug\",\"entfällt\")","v":"Wert - Abzug"},3]
[{"$f":"IF($H$2>11,\"Verbindung Sprung 5\",\"entfällt\")","v":"Verbindung Sprung 5"},null,{"$f":"IF(A35<>\"entfällt\",VLOOKUP(5,INDIRECT($C$73),2,0),\"\")","v":"41°"},{"$f":"IF(A35<>\"entfällt\",VLOOKUP(5,INDIRECT($C$73),3,0),\"\")","v":6},{"$f":"IF(A35<>\"entfällt\",VLOOKUP(5,INDIRECT($C$73),4,0),\"\")","v":3},3,{"$f":"IF(H2>12,\"Wert - Abzug\",\"entfällt\")","v":"Wert - Abzug"},3]
[{"$f":"IF($H$2>11,\"Verbindung Sprung 6\",\"entfällt\")","v":"Verbindung Sprung 6"},null,{"$f":"IF(A36<>\"entfällt\",VLOOKUP(6,INDIRECT($C$73),2,0),\"\")","v":"800°"},{"$f":"IF(A36<>\"entfällt\",VLOOKUP(6,INDIRECT($C$73),3,0),\"\")","v":10},{"$f":"IF(A36<>\"entfällt\",VLOOKUP(6,INDIRECT($C$73),4,0),\"\")","v":3},3,{"$f":"IF(H2>12,\"Wert - Abzug\",\"entfällt\")","v":"Wert - Abzug"},{"$f":"IF(A36=\"entfällt\",0,IF(F36=\"\",0,D36-F36))","v":7}]
["Gesamtpunktzahl Trampolin",null,null,null,null,null,null,{"$f":"SUM(H21:H36)","v":60.049999999999983}]
["Element",null,null,null,"Wert","Abzug","Berechnung","Punkte"]
[{"$f":"VLOOKUP(1,INDIRECT($C$70),2,0)","v":"Salto vorwärts mit Anlauf"},null,null,null,{"$f":"VLOOKUP(1,INDIRECT($C$70),3,0)","v":3},0.5,"Wert - Abzug",{"$f":"IF(E39=\" \",\"\",IF(F39=\"\",0,E39-F39))","v":2.5}]
[{"$f":"VLOOKUP(2,INDIRECT($C$70),2,0)","v":"Handstand, 1/1 Drehung, Abrollen"},null,null,null,{"$f":"VLOOKUP(2,INDIRECT($C$70),3,0)","v":3},0,"Wert - Abzug",{"$f":"IF(E40=\" \",\"\",IF(F40=\"\",0,E40-F40))","v":3}]
[{"$f":"VLOOKUP(3,INDIRECT($C$70),2,0)","v":"Strecksprung 1/2 Drehung"},null,null,null,{"$f":"VLOOKUP(3,INDIRECT($C$70),3,0)","v":1.5},0,"Wert - Abzug",1.5]
[{"$f":"VLOOKUP(4,INDIRECT($C$70),2,0)","v":"Vorspreizen, Handstandhüpfer, Abrollen Grätschsitz"},null,null,null,{"$f":"VLOOKUP(4,INDIRECT($C$70),3,0)","v":1.5},0,"Wert - Abzug",1.5]
[{"$f":"VLOOKUP(5,INDIRECT($C$70),2,0)","v":"Briefmarke, Rückgrätschen --> Bauchlage"},null,null,null,{"$f":"VLOOKUP(5,INDIRECT($C$70),3,0)","v":3},1.5,"Wert - Abzug",1.5]
[{"$f":"VLOOKUP(6,INDIRECT($C$70),2,0)","v":"Kniestand, Abdrücken gebückt --> Handstand, abrollen"},null,null,null,{"$f":"VLOOKUP(6,INDIRECT($C$70),3,0)","v":3},0,"Wert - Abzug",3]
[{"$f":"VLOOKUP(7,INDIRECT($C$70),2,0)","v":"Vorspreizen, Standwaage --> abrollen, einbeinig rechts auf"},null,null,null,{"$f":"VLOOKUP(7,INDIRECT($C$70),3,0)","v":3.5},2,"Wert - Abzug",1.5]
[{"$f":"VLOOKUP(8,INDIRECT($C$70),2,0)","v":"Vorspreizen, Standwaage --> abrollen, einbeinig links auf"},null,null,null,{"$f":"VLOOKUP(8,INDIRECT($C$70),3,0)","v":3.5},2.5,"Wert - Abzug",1]
[{"$f":"VLOOKUP(9,INDIRECT($C$70),2,0)","v":"Rolle rückwärts durch Handstand"},null,null,null,{"$f":"VLOOKUP(9,INDIRECT($C$70),3,0)","v":3},1.5,{"$f":"IF(H2>16,\"\",\"Wert - Abzug\")","v":"Wert - Abzug"},1.5]
[{"$f":"VLOOKUP(10,INDIRECT($C$70),2,0)","v":"Strecksprung 1/2 Drehung"},null,null,null,{"$f":"VLOOKUP(10,INDIRECT($C$70),3,0)","v":1},0,{"$f":"IF(H2>16,\"\",\"Wert - Abzug\")","v":"Wert - Abzug"},1]
[{"$f":"VLOOKUP(11,INDIRECT($C$70),2,0)","v":"Sprungrolle mit Anlauf"},null,null,null,{"$f":"VLOOKUP(11,INDIRECT($C$70),3,0)","v":2},0,{"$f":"IF(H2>13,\"\",\"Wert - Abzug\")","v":"Wert - Abzug"},2]
[{"$f":"VLOOKUP(12,INDIRECT($C$70),2,0)","v":"Strecksprung 1/1 Drehung"},null,null,null,{"$f":"VLOOKUP(12,INDIRECT($C$70),3,0)","v":2},1,{"$f":"IF(OR(H2=9,H2=12,H2=13),\"Wert - Abzug\",\"\")","v":"Wert - Abzug"},1]
["Gesamtpunktzahl Bodenkomplexübung",null,null,null,null,null,null,{"$f":"SUM(H39:H50)","v":21}]
["Gesamtpunktzahl",null,null,null,null,null,null,{"$f":"SUM(H9,H19,H37,H51)","v":150.04999999999998}]
[]
[]
[null,"Shuttles",{"$f":"\"Shuttles_\"&F1&IF(H2=9,\"_9\",IF(H2<12,\"_10_11\",IF(H2<14,\"_12_13\",IF(H2<17,\"_14_16\",\"_17\"))))","v":"Shuttles_männlich_12_13"}]
[null,null,{"$f":"\"Shuttles_\"&F1&IF(H2=9,\"_9\",IF(H2<12,\"_10_11\",IF(H2<14,\"_12_13\",IF(H2<17,\"_14_16\",\"_17\"))))&\"[Shuttle]\"","v":"Shuttles_männlich_12_13[Shuttle]"}]
[null,null,{"$f":"\"Shuttles_\"&F1&IF(H2=9,\"_9\",IF(H2<12,\"_10_11\",IF(H2<14,\"_12_13\",IF(H2<17,\"_14_16\",\"_17\"))))&\"[Punkte]\"","v":"Shuttles_männlich_12_13[Punkte]"}]
[]
[null,"G_TBN TN BKÜ",{"$f":"IF(H2<13,\"beide\",F1)","v":"männlich"}]
[null,"AK",{"$f":"IF(OR(H2=9,H2=12),H2,IF(H2<12,\"10_11\",IF(H2<15,\"13_14\",IF(H2<17,\"15_16\",IF(H2<19,\"17_18\",19)))))","v":"13_14"}]
[]
[null,"TBN",{"$f":"\"TBN_\"&C59&\"_\"&C60","v":"TBN_männlich_13_14"}]
[null,null,{"$f":"C62&\"[Beschreibung]\"","v":"TBN_männlich_13_14[Beschreibung]"}]
[]
[null,"TN",{"$f":"\"TN_\"&C59&\"_\"&C60","v":"TN_männlich_13_14"}]
[null,null,{"$f":"C65&\"[Beschreibung]\"","v":"TN_männlich_13_14[Beschreibung]"}]
[]
[null,"TV",{"$f":"\"TV_\"&F1&\"_\"&C60","v":"TV_männlich_13_14"}]
[]
[null,"BKÜ",{"$f":"\"BKÜ\"&IF(H2=9,\"_9\",IF(H2<12,\"_10_11\",IF(H2<14,\"_12_13\",IF(H2<17,\"_14_16\",\"_17\"))))","v":"BKÜ_12_13"}]
[]
[null,"G_TV",{"$f":"IF(H2<17,\"beide\",F1)","v":"beide"}]
[null,"TV",{"$f":"\"TV_\"&C72&\"_\"&C60","v":"TV_beide_13_14"}]
[]
[null,{"$f":"SUM(H19,H9,H51)","v":90},"Vergleichspunktzahl aus Kraft, Beweglichkeit, Grundlagenausdauer, Bodenübung"]
[null,{"$f":"IF(B75>95,\"Ja\",\"Nein\")","v":"Nein"},"Vergleichspunktzahl erfüllt?"]
[null,{"$f":"IF(F1=\"Weiblich\",VLOOKUP(H2,Punktetabellen!$D$43:$F$49,3,1),VLOOKUP(H2,Punktetabellen!$D$43:$F$49,2,1))","v":144},"Mindest-Gesamtwert"]
[null,{"$f":"IF(H52>=B77,\"Ja\",\"Nein\")","v":"Ja"},"Gesamtwert erfüllt?"]
[null,{"$f":"IF(AND(B76=\"Ja\",B78=\"Ja\"),\"Ja\",\"Nein\")","v":"Nein"},"Alles erfüllt?"]

{"sheet":"MorgensternLuna","index":5,"n_rows":79,"n_cols":8,"rows_kept":79,"cut":false,"hidden":false,"merged":[[11,0,11,4],[0,1,0,4],[1,1,1,5],[2,0,2,4],[3,0,3,4],[4,0,4,4],[5,0,5,4],[6,0,6,4],[7,0,7,4],[8,0,8,6],[9,0,9,4],[10,0,10,4],[23,0,23,1],[12,0,12,4],[13,0,13,4],[14,0,14,4],[15,0,15,4],[16,0,16,1],[17,0,17,4],[18,0,18,6],[19,0,19,2],[20,0,20,2],[21,0,21,1],[22,0,22,1],[41,0,41,3],[30,0,30,1],[31,0,31,1],[32,0,32,1],[33,0,33,1],[34,0,34,1],[35,0,35,1],[36,0,36,6],[37,0,37,3],[38,0,38,3],[39,0,39,3],[40,0,40,3],[48,0,48,3],[49,0,49,3],[50,0,50,6],[51,0,51,6],[42,0,42,3],[43,0,43,3],[44,0,44,3],[45,0,45,3],[46,0,46,3],[47,0,47,3]]}
["Name","Morgenstern, Luna",null,null,null,"weiblich","Jahrgang",2008]
["Verein","TV Blecher",null,null,null,null,"AK",{"$f":"2020-H1","v":12}]
["Übung",null,null,null,null,"Wert","Berechnung","Punkte"]
["Fußdehnung",null,null,null,null,10,"Bild",{"$f":"F4","v":10}]
["Briefmarke mit Armrumpfwinkel",null,null,null,null,6,"Bild",{"$f":"F5","v":6}]
["Bückbeweglichkeit",null,null,null,null,14,"Tabelle",{"$f":"IF(F6=\"\",0,VLOOKUP(F6,Punktetabellen!A10:B15,2,1))","v":4}]
["Querspagat links",null,null,null,null,0,"Tabelle",{"$f":"IF(F7=\"\",0,VLOOKUP(F7,Punktetabellen!A3:B6,2,0))","v":10}]
["Querspagat rechts",null,null,null,null,0,"Tabelle",{"$f":"IF(F8=\"\",0,VLOOKUP(F8,Punktetabellen!A3:B6,2,0))","v":10}]
["Gesamtpunktzahl Beweglichkeit",null,null,null,null,null,null,{"$f":"SUM(H4:H8)","v":40}]
["Übung",null,null,null,null,"Wert","Berechnung","Punktzahl"]
["Klimmzug",null,null,null,null,15,"Tabelle",{"$f":"IF(F11=\"\",0,IF(H2<12,VLOOKUP(F11,Punktetabellen!D4:F14,3,1),VLOOKUP(F11,Punktetabellen!E4:F14,2,1)))","v":10}]
["Beinheben",null,null,null,null,15,"Tabelle",{"$f":"IF(H2=9,VLOOKUP(F12,Punktetabellen!D19:F29,3,1),VLOOKUP(F12,Punktetabellen!E19:F29,2,1))","v":10}]
["Flieger",null,null,null,null,30,"Tabelle",{"$f":"IF(H2=9,VLOOKUP(F13,Punktetabellen!H4:K9,4,1),IF(H2<12,VLOOKUP(F13,Punktetabellen!I4:K9,3,1),VLOOKUP(F13,Punktetabellen!J4:K9,2,1)))","v":0}]
["Rollenverbindung",null,null,null,null,29,"Tabelle",{"$f":"IF(H2=9,VLOOKUP(F14,Punktetabellen!H14:K24,4,1),IF(H2<12,VLOOKUP(F14,Punktetabellen!I14:K24,3,1),VLOOKUP(F14,Punktetabellen!J14:K24,2,1)))","v":10}]
["Prellsprünge",null,null,null,null,33,"Tabelle",{"$f":"IF(H2=9,VLOOKUP(F15,Punktetabellen!M4:Q14,5,1),IF(H2<12,VLOOKUP(F15,Punktetabellen!N4:Q14,4,1),IF(H2<14,VLOOKUP(F15,Punktetabellen!O4:Q14,3,1),VLOOKUP(F15,Punktetabellen!P4:Q14,2,1))))","v":6}]
["Handstandstehen",null,null,null,null,30,"Tabelle",{"$f":"IF(F16=\"\",0,IF(H2<10,VLOOKUP(F16,Punktetabellen!D34:F40,3,1),VLOOKUP(F16,Punktetabellen!E34:F40,2,1)))","v":10}]
["Schweizer, Wiener",null,{"$f":"IF(H2<12,\"\",IF(AND(H2>13,H2<17),\"Schweizer: \",\"Wiener: \"))","v":"Wiener: "},0,{"$f":"IF(H2<12,\"\",IF(AND(H2>13,H2<17),\"Wiener: \",\"Schweizer: \"))","v":"Schweizer: "},5,"Tabelle",{"$f":"IF(H2<12,VLOOKUP(F17,Punktetabellen!A20:B25,2,1),((MIN(5,1*D17)*2)+MIN(MAX(0,5-(1*D17)),(1*F17))))","v":5}]
["Bleep-Test",null,null,null,null,"L8 S11","Tabelle",{"$f":"IF(F18=\"\",0,VLOOKUP(F18,INDIRECT(C55),2,0))","v":9}]
["Gesamtpunktzahl Kraft/Kondition",null,null,null,null,null,null,{"$f":"SUM(H11:H18)","v":60}]
["Übung",null,null,"Max / Soll","Max. Abzug","Abzug / Ist","Berechnung","Punkte"]
["Standsprunghöhe",null,null,{"$f":"IF(F1=\"männlich\",VLOOKUP(H2,Standsprünge!A3:C15,3,0),VLOOKUP(H2,Standsprünge!A3:B15,2,0))","v":14.5},null,14.105,"(Ist - Soll) x 10",{"$f":"IF(F21=\"\",0,(F21-D21)*10)","v":-3.9499999999999957}]
[{"$f":"IF(H2>16,\"entfällt\",\"TBN\")","v":"TBN"},null,"5/4 rw b Rücken (1x)",{"$f":"IF(C22=\"\",\"\",VLOOKUP(C22,INDIRECT($C$62),2,0))","v":7},{"$f":"IF(C22=\"\",\"\",VLOOKUP(C22,INDIRECT($C$62),3,0))","v":6},2,{"$f":"IF(H2>16,\"entfällt\",\"Wert - Abzug\")","v":"Wert - Abzug"},{"$f":"IF(A22=\"entfällt\",0,IF(F22=\"\",0,D22-F22))","v":5}]
[{"$f":"IF(H2>16,\"entfällt\",\"TBN\")","v":"TBN"},null,"Rücken, 2/1 Schraube Rücken (1x)",{"$f":"IF(C23=\"\",\"\",VLOOKUP(C23,INDIRECT($C$62),2,0))","v":4},{"$f":"IF(C23=\"\",\"\",VLOOKUP(C23,INDIRECT($C$62),3,0))","v":2},2,{"$f":"IF(H2>16,\"entfällt\",\"Wert - Abzug\")","v":"Wert - Abzug"},{"$f":"IF(A23=\"entfällt\",0,IF(F23=\"\",0,D23-F23))","v":2}]
[{"$f":"IF(H2>12,\"entfällt\",\"TBN\")","v":"TBN"},null,"Rücken, Salto vw c Rücken (5x)",{"$f":"IF(C24=\"\",\"\",VLOOKUP(C24,INDIRECT($C$62),2,0))","v":5},{"$f":"IF(C24=\"\",\"\",VLOOKUP(C24,INDIRECT($C$62),3,0))","v":4},4,{"$f":"IF(H2>16,\"entfällt\",\"Wert - Abzug\")","v":"Wert - Abzug"},1]
["TN",{"$f":"IF(C25=\"\",\"\",VLOOKUP(C25,INDIRECT($C$65),2,0))","v":"800°"},"Doppelsalto rw c",{"$f":"IF(C25=\"\",\"\",VLOOKUP(C25,INDIRECT($C$65),3,0))","v":10},{"$f":"IF(C25=\"\",\"\",VLOOKUP(C25,INDIRECT($C$65),4,0))","v":6},4,"Wert - Abzug",6]
["TN","700°R","7/4 vw c zum Rücken",8,6,4,"Wert - Abzug",4]
["TN","42/","Schraubensalto",7,6,6,"Wert - Abzug",1]
[{"$f":"IF(H2>12,\"TN\",\"entfällt\")","v":"entfällt"},"",null,"","",null,{"$f":"IF(H2>12,\"Wert - Abzug\",\"entfällt\")","v":"entfällt"},0]
[{"$f":"IF(H2>16,\"TN\",\"entfällt\")","v":"entfällt"},"",null,"","",null,{"$f":"IF(H2>16,\"Wert - Abzug\",\"entfällt\")","v":"entfällt"},0]
[{"$f":"IF(H2>16,\"TN\",\"entfällt\")","v":"entfällt"},"",null,"","",null,{"$f":"IF(H2>16,\"Wert - Abzug\",\"entfällt\")","v":"entfällt"},{"$f":"IF(A30=\"entfällt\",0,IF(F30=\"\",0,D30-F30))","v":0}]
[{"$f":"IF($H$2>11,\"Verbindung Sprung 1\",\"entfällt\")","v":"Verbindung Sprung 1"},null,{"$f":"IF(A31<>\"entfällt\",VLOOKUP(1,INDIRECT($C$73),2,0),\"\")","v":"40°"},{"$f":"IF(A31<>\"entfällt\",VLOOKUP(1,INDIRECT($C$73),3,0),\"\")","v":5},{"$f":"IF(A31<>\"entfällt\",VLOOKUP(1,INDIRECT($C$73),4,0),\"\")","v":3},1,{"$f":"IF(H2>12,\"Wert - Abzug\",\"entfällt\")","v":"entfällt"},{"$f":"IF(A31=\"entfällt\",0,IF(F31=\"\",0,D31-F31))","v":4}]
[{"$f":"IF($H$2>11,\"Verbindung Sprung 2\",\"entfällt\")","v":"Verbindung Sprung 2"},null,{"$f":"IF(A32<>\"entfällt\",VLOOKUP(2,INDIRECT($C$73),2,0),\"\")","v":"41°"},{"$f":"IF(A32<>\"entfällt\",VLOOKUP(2,INDIRECT($C$73),3,0),\"\")","v":6},{"$f":"IF(A32<>\"entfällt\",VLOOKUP(2,INDIRECT($C$73),4,0),\"\")","v":3},2,{"$f":"IF(H2>12,\"Wert - Abzug\",\"entfällt\")","v":"entfällt"},{"$f":"IF(A32=\"entfällt\",0,IF(F32=\"\",0,D32-F32))","v":4}]
[{"$f":"IF($H$2>11,\"Verbindung Sprung 3\",\"entfällt\")","v":"Verbindung Sprung 3"},null,{"$f":"IF(A33<>\"entfällt\",VLOOKUP(3,INDIRECT($C$73),2,0),\"\")","v":"40<"},{"$f":"IF(A33<>\"entfällt\",VLOOKUP(3,INDIRECT($C$73),3,0),\"\")","v":6},{"$f":"IF(A33<>\"entfällt\",VLOOKUP(3,INDIRECT($C$73),4,0),\"\")","v":3},2,{"$f":"IF(H2>12,\"Wert - Abzug\",\"entfällt\")","v":"entfällt"},4]
[{"$f":"IF($H$2>11,\"Verbindung Sprung 4\",\"entfällt\")","v":"Verbindung Sprung 4"},null,{"$f":"IF(A34<>\"entfällt\",VLOOKUP(4,INDIRECT($C$73),2,0),\"\")","v":"41<"},{"$f":"IF(A34<>\"entfällt\",VLOOKUP(4,INDIRECT($C$73),3,0),\"\")","v":6},{"$f":"IF(A34<>\"entfällt\",VLOOKUP(4,INDIRECT($C$73),4,0),\"\")","v":3},2,{"$f":"IF(H2>12,\"Wert - Abzug\",\"entfällt\")","v":"entfällt"},4]
[{"$f":"IF($H$2>11,\"Verbindung Sprung 5\",\"entfällt\")","v":"Verbindung Sprung 5"},null,{"$f":"IF(A35<>\"entfällt\",VLOOKUP(5,INDIRECT($C$73),2,0),\"\")","v":"40/"},{"$f":"IF(A35<>\"entfällt\",VLOOKUP(5,INDIRECT($C$73),3,0),\"\")","v":6},{"$f":"IF(A35<>\"entfällt\",VLOOKUP(5,INDIRECT($C$73),4,0),\"\")","v":3},2,{"$f":"IF(H2>12,\"Wert - Abzug\",\"entfällt\")","v":"entfällt"},4]
[{"$f":"IF($H$2>11,\"Verbindung Sprung 6\",\"entfällt\")","v":"Verbindung Sprung 6"},null,{"$f":"IF(A36<>\"entfällt\",VLOOKUP(6,INDIRECT($C$73),2,0),\"\")","v":"02/"},{"$f":"IF(A36<>\"entfällt\",VLOOKUP(6,INDIRECT($C$73),3,0),\"\")","v":2},{"$f":"IF(A36<>\"entfällt\",VLOOKUP(6,INDIRECT($C$73),4,0),\"\")","v":3},3,{"$f":"IF(H2>12,\"Wert - Abzug\",\"entfällt\")","v":"entfällt"},{"$f":"IF(A36=\"entfällt\",0,IF(F36=\"\",0,D36-F36))","v":-1}]
["Gesamtpunktzahl Trampolin",null,null,null,null,null,null,{"$f":"SUM(H21:H36)","v":34.050000000000004}]
["Element",null,null,null,"Wert","Abzug","Berechnung","Punkte"]
[{"$f":"VLOOKUP(1,INDIRECT($C$70),2,0)","v":"Salto vorwärts mit Anlauf"},null,null,null,{"$f":"VLOOKUP(1,INDIRECT($C$70),3,0)","v":3},0,"Wert - Abzug",{"$f":"IF(E39=\" \",\"\",IF(F39=\"\",0,E39-F39))","v":3}]
[{"$f":"VLOOKUP(2,INDIRECT($C$70),2,0)","v":"Handstand, 1/1 Drehung, Abrollen"},null,null,null,{"$f":"VLOOKUP(2,INDIRECT($C$70),3,0)","v":3},0,"Wert - Abzug",{"$f":"IF(E40=\" \",\"\",IF(F40=\"\",0,E40-F40))","v":3}]
[{"$f":"VLOOKUP(3,INDIRECT($C$70),2,0)","v":"Strecksprung 1/2 Drehung"},null,null,null,{"$f":"VLOOKUP(3,INDIRECT($C$70),3,0)","v":1.5},0,"Wert - Abzug",1.5]
[{"$f":"VLOOKUP(4,INDIRECT($C$70),2,0)","v":"Vorspreizen, Handstandhüpfer, Abrollen Grätschsitz"},null,null,null,{"$f":"VLOOKUP(4,INDIRECT($C$70),3,0)","v":1.5},0,"Wert - Abzug",1.5]
[{"$f":"VLOOKUP(5,INDIRECT($C$70),2,0)","v":"Briefmarke, Rückgrätschen --> Bauchlage"},null,null,null,{"$f":"VLOOKUP(5,INDIRECT($C$70),3,0)","v":3},0.5,"Wert - Abzug",2.5]
[{"$f":"VLOOKUP(6,INDIRECT($C$70),2,0)","v":"Kniestand, Abdrücken gebückt --> Handstand, abrollen"},null,null,null,{"$f":"VLOOKUP(6,INDIRECT($C$70),3,0)","v":3},1.5,"Wert - Abzug",1.5]
[{"$f":"VLOOKUP(7,INDIRECT($C$70),2,0)","v":"Vorspreizen, Standwaage --> abrollen, einbeinig rechts auf"},null,null,null,{"$f":"VLOOKUP(7,INDIRECT($C$70),3,0)","v":3.5},1.5,"Wert - Abzug",2]
[{"$f":"VLOOKUP(8,INDIRECT($C$70),2,0)","v":"Vorspreizen, Standwaage --> abrollen, einbeinig links auf"},null,null,null,{"$f":"VLOOKUP(8,INDIRECT($C$70),3,0)","v":3.5},2,"Wert - Abzug",1.5]
[{"$f":"VLOOKUP(9,INDIRECT($C$70),2,0)","v":"Rolle rückwärts durch Handstand"},null,null,null,{"$f":"VLOOKUP(9,INDIRECT($C$70),3,0)","v":3},2,{"$f":"IF(H2>16,\"\",\"Wert - Abzug\")","v":"Wert - Abzug"},1]
[{"$f":"VLOOKUP(10,INDIRECT($C$70),2,0)","v":"Strecksprung 1/2 Drehung"},null,null,null,{"$f":"VLOOKUP(10,INDIRECT($C$70),3,0)","v":1},0,{"$f":"IF(H2>16,\"\",\"Wert - Abzug\")","v":"Wert - Abzug"},1]
[{"$f":"VLOOKUP(11,INDIRECT($C$70),2,0)","v":"Sprungrolle mit Anlauf"},null,null,null,{"$f":"VLOOKUP(11,INDIRECT($C$70),3,0)","v":2},0,{"$f":"IF(H2>13,\"\",\"Wert - Abzug\")","v":"Wert - Abzug"},2]
[{"$f":"VLOOKUP(12,INDIRECT($C$70),2,0)","v":"Strecksprung 1/1 Drehung"},null,null,null,{"$f":"VLOOKUP(12,INDIRECT($C$70),3,0)","v":2},1,{"$f":"IF(OR(H2=9,H2=12,H2=13),\"Wert - Abzug\",\"\")","v":"Wert - Abzug"},1]
["Gesamtpunktzahl Bodenkomplexübung",null,null,null,null,null,null,{"$f":"SUM(H39:H50)","v":21.5}]
["Gesamtpunktzahl",null,null,null,null,null,null,{"$f":"SUM(H9,H19,H37,H51)","v":155.55000000000001}]
[]
[]
[null,"Shuttles",{"$f":"\"Shuttles_\"&F1&IF(H2=9,\"_9\",IF(H2<12,\"_10_11\",IF(H2<14,\"_12_13\",IF(H2<17,\"_14_16\",\"_17\"))))","v":"Shuttles_weiblich_12_13"}]
[null,null,{"$f":"\"Shuttles_\"&F1&IF(H2=9,\"_9\",IF(H2<12,\"_10_11\",IF(H2<14,\"_12_13\",IF(H2<17,\"_14_16\",\"_17\"))))&\"[Shuttle]\"","v":"Shuttles_weiblich_12_13[Shuttle]"}]
[null,null,{"$f":"\"Shuttles_\"&F1&IF(H2=9,\"_9\",IF(H2<12,\"_10_11\",IF(H2<14,\"_12_13\",IF(H2<17,\"_14_16\",\"_17\"))))&\"[Punkte]\"","v":"Shuttles_weiblich_12_13[Punkte]"}]
[]
[null,"G_TBN TN BKÜ",{"$f":"IF(H2<13,\"beide\",F1)","v":"beide"}]
[null,"AK",{"$f":"IF(OR(H2=9,H2=12),H2,IF(H2<12,\"10_11\",IF(H2<15,\"13_14\",IF(H2<17,\"15_16\",IF(H2<19,\"17_18\",19)))))","v":12}]
[]
[null,"TBN",{"$f":"\"TBN_\"&C59&\"_\"&C60","v":"TBN_beide_12"}]
[null,null,{"$f":"C62&\"[Beschreibung]\"","v":"TBN_beide_12[Beschreibung]"}]
[]
[null,"TN",{"$f":"\"TN_\"&C59&\"_\"&C60","v":"TN_beide_12"}]
[null,null,{"$f":"C65&\"[Beschreibung]\"","v":"TN_beide_12[Beschreibung]"}]
[]
[null,"TV",{"$f":"\"TV_\"&F1&\"_\"&C60","v":"TV_weiblich_12"}]
[]
[null,"BKÜ",{"$f":"\"BKÜ\"&IF(H2=9,\"_9\",IF(H2<12,\"_10_11\",IF(H2<14,\"_12_13\",IF(H2<17,\"_14_16\",\"_17\"))))","v":"BKÜ_12_13"}]
[]
[null,"G_TV",{"$f":"IF(H2<17,\"beide\",F1)","v":"beide"}]
[null,"TV",{"$f":"\"TV_\"&C72&\"_\"&C60","v":"TV_beide_12"}]
[]
[null,{"$f":"SUM(H19,H9,H51)","v":121.5},"Vergleichspunktzahl aus Kraft, Beweglichkeit, Grundlagenausdauer, Bodenübung"]
[null,{"$f":"IF(B75>95,\"Ja\",\"Nein\")","v":"Ja"},"Vergleichspunktzahl erfüllt?"]
[null,{"$f":"IF(F1=\"Weiblich\",VLOOKUP(H2,Punktetabellen!$D$43:$F$49,3,1),VLOOKUP(H2,Punktetabellen!$D$43:$F$49,2,1))","v":129},"Mindest-Gesamtwert"]
[null,{"$f":"IF(H52>=B77,\"Ja\",\"Nein\")","v":"Ja"},"Gesamtwert erfüllt?"]
[null,{"$f":"IF(AND(B76=\"Ja\",B78=\"Ja\"),\"Ja\",\"Nein\")","v":"Ja"},"Alles erfüllt?"]

{"sheet":"SchneiderFiona","index":6,"n_rows":79,"n_cols":8,"rows_kept":79,"cut":false,"hidden":false,"merged":[[11,0,11,4],[0,1,0,4],[1,1,1,5],[2,0,2,4],[3,0,3,4],[4,0,4,4],[5,0,5,4],[6,0,6,4],[7,0,7,4],[8,0,8,6],[9,0,9,4],[10,0,10,4],[23,0,23,1],[12,0,12,4],[13,0,13,4],[14,0,14,4],[15,0,15,4],[16,0,16,1],[17,0,17,4],[18,0,18,6],[19,0,19,2],[20,0,20,2],[21,0,21,1],[22,0,22,1],[41,0,41,3],[30,0,30,1],[31,0,31,1],[32,0,32,1],[33,0,33,1],[34,0,34,1],[35,0,35,1],[36,0,36,6],[37,0,37,3],[38,0,38,3],[39,0,39,3],[40,0,40,3],[48,0,48,3],[49,0,49,3],[50,0,50,6],[51,0,51,6],[42,0,42,3],[43,0,43,3],[44,0,44,3],[45,0,45,3],[46,0,46,3],[47,0,47,3]]}
["Name","Schneider, Fiona",null,null,null,"weiblich","Jahrgang",2004]
["Verein","TV Blecher",null,null,null,null,"AK",{"$f":"2020-H1","v":16}]
["Übung",null,null,null,null,"Wert","Berechnung","Punkte"]
["Fußdehnung",null,null,null,null,10,"Bild",{"$f":"F4","v":10}]
["Briefmarke mit Armrumpfwinkel",null,null,null,null,6,"Bild",{"$f":"F5","v":6}]
["Bückbeweglichkeit",null,null,null,null,22,"Tabelle",{"$f":"IF(F6=\"\",0,VLOOKUP(F6,Punktetabellen!A10:B15,2,1))","v":10}]
["Querspagat links",null,null,null,null,0,"Tabelle",{"$f":"IF(F7=\"\",0,VLOOKUP(F7,Punktetabellen!A3:B6,2,0))","v":10}]
["Querspagat rechts",null,null,null,null,0,"Tabelle",{"$f":"IF(F8=\"\",0,VLOOKUP(F8,Punktetabellen!A3:B6,2,0))","v":10}]
["Gesamtpunktzahl Beweglichkeit",null,null,null,null,null,null,{"$f":"SUM(H4:H8)","v":46}]
["Übung",null,null,null,null,"Wert","Berechnung","Punktzahl"]
["Klimmzug",null,null,null,null,6,"Tabelle",{"$f":"IF(F11=\"\",0,IF(H2<12,VLOOKUP(F11,Punktetabellen!D4:F14,3,1),VLOOKUP(F11,Punktetabellen!E4:F14,2,1)))","v":1}]
["Beinheben",null,null,null,null,6,"Tabelle",{"$f":"IF(H2=9,VLOOKUP(F12,Punktetabellen!D19:F29,3,1),VLOOKUP(F12,Punktetabellen!E19:F29,2,1))","v":2}]
["Flieger",null,null,null,null,65,"Tabelle",{"$f":"IF(H2=9,VLOOKUP(F13,Punktetabellen!H4:K9,4,1),IF(H2<12,VLOOKUP(F13,Punktetabellen!I4:K9,3,1),VLOOKUP(F13,Punktetabellen!J4:K9,2,1)))","v":0}]
["Rollenverbindung",null,null,null,null,29,"Tabelle",{"$f":"IF(H2=9,VLOOKUP(F14,Punktetabellen!H14:K24,4,1),IF(H2<12,VLOOKUP(F14,Punktetabellen!I14:K24,3,1),VLOOKUP(F14,Punktetabellen!J14:K24,2,1)))","v":10}]
["Prellsprünge",null,null,null,null,6,"Tabelle",{"$f":"IF(H2=9,VLOOKUP(F15,Punktetabellen!M4:Q14,5,1),IF(H2<12,VLOOKUP(F15,Punktetabellen!N4:Q14,4,1),IF(H2<14,VLOOKUP(F15,Punktetabellen!O4:Q14,3,1),VLOOKUP(F15,Punktetabellen!P4:Q14,2,1))))","v":6}]
["Handstandstehen",null,null,null,null,30,"Tabelle",{"$f":"IF(F16=\"\",0,IF(H2<10,VLOOKUP(F16,Punktetabellen!D34:F40,3,1),VLOOKUP(F16,Punktetabellen!E34:F40,2,1)))","v":10}]
["Schweizer, Wiener",null,{"$f":"IF(H2<12,\"\",IF(AND(H2>13,H2<17),\"Schweizer: \",\"Wiener: \"))","v":"Schweizer: "},0,{"$f":"IF(H2<12,\"\",IF(AND(H2>13,H2<17),\"Wiener: \",\"Schweizer: \"))","v":"Wiener: "},0,"Tabelle",{"$f":"IF(H2<12,VLOOKUP(F17,Punktetabellen!A20:B25,2,1),((MIN(5,1*D17)*2)+MIN(MAX(0,5-(1*D17)),(1*F17))))","v":0}]
["Bleep-Test",null,null,null,null,"L8 S5","Tabelle",{"$f":"IF(F18=\"\",0,VLOOKUP(F18,INDIRECT(C55),2,0))","v":7}]
["Gesamtpunktzahl Kraft/Kondition",null,null,null,null,null,null,{"$f":"SUM(H11:H18)","v":36}]
["Übung",null,null,"Max / Soll","Max. Abzug","Abzug / Ist","Berechnung","Punkte"]
["Standsprunghöhe",null,null,{"$f":"IF(F1=\"männlich\",VLOOKUP(H2,Standsprünge!A3:C15,3,0),VLOOKUP(H2,Standsprünge!A3:B15,2,0))","v":16.3},null,16.11,"(Ist - Soll) x 10",{"$f":"IF(F21=\"\",0,(F21-D21)*10)","v":-1.9000000000000128}]
[{"$f":"IF(H2>16,\"entfällt\",\"TBN\")","v":"TBN"},null,"7/4 Salto vw c zum Rücken, 1/1 aus",{"$f":"IF(C22=\"\",\"\",VLOOKUP(C22,INDIRECT($C$62),2,0))","v":10},{"$f":"IF(C22=\"\",\"\",VLOOKUP(C22,INDIRECT($C$62),3,0))","v":6},4,{"$f":"IF(H2>16,\"entfällt\",\"Wert - Abzug\")","v":"Wert - Abzug"},{"$f":"IF(A22=\"entfällt\",0,IF(F22=\"\",0,D22-F22))","v":6}]
[{"$f":"IF(H2>16,\"entfällt\",\"TBN\")","v":"TBN"},null,"7/4 Salto vw b zum Rücken, 1/1 aus",{"$f":"IF(C23=\"\",\"\",VLOOKUP(C23,INDIRECT($C$62),2,0))","v":10},{"$f":"IF(C23=\"\",\"\",VLOOKUP(C23,INDIRECT($C$62),3,0))","v":6},2,{"$f":"IF(H2>16,\"entfällt\",\"Wert - Abzug\")","v":"Wert - Abzug"},{"$f":"IF(A23=\"entfällt\",0,IF(F23=\"\",0,D23-F23))","v":8}]
[{"$f":"IF(H2>12,\"entfällt\",\"TBN\")","v":"entfällt"},null,null,{"$f":"IF(C24=\"\",\"\",VLOOKUP(C24,INDIRECT($C$62),2,0))","v":""},{"$f":"IF(C24=\"\",\"\",VLOOKUP(C24,INDIRECT($C$62),3,0))","v":""},null,{"$f":"IF(H2>16,\"entfällt\",\"Wert - Abzug\")","v":"Wert - Abzug"},0]
["TN",{"$f":"IF(C25=\"\",\"\",VLOOKUP(C25,INDIRECT($C$65),2,0))","v":"803°"},"Fliffisrudi c",{"$f":"IF(C25=\"\",\"\",VLOOKUP(C25,INDIRECT($C$65),3,0))","v":13},{"$f":"IF(C25=\"\",\"\",VLOOKUP(C25,INDIRECT($C$65),4,0))","v":6},6,"Wert - Abzug",7]
["TN","",null,"","",null,"Wert - Abzug",0]
["TN","",null,"","",null,"Wert - Abzug",0]
[{"$f":"IF(H2>12,\"TN\",\"entfällt\")","v":"TN"},"",null,"","",null,{"$f":"IF(H2>12,\"Wert - Abzug\",\"entfällt\")","v":"Wert - Abzug"},0]
[{"$f":"IF(H2>16,\"TN\",\"entfällt\")","v":"entfällt"},"",null,"","",null,{"$f":"IF(H2>16,\"Wert - Abzug\",\"entfällt\")","v":"entfällt"},0]
[{"$f":"IF(H2>16,\"TN\",\"entfällt\")","v":"entfällt"},"",null,"","",null,{"$f":"IF(H2>16,\"Wert - Abzug\",\"entfällt\")","v":"entfällt"},{"$f":"IF(A30=\"entfällt\",0,IF(F30=\"\",0,D30-F30))","v":0}]
[{"$f":"IF($H$2>11,\"Verbindung Sprung 1\",\"entfällt\")","v":"Verbindung Sprung 1"},null,{"$f":"IF(A31<>\"entfällt\",VLOOKUP(1,INDIRECT($C$73),2,0),\"\")","v":"801<"},{"$f":"IF(A31<>\"entfällt\",VLOOKUP(1,INDIRECT($C$73),3,0),\"\")","v":13},{"$f":"IF(A31<>\"entfällt\",VLOOKUP(1,INDIRECT($C$73),4,0),\"\")","v":3},2,{"$f":"IF(H2>12,\"Wert - Abzug\",\"entfällt\")","v":"Wert - Abzug"},{"$f":"IF(A31=\"entfällt\",0,IF(F31=\"\",0,D31-F31))","v":11}]
[{"$f":"IF($H$2>11,\"Verbindung Sprung 2\",\"entfällt\")","v":"Verbindung Sprung 2"},null,{"$f":"IF(A32<>\"entfällt\",VLOOKUP(2,INDIRECT($C$73),2,0),\"\")","v":"40<"},{"$f":"IF(A32<>\"entfällt\",VLOOKUP(2,INDIRECT($C$73),3,0),\"\")","v":6},{"$f":"IF(A32<>\"entfällt\",VLOOKUP(2,INDIRECT($C$73),4,0),\"\")","v":3},1,{"$f":"IF(H2>12,\"Wert - Abzug\",\"entfällt\")","v":"Wert - Abzug"},{"$f":"IF(A32=\"entfällt\",0,IF(F32=\"\",0,D32-F32))","v":5}]
[{"$f":"IF($H$2>11,\"Verbindung Sprung 3\",\"entfällt\")","v":"Verbindung Sprung 3"},null,{"$f":"IF(A33<>\"entfällt\",VLOOKUP(3,INDIRECT($C$73),2,0),\"\")","v":"801°"},{"$f":"IF(A33<>\"entfällt\",VLOOKUP(3,INDIRECT($C$73),3,0),\"\")","v":11},{"$f":"IF(A33<>\"entfällt\",VLOOKUP(3,INDIRECT($C$73),4,0),\"\")","v":3},2,{"$f":"IF(H2>12,\"Wert - Abzug\",\"entfällt\")","v":"Wert - Abzug"},9]
[{"$f":"IF($H$2>11,\"Verbindung Sprung 4\",\"entfällt\")","v":"Verbindung Sprung 4"},null,{"$f":"IF(A34<>\"entfällt\",VLOOKUP(4,INDIRECT($C$73),2,0),\"\")","v":"40/"},{"$f":"IF(A34<>\"entfällt\",VLOOKUP(4,INDIRECT($C$73),3,0),\"\")","v":6},{"$f":"IF(A34<>\"entfällt\",VLOOKUP(4,INDIRECT($C$73),4,0),\"\")","v":3},2,{"$f":"IF(H2>12,\"Wert - Abzug\",\"entfällt\")","v":"Wert - Abzug"},4]
[{"$f":"IF($H$2>11,\"Verbindung Sprung 5\",\"entfällt\")","v":"Verbindung Sprung 5"},null,{"$f":"IF(A35<>\"entfällt\",VLOOKUP(5,INDIRECT($C$73),2,0),\"\")","v":"41/"},{"$f":"IF(A35<>\"entfällt\",VLOOKUP(5,INDIRECT($C$73),3,0),\"\")","v":6},{"$f":"IF(A35<>\"entfällt\",VLOOKUP(5,INDIRECT($C$73),4,0),\"\")","v":3},2,{"$f":"IF(H2>12,\"Wert - Abzug\",\"entfällt\")","v":"Wert - Abzug"},4]
[{"$f":"IF($H$2>11,\"Verbindung Sprung 6\",\"entfällt\")","v":"Verbindung Sprung 6"},null,{"$f":"IF(A36<>\"entfällt\",VLOOKUP(6,INDIRECT($C$73),2,0),\"\")","v":"800°"},{"$f":"IF(A36<>\"entfällt\",VLOOKUP(6,INDIRECT($C$73),3,0),\"\")","v":10},{"$f":"IF(A36<>\"entfällt\",VLOOKUP(6,INDIRECT($C$73),4,0),\"\")","v":3},2,{"$f":"IF(H2>12,\"Wert - Abzug\",\"entfällt\")","v":"Wert - Abzug"},{"$f":"IF(A36=\"entfällt\",0,IF(F36=\"\",0,D36-F36))","v":8}]
["Gesamtpunktzahl Trampolin",null,null,null,null,null,null,{"$f":"SUM(H21:H36)","v":60.099999999999987}]
["Element",null,null,null,"Wert","Abzug","Berechnung","Punkte"]
[{"$f":"VLOOKUP(1,INDIRECT($C$70),2,0)","v":"Flugrolle mit Überstrecken mit Anlauf"},null,null,null,{"$f":"VLOOKUP(1,INDIRECT($C$70),3,0)","v":3},0,"Wert - Abzug",{"$f":"IF(E39=\" \",\"\",IF(F39=\"\",0,E39-F39))","v":3}]
[{"$f":"VLOOKUP(2,INDIRECT($C$70),2,0)","v":"--> Strecksprung, Salto vorwärts gehockt"},null,null,null,{"$f":"VLOOKUP(2,INDIRECT($C$70),3,0)","v":4.5},1,"Wert - Abzug",{"$f":"IF(E40=\" \",\"\",IF(F40=\"\",0,E40-F40))","v":3.5}]
[{"$f":"VLOOKUP(3,INDIRECT($C$70),2,0)","v":"Vorspreizen, Handstand mit 1/1 Drehung, abrollen"},null,null,null,{"$f":"VLOOKUP(3,INDIRECT($C$70),3,0)","v":3},0.5,"Wert - Abzug",2.5]
[{"$f":"VLOOKUP(4,INDIRECT($C$70),2,0)","v":"--> Aufstehen mit gestreckten Beinen"},null,null,null,{"$f":"VLOOKUP(4,INDIRECT($C$70),3,0)","v":3},0,"Wert - Abzug",3]
[{"$f":"VLOOKUP(5,INDIRECT($C$70),2,0)","v":"Vorspreizen, Bestellschritt, Strecksprung 3/2 Drehung"},null,null,null,{"$f":"VLOOKUP(5,INDIRECT($C$70),3,0)","v":3},2,"Wert - Abzug",1]
[{"$f":"VLOOKUP(6,INDIRECT($C$70),2,0)","v":"Salto rückwärts gehockt"},null,null,null,{"$f":"VLOOKUP(6,INDIRECT($C$70),3,0)","v":3},1,"Wert - Abzug",2]
[{"$f":"VLOOKUP(7,INDIRECT($C$70),2,0)","v":"Handstützüberschlag"},null,null,null,{"$f":"VLOOKUP(7,INDIRECT($C$70),3,0)","v":3},0.5,"Wert - Abzug",2.5]
[{"$f":"VLOOKUP(8,INDIRECT($C$70),2,0)","v":"--> Ansprung Schrittstellung, Handstand mit zwei Hüpfern"},null,null,null,{"$f":"VLOOKUP(8,INDIRECT($C$70),3,0)","v":3},1,"Wert - Abzug",2]
[{"$f":"VLOOKUP(9,INDIRECT($C$70),2,0)","v":"Abrollen --> Strecksprung 1/2 Drehung"},null,null,null,{"$f":"VLOOKUP(9,INDIRECT($C$70),3,0)","v":1.5},0,{"$f":"IF(H2>16,\"\",\"Wert - Abzug\")","v":"Wert - Abzug"},1.5]
[{"$f":"VLOOKUP(10,INDIRECT($C$70),2,0)","v":"Salto vorwärts gebückt mit Anlauf"},null,null,null,{"$f":"VLOOKUP(10,INDIRECT($C$70),3,0)","v":3},1.5,{"$f":"IF(H2>16,\"\",\"Wert - Abzug\")","v":"Wert - Abzug"},1.5]
[{"$f":"VLOOKUP(11,INDIRECT($C$70),2,0)","v":" "},null,null,null,{"$f":"VLOOKUP(11,INDIRECT($C$70),3,0)","v":" "},null,{"$f":"IF(H2>13,\"\",\"Wert - Abzug\")","v":""},""]
[{"$f":"VLOOKUP(12,INDIRECT($C$70),2,0)","v":" "},null,null,null,{"$f":"VLOOKUP(12,INDIRECT($C$70),3,0)","v":" "},null,{"$f":"IF(OR(H2=9,H2=12,H2=13),\"Wert - Abzug\",\"\")","v":""},""]
["Gesamtpunktzahl Bodenkomplexübung",null,null,null,null,null,null,{"$f":"SUM(H39:H50)","v":22.5}]
["Gesamtpunktzahl",null,null,null,null,null,null,{"$f":"SUM(H9,H19,H37,H51)","v":164.6}]
[]
[]
[null,"Shuttles",{"$f":"\"Shuttles_\"&F1&IF(H2=9,\"_9\",IF(H2<12,\"_10_11\",IF(H2<14,\"_12_13\",IF(H2<17,\"_14_16\",\"_17\"))))","v":"Shuttles_weiblich_14_16"}]
[null,null,{"$f":"\"Shuttles_\"&F1&IF(H2=9,\"_9\",IF(H2<12,\"_10_11\",IF(H2<14,\"_12_13\",IF(H2<17,\"_14_16\",\"_17\"))))&\"[Shuttle]\"","v":"Shuttles_weiblich_14_16[Shuttle]"}]
[null,null,{"$f":"\"Shuttles_\"&F1&IF(H2=9,\"_9\",IF(H2<12,\"_10_11\",IF(H2<14,\"_12_13\",IF(H2<17,\"_14_16\",\"_17\"))))&\"[Punkte]\"","v":"Shuttles_weiblich_14_16[Punkte]"}]
[]
[null,"G_TBN TN BKÜ",{"$f":"IF(H2<13,\"beide\",F1)","v":"weiblich"}]
[null,"AK",{"$f":"IF(OR(H2=9,H2=12),H2,IF(H2<12,\"10_11\",IF(H2<15,\"13_14\",IF(H2<17,\"15_16\",IF(H2<19,\"17_18\",19)))))","v":"15_16"}]
[]
[null,"TBN",{"$f":"\"TBN_\"&C59&\"_\"&C60","v":"TBN_weiblich_15_16"}]
[null,null,{"$f":"C62&\"[Beschreibung]\"","v":"TBN_weiblich_15_16[Beschreibung]"}]
[]
[null,"TN",{"$f":"\"TN_\"&C59&\"_\"&C60","v":"TN_weiblich_15_16"}]
[null,null,{"$f":"C65&\"[Beschreibung]\"","v":"TN_weiblich_15_16[Beschreibung]"}]
[]
[null,"TV",{"$f":"\"TV_\"&F1&\"_\"&C60","v":"TV_weiblich_15_16"}]
[]
[null,"BKÜ",{"$f":"\"BKÜ\"&IF(H2=9,\"_9\",IF(H2<12,\"_10_11\",IF(H2<14,\"_12_13\",IF(H2<17,\"_14_16\",\"_17\"))))","v":"BKÜ_14_16"}]
[]
[null,"G_TV",{"$f":"IF(H2<17,\"beide\",F1)","v":"beide"}]
[null,"TV",{"$f":"\"TV_\"&C72&\"_\"&C60","v":"TV_beide_15_16"}]
[]
[null,{"$f":"SUM(H19,H9,H51)","v":104.5},"Vergleichspunktzahl aus Kraft, Beweglichkeit, Grundlagenausdauer, Bodenübung"]
[null,{"$f":"IF(B75>95,\"Ja\",\"Nein\")","v":"Ja"},"Vergleichspunktzahl erfüllt?"]
[null,{"$f":"IF(F1=\"Weiblich\",VLOOKUP(H2,Punktetabellen!$D$43:$F$49,3,1),VLOOKUP(H2,Punktetabellen!$D$43:$F$49,2,1))","v":159},"Mindest-Gesamtwert"]
[null,{"$f":"IF(H52>=B77,\"Ja\",\"Nein\")","v":"Ja"},"Gesamtwert erfüllt?"]
[null,{"$f":"IF(AND(B76=\"Ja\",B78=\"Ja\"),\"Ja\",\"Nein\")","v":"Ja"},"Alles erfüllt?"]

{"sheet":"MöllerMaya","index":7,"n_rows":79,"n_cols":8,"rows_kept":79,"cut":false,"hidden":false,"merged":[[11,0,11,4],[0,1,0,4],[1,1,1,5],[2,0,2,4],[3,0,3,4],[4,0,4,4],[5,0,5,4],[6,0,6,4],[7,0,7,4],[8,0,8,6],[9,0,9,4],[10,0,10,4],[23,0,23,1],[12,0,12,4],[13,0,13,4],[14,0,14,4],[15,0,15,4],[16,0,16,1],[17,0,17,4],[18,0,18,6],[19,0,19,2],[20,0,20,2],[21,0,21,1],[22,0,22,1],[41,0,41,3],[30,0,30,1],[31,0,31,1],[32,0,32,1],[33,0,33,1],[34,0,34,1],[35,0,35,1],[36,0,36,6],[37,0,37,3],[38,0,38,3],[39,0,39,3],[40,0,40,3],[48,0,48,3],[49,0,49,3],[50,0,50,6],[51,0,51,6],[42,0,42,3],[43,0,43,3],[44,0,44,3],[45,0,45,3],[46,0,46,3],[47,0,47,3]]}
["Name","Möller, Maya",null,null,null,"weiblich","Jahrgang",2007]
["Verein","TG Dietzenbach",null,null,null,null,"AK",{"$f":"2020-H1","v":13}]
["Übung",null,null,null,null,"Wert","Berechnung","Punkte"]
["Fußdehnung",null,null,null,null,10,"Bild",{"$f":"F4","v":10}]
["Briefmarke mit Armrumpfwinkel",null,null,null,null,10,"Bild",{"$f":"F5","v":10}]
["Bückbeweglichkeit",null,null,null,null,14,"Tabelle",{"$f":"IF(F6=\"\",0,VLOOKUP(F6,Punktetabellen!A10:B15,2,1))","v":4}]
["Querspagat links",null,null,null,null,0,"Tabelle",{"$f":"IF(F7=\"\",0,VLOOKUP(F7,Punktetabellen!A3:B6,2,0))","v":10}]
["Querspagat rechts",null,null,null,null,0,"Tabelle",{"$f":"IF(F8=\"\",0,VLOOKUP(F8,Punktetabellen!A3:B6,2,0))","v":10}]
["Gesamtpunktzahl Beweglichkeit",null,null,null,null,null,null,{"$f":"SUM(H4:H8)","v":44}]
["Übung",null,null,null,null,"Wert","Berechnung","Punktzahl"]
["Klimmzug",null,null,null,null,5,"Tabelle",{"$f":"IF(F11=\"\",0,IF(H2<12,VLOOKUP(F11,Punktetabellen!D4:F14,3,1),VLOOKUP(F11,Punktetabellen!E4:F14,2,1)))","v":0}]
["Beinheben",null,null,null,null,0,"Tabelle",{"$f":"IF(H2=9,VLOOKUP(F12,Punktetabellen!D19:F29,3,1),VLOOKUP(F12,Punktetabellen!E19:F29,2,1))","v":0}]
["Flieger",null,null,null,null,90,"Tabelle",{"$f":"IF(H2=9,VLOOKUP(F13,Punktetabellen!H4:K9,4,1),IF(H2<12,VLOOKUP(F13,Punktetabellen!I4:K9,3,1),VLOOKUP(F13,Punktetabellen!J4:K9,2,1)))","v":4}]
["Rollenverbindung",null,null,null,null,14,"Tabelle",{"$f":"IF(H2=9,VLOOKUP(F14,Punktetabellen!H14:K24,4,1),IF(H2<12,VLOOKUP(F14,Punktetabellen!I14:K24,3,1),VLOOKUP(F14,Punktetabellen!J14:K24,2,1)))","v":2}]
["Prellsprünge",null,null,null,null,36,"Tabelle",{"$f":"IF(H2=9,VLOOKUP(F15,Punktetabellen!M4:Q14,5,1),IF(H2<12,VLOOKUP(F15,Punktetabellen!N4:Q14,4,1),IF(H2<14,VLOOKUP(F15,Punktetabellen!O4:Q14,3,1),VLOOKUP(F15,Punktetabellen!P4:Q14,2,1))))","v":8}]
["Handstandstehen",null,null,null,null,30,"Tabelle",{"$f":"IF(F16=\"\",0,IF(H2<10,VLOOKUP(F16,Punktetabellen!D34:F40,3,1),VLOOKUP(F16,Punktetabellen!E34:F40,2,1)))","v":10}]
["Schweizer, Wiener",null,{"$f":"IF(H2<12,\"\",IF(AND(H2>13,H2<17),\"Schweizer: \",\"Wiener: \"))","v":"Wiener: "},null,{"$f":"IF(H2<12,\"\",IF(AND(H2>13,H2<17),\"Wiener: \",\"Schweizer: \"))","v":"Schweizer: "},5,"Tabelle",{"$f":"IF(H2<12,VLOOKUP(F17,Punktetabellen!A20:B25,2,1),((MIN(5,1*D17)*2)+MIN(MAX(0,5-(1*D17)),(1*F17))))","v":5}]
["Bleep-Test",null,null,null,null,"L7 S5","Tabelle",{"$f":"IF(F18=\"\",0,VLOOKUP(F18,INDIRECT(C55),2,0))","v":6}]
["Gesamtpunktzahl Kraft/Kondition",null,null,null,null,null,null,{"$f":"SUM(H11:H18)","v":35}]
["Übung",null,null,"Max / Soll","Max. Abzug","Abzug / Ist","Berechnung","Punkte"]
["Standsprunghöhe",null,null,{"$f":"IF(F1=\"männlich\",VLOOKUP(H2,Standsprünge!A3:C15,3,0),VLOOKUP(H2,Standsprünge!A3:B15,2,0))","v":15.2},null,15.744999999999999,"(Ist - Soll) x 10",{"$f":"IF(F21=\"\",0,(F21-D21)*10)","v":5.4499999999999993}]
[{"$f":"IF(H2>16,\"entfällt\",\"TBN\")","v":"TBN"},null,"7/4 vw b zum Rücken, platt, Arme angelegt",{"$f":"IF(C22=\"\",\"\",VLOOKUP(C22,INDIRECT($C$62),2,0))","v":9},{"$f":"IF(C22=\"\",\"\",VLOOKUP(C22,INDIRECT($C$62),3,0))","v":6},4,{"$f":"IF(H2>16,\"entfällt\",\"Wert - Abzug\")","v":"Wert - Abzug"},{"$f":"IF(A22=\"entfällt\",0,IF(F22=\"\",0,D22-F22))","v":5}]
[{"$f":"IF(H2>16,\"entfällt\",\"TBN\")","v":"TBN"},null,"7/4 rw c zum Rücken, 1/2 Schraube ein",{"$f":"IF(C23=\"\",\"\",VLOOKUP(C23,INDIRECT($C$62),2,0))","v":9},{"$f":"IF(C23=\"\",\"\",VLOOKUP(C23,INDIRECT($C$62),3,0))","v":6},6,{"$f":"IF(H2>16,\"entfällt\",\"Wert - Abzug\")","v":"Wert - Abzug"},{"$f":"IF(A23=\"entfällt\",0,IF(F23=\"\",0,D23-F23))","v":3}]
[{"$f":"IF(H2>12,\"entfällt\",\"TBN\")","v":"entfällt"},null,null,{"$f":"IF(C24=\"\",\"\",VLOOKUP(C24,INDIRECT($C$62),2,0))","v":""},{"$f":"IF(C24=\"\",\"\",VLOOKUP(C24,INDIRECT($C$62),3,0))","v":""},null,{"$f":"IF(H2>16,\"entfällt\",\"Wert - Abzug\")","v":"Wert - Abzug"},0]
["TN",{"$f":"IF(C25=\"\",\"\",VLOOKUP(C25,INDIRECT($C$65),2,0))","v":"801°"},"Fliffis c",{"$f":"IF(C25=\"\",\"\",VLOOKUP(C25,INDIRECT($C$65),3,0))","v":11},{"$f":"IF(C25=\"\",\"\",VLOOKUP(C25,INDIRECT($C$65),4,0))","v":6},2,"Wert - Abzug",9]
["TN","801<","Fliffis b",13,6,2,"Wert - Abzug",11]
["TN","800<","Doppelsalto rw b",12,6,4,"Wert - Abzug",8]
[{"$f":"IF(H2>12,\"TN\",\"entfällt\")","v":"TN"},"43/","Rudolf",8,6,4,{"$f":"IF(H2>12,\"Wert - Abzug\",\"entfällt\")","v":"Wert - Abzug"},4]
[{"$f":"IF(H2>16,\"TN\",\"entfällt\")","v":"entfällt"},"",null,"","",null,{"$f":"IF(H2>16,\"Wert - Abzug\",\"entfällt\")","v":"entfällt"},0]
[{"$f":"IF(H2>16,\"TN\",\"entfällt\")","v":"entfällt"},"",null,"","",null,{"$f":"IF(H2>16,\"Wert - Abzug\",\"entfällt\")","v":"entfällt"},{"$f":"IF(A30=\"entfällt\",0,IF(F30=\"\",0,D30-F30))","v":0}]
[{"$f":"IF($H$2>11,\"Verbindung Sprung 1\",\"entfällt\")","v":"Verbindung Sprung 1"},null,{"$f":"IF(A31<>\"entfällt\",VLOOKUP(1,INDIRECT($C$73),2,0),\"\")","v":"40/"},{"$f":"IF(A31<>\"entfällt\",VLOOKUP(1,INDIRECT($C$73),3,0),\"\")","v":6},{"$f":"IF(A31<>\"entfällt\",VLOOKUP(1,INDIRECT($C$73),4,0),\"\")","v":3},1,{"$f":"IF(H2>12,\"Wert - Abzug\",\"entfällt\")","v":"Wert - Abzug"},{"$f":"IF(A31=\"entfällt\",0,IF(F31=\"\",0,D31-F31))","v":5}]
[{"$f":"IF($H$2>11,\"Verbindung Sprung 2\",\"entfällt\")","v":"Verbindung Sprung 2"},null,{"$f":"IF(A32<>\"entfällt\",VLOOKUP(2,INDIRECT($C$73),2,0),\"\")","v":"41/"},{"$f":"IF(A32<>\"entfällt\",VLOOKUP(2,INDIRECT($C$73),3,0),\"\")","v":6},{"$f":"IF(A32<>\"entfällt\",VLOOKUP(2,INDIRECT($C$73),4,0),\"\")","v":3},2,{"$f":"IF(H2>12,\"Wert - Abzug\",\"entfällt\")","v":"Wert - Abzug"},{"$f":"IF(A32=\"entfällt\",0,IF(F32=\"\",0,D32-F32))","v":4}]
[{"$f":"IF($H$2>11,\"Verbindung Sprung 3\",\"entfällt\")","v":"Verbindung Sprung 3"},null,{"$f":"IF(A33<>\"entfällt\",VLOOKUP(3,INDIRECT($C$73),2,0),\"\")","v":"42/"},{"$f":"IF(A33<>\"entfällt\",VLOOKUP(3,INDIRECT($C$73),3,0),\"\")","v":7},{"$f":"IF(A33<>\"entfällt\",VLOOKUP(3,INDIRECT($C$73),4,0),\"\")","v":3},3,{"$f":"IF(H2>12,\"Wert - Abzug\",\"entfällt\")","v":"Wert - Abzug"},4]
[{"$f":"IF($H$2>11,\"Verbindung Sprung 4\",\"entfällt\")","v":"Verbindung Sprung 4"},null,{"$f":"IF(A34<>\"entfällt\",VLOOKUP(4,INDIRECT($C$73),2,0),\"\")","v":"40°"},{"$f":"IF(A34<>\"entfällt\",VLOOKUP(4,INDIRECT($C$73),3,0),\"\")","v":5},{"$f":"IF(A34<>\"entfällt\",VLOOKUP(4,INDIRECT($C$73),4,0),\"\")","v":3},3,{"$f":"IF(H2>12,\"Wert - Abzug\",\"entfällt\")","v":"Wert - Abzug"},2]
[{"$f":"IF($H$2>11,\"Verbindung Sprung 5\",\"entfällt\")","v":"Verbindung Sprung 5"},null,{"$f":"IF(A35<>\"entfällt\",VLOOKUP(5,INDIRECT($C$73),2,0),\"\")","v":"41°"},{"$f":"IF(A35<>\"entfällt\",VLOOKUP(5,INDIRECT($C$73),3,0),\"\")","v":6},{"$f":"IF(A35<>\"entfällt\",VLOOKUP(5,INDIRECT($C$73),4,0),\"\")","v":3},2,{"$f":"IF(H2>12,\"Wert - Abzug\",\"entfällt\")","v":"Wert - Abzug"},4]
[{"$f":"IF($H$2>11,\"Verbindung Sprung 6\",\"entfällt\")","v":"Verbindung Sprung 6"},null,{"$f":"IF(A36<>\"entfällt\",VLOOKUP(6,INDIRECT($C$73),2,0),\"\")","v":"800°"},{"$f":"IF(A36<>\"entfällt\",VLOOKUP(6,INDIRECT($C$73),3,0),\"\")","v":10},{"$f":"IF(A36<>\"entfällt\",VLOOKUP(6,INDIRECT($C$73),4,0),\"\")","v":3},3,{"$f":"IF(H2>12,\"Wert - Abzug\",\"entfällt\")","v":"Wert - Abzug"},{"$f":"IF(A36=\"entfällt\",0,IF(F36=\"\",0,D36-F36))","v":7}]
["Gesamtpunktzahl Trampolin",null,null,null,null,null,null,{"$f":"SUM(H21:H36)","v":71.45}]
["Element",null,null,null,"Wert","Abzug","Berechnung","Punkte"]
[{"$f":"VLOOKUP(1,INDIRECT($C$70),2,0)","v":"Salto vorwärts mit Anlauf"},null,null,null,{"$f":"VLOOKUP(1,INDIRECT($C$70),3,0)","v":3},1,"Wert - Abzug",{"$f":"IF(E39=\" \",\"\",IF(F39=\"\",0,E39-F39))","v":2}]
[{"$f":"VLOOKUP(2,INDIRECT($C$70),2,0)","v":"Handstand, 1/1 Drehung, Abrollen"},null,null,null,{"$f":"VLOOKUP(2,INDIRECT($C$70),3,0)","v":3},0,"Wert - Abzug",{"$f":"IF(E40=\" \",\"\",IF(F40=\"\",0,E40-F40))","v":3}]
[{"$f":"VLOOKUP(3,INDIRECT($C$70),2,0)","v":"Strecksprung 1/2 Drehung"},null,null,null,{"$f":"VLOOKUP(3,INDIRECT($C$70),3,0)","v":1.5},0,"Wert - Abzug",1.5]
[{"$f":"VLOOKUP(4,INDIRECT($C$70),2,0)","v":"Vorspreizen, Handstandhüpfer, Abrollen Grätschsitz"},null,null,null,{"$f":"VLOOKUP(4,INDIRECT($C$70),3,0)","v":1.5},0,"Wert - Abzug",1.5]
[{"$f":"VLOOKUP(5,INDIRECT($C$70),2,0)","v":"Briefmarke, Rückgrätschen --> Bauchlage"},null,null,null,{"$f":"VLOOKUP(5,INDIRECT($C$70),3,0)","v":3},1.5,"Wert - Abzug",1.5]
[{"$f":"VLOOKUP(6,INDIRECT($C$70),2,0)","v":"Kniestand, Abdrücken gebückt --> Handstand, abrollen"},null,null,null,{"$f":"VLOOKUP(6,INDIRECT($C$70),3,0)","v":3},1,"Wert - Abzug",2]
[{"$f":"VLOOKUP(7,INDIRECT($C$70),2,0)","v":"Vorspreizen, Standwaage --> abrollen, einbeinig rechts auf"},null,null,null,{"$f":"VLOOKUP(7,INDIRECT($C$70),3,0)","v":3.5},2.5,"Wert - Abzug",1]
[{"$f":"VLOOKUP(8,INDIRECT($C$70),2,0)","v":"Vorspreizen, Standwaage --> abrollen, einbeinig links auf"},null,null,null,{"$f":"VLOOKUP(8,INDIRECT($C$70),3,0)","v":3.5},2.5,"Wert - Abzug",1]
[{"$f":"VLOOKUP(9,INDIRECT($C$70),2,0)","v":"Rolle rückwärts durch Handstand"},null,null,null,{"$f":"VLOOKUP(9,INDIRECT($C$70),3,0)","v":3},null,{"$f":"IF(H2>16,\"\",\"Wert - Abzug\")","v":"Wert - Abzug"},0]
[{"$f":"VLOOKUP(10,INDIRECT($C$70),2,0)","v":"Strecksprung 1/2 Drehung"},null,null,null,{"$f":"VLOOKUP(10,INDIRECT($C$70),3,0)","v":1},0,{"$f":"IF(H2>16,\"\",\"Wert - Abzug\")","v":"Wert - Abzug"},1]
[{"$f":"VLOOKUP(11,INDIRECT($C$70),2,0)","v":"Sprungrolle mit Anlauf"},null,null,null,{"$f":"VLOOKUP(11,INDIRECT($C$70),3,0)","v":2},0,{"$f":"IF(H2>13,\"\",\"Wert - Abzug\")","v":"Wert - Abzug"},2]
[{"$f":"VLOOKUP(12,INDIRECT($C$70),2,0)","v":"Strecksprung 1/1 Drehung"},null,null,null,{"$f":"VLOOKUP(12,INDIRECT($C$70),3,0)","v":2},0.5,{"$f":"IF(OR(H2=9,H2=12,H2=13),\"Wert - Abzug\",\"\")","v":"Wert - Abzug"},1.5]
["Gesamtpunktzahl Bodenkomplexübung",null,null,null,null,null,null,{"$f":"SUM(H39:H50)","v":18}]
["Gesamtpunktzahl",null,null,null,null,null,null,{"$f":"SUM(H9,H19,H37,H51)","v":168.45}]
[]
[]
[null,"Shuttles",{"$f":"\"Shuttles_\"&F1&IF(H2=9,\"_9\",IF(H2<12,\"_10_11\",IF(H2<14,\"_12_13\",IF(H2<17,\"_14_16\",\"_17\"))))","v":"Shuttles_weiblich_12_13"}]
[null,null,{"$f":"\"Shuttles_\"&F1&IF(H2=9,\"_9\",IF(H2<12,\"_10_11\",IF(H2<14,\"_12_13\",IF(H2<17,\"_14_16\",\"_17\"))))&\"[Shuttle]\"","v":"Shuttles_weiblich_12_13[Shuttle]"}]
[null,null,{"$f":"\"Shuttles_\"&F1&IF(H2=9,\"_9\",IF(H2<12,\"_10_11\",IF(H2<14,\"_12_13\",IF(H2<17,\"_14_16\",\"_17\"))))&\"[Punkte]\"","v":"Shuttles_weiblich_12_13[Punkte]"}]
[]
[null,"G_TBN TN BKÜ",{"$f":"IF(H2<13,\"beide\",F1)","v":"weiblich"}]
[null,"AK",{"$f":"IF(OR(H2=9,H2=12),H2,IF(H2<12,\"10_11\",IF(H2<15,\"13_14\",IF(H2<17,\"15_16\",IF(H2<19,\"17_18\",19)))))","v":"13_14"}]
[]
[null,"TBN",{"$f":"\"TBN_\"&C59&\"_\"&C60","v":"TBN_weiblich_13_14"}]
[null,null,{"$f":"C62&\"[Beschreibung]\"","v":"TBN_weiblich_13_14[Beschreibung]"}]
[]
[null,"TN",{"$f":"\"TN_\"&C59&\"_\"&C60","v":"TN_weiblich_13_14"}]
[null,null,{"$f":"C65&\"[Beschreibung]\"","v":"TN_weiblich_13_14[Beschreibung]"}]
[]
[null,"TV",{"$f":"\"TV_\"&F1&\"_\"&C60","v":"TV_weiblich_13_14"}]
[]
[null,"BKÜ",{"$f":"\"BKÜ\"&IF(H2=9,\"_9\",IF(H2<12,\"_10_11\",IF(H2<14,\"_12_13\",IF(H2<17,\"_14_16\",\"_17\"))))","v":"BKÜ_12_13"}]
[]
[null,"G_TV",{"$f":"IF(H2<17,\"beide\",F1)","v":"beide"}]
[null,"TV",{"$f":"\"TV_\"&C72&\"_\"&C60","v":"TV_beide_13_14"}]
[]
[null,{"$f":"SUM(H19,H9,H51)","v":97},"Vergleichspunktzahl aus Kraft, Beweglichkeit, Grundlagenausdauer, Bodenübung"]
[null,{"$f":"IF(B75>95,\"Ja\",\"Nein\")","v":"Ja"},"Vergleichspunktzahl erfüllt?"]
[null,{"$f":"IF(F1=\"Weiblich\",VLOOKUP(H2,Punktetabellen!$D$43:$F$49,3,1),VLOOKUP(H2,Punktetabellen!$D$43:$F$49,2,1))","v":143},"Mindest-Gesamtwert"]
[null,{"$f":"IF(H52>=B77,\"Ja\",\"Nein\")","v":"Ja"},"Gesamtwert erfüllt?"]
[null,{"$f":"IF(AND(B76=\"Ja\",B78=\"Ja\"),\"Ja\",\"Nein\")","v":"Ja"},"Alles erfüllt?"]

{"sheet":"FeyhMiguel","index":8,"n_rows":79,"n_cols":8,"rows_kept":79,"cut":false,"hidden":false,"merged":[[11,0,11,4],[0,1,0,4],[1,1,1,5],[2,0,2,4],[3,0,3,4],[4,0,4,4],[5,0,5,4],[6,0,6,4],[7,0,7,4],[8,0,8,6],[9,0,9,4],[10,0,10,4],[23,0,23,1],[12,0,12,4],[13,0,13,4],[14,0,14,4],[15,0,15,4],[16,0,16,1],[17,0,17,4],[18,0,18,6],[19,0,19,2],[20,0,20,2],[21,0,21,1],[22,0,22,1],[41,0,41,3],[30,0,30,1],[31,0,31,1],[32,0,32,1],[33,0,33,1],[34,0,34,1],[35,0,35,1],[36,0,36,6],[37,0,37,3],[38,0,38,3],[39,0,39,3],[40,0,40,3],[48,0,48,3],[49,0,49,3],[50,0,50,6],[51,0,51,6],[42,0,42,3],[43,0,43,3],[44,0,44,3],[45,0,45,3],[46,0,46,3],[47,0,47,3]]}
["Name","Feyh, Miguel",null,null,null,"männlich","Jahrgang",2005]
["Verein","Frankfurt Flyers",null,null,null,null,"AK",{"$f":"2020-H1","v":15}]
["Übung",null,null,null,null,"Wert","Berechnung","Punkte"]
["Fußdehnung",null,null,null,null,10,"Bild",{"$f":"F4","v":10}]
["Briefmarke mit Armrumpfwinkel",null,null,null,null,2,"Bild",{"$f":"F5","v":2}]
["Bückbeweglichkeit",null,null,null,null,17,"Tabelle",{"$f":"IF(F6=\"\",0,VLOOKUP(F6,Punktetabellen!A10:B15,2,1))","v":6}]
["Querspagat links",null,null,null,null,"<10 cm","Tabelle",{"$f":"IF(F7=\"\",0,VLOOKUP(F7,Punktetabellen!A3:B6,2,0))","v":2}]
["Querspagat rechts",null,null,null,null,"<10 cm","Tabelle",{"$f":"IF(F8=\"\",0,VLOOKUP(F8,Punktetabellen!A3:B6,2,0))","v":2}]
["Gesamtpunktzahl Beweglichkeit",null,null,null,null,null,null,{"$f":"SUM(H4:H8)","v":22}]
["Übung",null,null,null,null,"Wert","Berechnung","Punktzahl"]
["Klimmzug",null,null,null,null,15,"Tabelle",{"$f":"IF(F11=\"\",0,IF(H2<12,VLOOKUP(F11,Punktetabellen!D4:F14,3,1),VLOOKUP(F11,Punktetabellen!E4:F14,2,1)))","v":10}]
["Beinheben",null,null,null,null,11,"Tabelle",{"$f":"IF(H2=9,VLOOKUP(F12,Punktetabellen!D19:F29,3,1),VLOOKUP(F12,Punktetabellen!E19:F29,2,1))","v":6}]
["Flieger",null,null,null,null,90,"Tabelle",{"$f":"IF(H2=9,VLOOKUP(F13,Punktetabellen!H4:K9,4,1),IF(H2<12,VLOOKUP(F13,Punktetabellen!I4:K9,3,1),VLOOKUP(F13,Punktetabellen!J4:K9,2,1)))","v":4}]
["Rollenverbindung",null,null,null,null,29,"Tabelle",{"$f":"IF(H2=9,VLOOKUP(F14,Punktetabellen!H14:K24,4,1),IF(H2<12,VLOOKUP(F14,Punktetabellen!I14:K24,3,1),VLOOKUP(F14,Punktetabellen!J14:K24,2,1)))","v":10}]
["Prellsprünge",null,null,null,null,10,"Tabelle",{"$f":"IF(H2=9,VLOOKUP(F15,Punktetabellen!M4:Q14,5,1),IF(H2<12,VLOOKUP(F15,Punktetabellen!N4:Q14,4,1),IF(H2<14,VLOOKUP(F15,Punktetabellen!O4:Q14,3,1),VLOOKUP(F15,Punktetabellen!P4:Q14,2,1))))","v":10}]
["Handstandstehen",null,null,null,null,30,"Tabelle",{"$f":"IF(F16=\"\",0,IF(H2<10,VLOOKUP(F16,Punktetabellen!D34:F40,3,1),VLOOKUP(F16,Punktetabellen!E34:F40,2,1)))","v":10}]
["Schweizer, Wiener",null,{"$f":"IF(H2<12,\"\",IF(AND(H2>13,H2<17),\"Schweizer: \",\"Wiener: \"))","v":"Schweizer: "},1,{"$f":"IF(H2<12,\"\",IF(AND(H2>13,H2<17),\"Wiener: \",\"Schweizer: \"))","v":"Wiener: "},0,"Tabelle",{"$f":"IF(H2<12,VLOOKUP(F17,Punktetabellen!A20:B25,2,1),((MIN(5,1*D17)*2)+MIN(MAX(0,5-(1*D17)),(1*F17))))","v":2}]
["Bleep-Test",null,null,null,null,"L7 S10","Tabelle",{"$f":"IF(F18=\"\",0,VLOOKUP(F18,INDIRECT(C55),2,0))","v":2}]
["Gesamtpunktzahl Kraft/Kondition",null,null,null,null,null,null,{"$f":"SUM(H11:H18)","v":54}]
["Übung",null,null,"Max / Soll","Max. Abzug","Abzug / Ist","Berechnung","Punkte"]
["Standsprunghöhe",null,null,{"$f":"IF(F1=\"männlich\",VLOOKUP(H2,Standsprünge!A3:C15,3,0),VLOOKUP(H2,Standsprünge!A3:B15,2,0))","v":16.3},null,17.239999999999998,"(Ist - Soll) x 10",{"$f":"IF(F21=\"\",0,(F21-D21)*10)","v":9.3999999999999773}]
[{"$f":"IF(H2>16,\"entfällt\",\"TBN\")","v":"TBN"},null,"7/4 Salto rw c, 1/1 ein 1/2 aus",{"$f":"IF(C22=\"\",\"\",VLOOKUP(C22,INDIRECT($C$62),2,0))","v":11},{"$f":"IF(C22=\"\",\"\",VLOOKUP(C22,INDIRECT($C$62),3,0))","v":6},2,{"$f":"IF(H2>16,\"entfällt\",\"Wert - Abzug\")","v":"Wert - Abzug"},{"$f":"IF(A22=\"entfällt\",0,IF(F22=\"\",0,D22-F22))","v":9}]
[{"$f":"IF(H2>16,\"entfällt\",\"TBN\")","v":"TBN"},null,"7/4 Salto vw b zum Rücken, 1/1 aus",{"$f":"IF(C23=\"\",\"\",VLOOKUP(C23,INDIRECT($C$62),2,0))","v":10},{"$f":"IF(C23=\"\",\"\",VLOOKUP(C23,INDIRECT($C$62),3,0))","v":6},2,{"$f":"IF(H2>16,\"entfällt\",\"Wert - Abzug\")","v":"Wert - Abzug"},{"$f":"IF(A23=\"entfällt\",0,IF(F23=\"\",0,D23-F23))","v":8}]
[{"$f":"IF(H2>12,\"entfällt\",\"TBN\")","v":"entfällt"},null,null,{"$f":"IF(C24=\"\",\"\",VLOOKUP(C24,INDIRECT($C$62),2,0))","v":""},{"$f":"IF(C24=\"\",\"\",VLOOKUP(C24,INDIRECT($C$62),3,0))","v":""},null,{"$f":"IF(H2>16,\"entfällt\",\"Wert - Abzug\")","v":"Wert - Abzug"},0]
["TN",{"$f":"IF(C25=\"\",\"\",VLOOKUP(C25,INDIRECT($C$65),2,0))","v":"821<"},"1/1 ein 1/2 aus b",{"$f":"IF(C25=\"\",\"\",VLOOKUP(C25,INDIRECT($C$65),3,0))","v":15},{"$f":"IF(C25=\"\",\"\",VLOOKUP(C25,INDIRECT($C$65),4,0))","v":6},4,"Wert - Abzug",11]
["TN","803<","Fliffisrudi b",15,6,6,"Wert - Abzug",9]
["TN","822°","1/1 ein 1/1 aus c",14,6,6,"Wert - Abzug",8]
[{"$f":"IF(H2>12,\"TN\",\"entfällt\")","v":"TN"},"811<","1/2 ein 1/2 aus b",14,6,6,{"$f":"IF(H2>12,\"Wert - Abzug\",\"entfällt\")","v":"Wert - Abzug"},8]
[{"$f":"IF(H2>16,\"TN\",\"entfällt\")","v":"entfällt"},"",null,"","",null,{"$f":"IF(H2>16,\"Wert - Abzug\",\"entfällt\")","v":"entfällt"},0]
[{"$f":"IF(H2>16,\"TN\",\"entfällt\")","v":"entfällt"},"",null,"","",null,{"$f":"IF(H2>16,\"Wert - Abzug\",\"entfällt\")","v":"entfällt"},{"$f":"IF(A30=\"entfällt\",0,IF(F30=\"\",0,D30-F30))","v":0}]
[{"$f":"IF($H$2>11,\"Verbindung Sprung 1\",\"entfällt\")","v":"Verbindung Sprung 1"},null,{"$f":"IF(A31<>\"entfällt\",VLOOKUP(1,INDIRECT($C$73),2,0),\"\")","v":"801<"},{"$f":"IF(A31<>\"entfällt\",VLOOKUP(1,INDIRECT($C$73),3,0),\"\")","v":13},{"$f":"IF(A31<>\"entfällt\",VLOOKUP(1,INDIRECT($C$73),4,0),\"\")","v":3},2,{"$f":"IF(H2>12,\"Wert - Abzug\",\"entfällt\")","v":"Wert - Abzug"},{"$f":"IF(A31=\"entfällt\",0,IF(F31=\"\",0,D31-F31))","v":11}]
[{"$f":"IF($H$2>11,\"Verbindung Sprung 2\",\"entfällt\")","v":"Verbindung Sprung 2"},null,{"$f":"IF(A32<>\"entfällt\",VLOOKUP(2,INDIRECT($C$73),2,0),\"\")","v":"40<"},{"$f":"IF(A32<>\"entfällt\",VLOOKUP(2,INDIRECT($C$73),3,0),\"\")","v":6},{"$f":"IF(A32<>\"entfällt\",VLOOKUP(2,INDIRECT($C$73),4,0),\"\")","v":3},2,{"$f":"IF(H2>12,\"Wert - Abzug\",\"entfällt\")","v":"Wert - Abzug"},{"$f":"IF(A32=\"entfällt\",0,IF(F32=\"\",0,D32-F32))","v":4}]
[{"$f":"IF($H$2>11,\"Verbindung Sprung 3\",\"entfällt\")","v":"Verbindung Sprung 3"},null,{"$f":"IF(A33<>\"entfällt\",VLOOKUP(3,INDIRECT($C$73),2,0),\"\")","v":"801°"},{"$f":"IF(A33<>\"entfällt\",VLOOKUP(3,INDIRECT($C$73),3,0),\"\")","v":11},{"$f":"IF(A33<>\"entfällt\",VLOOKUP(3,INDIRECT($C$73),4,0),\"\")","v":3},1,{"$f":"IF(H2>12,\"Wert - Abzug\",\"entfällt\")","v":"Wert - Abzug"},10]
[{"$f":"IF($H$2>11,\"Verbindung Sprung 4\",\"entfällt\")","v":"Verbindung Sprung 4"},null,{"$f":"IF(A34<>\"entfällt\",VLOOKUP(4,INDIRECT($C$73),2,0),\"\")","v":"40/"},{"$f":"IF(A34<>\"entfällt\",VLOOKUP(4,INDIRECT($C$73),3,0),\"\")","v":6},{"$f":"IF(A34<>\"entfällt\",VLOOKUP(4,INDIRECT($C$73),4,0),\"\")","v":3},2,{"$f":"IF(H2>12,\"Wert - Abzug\",\"entfällt\")","v":"Wert - Abzug"},4]
[{"$f":"IF($H$2>11,\"Verbindung Sprung 5\",\"entfällt\")","v":"Verbindung Sprung 5"},null,{"$f":"IF(A35<>\"entfällt\",VLOOKUP(5,INDIRECT($C$73),2,0),\"\")","v":"41/"},{"$f":"IF(A35<>\"entfällt\",VLOOKUP(5,INDIRECT($C$73),3,0),\"\")","v":6},{"$f":"IF(A35<>\"entfällt\",VLOOKUP(5,INDIRECT($C$73),4,0),\"\")","v":3},2,{"$f":"IF(H2>12,\"Wert - Abzug\",\"entfällt\")","v":"Wert - Abzug"},4]
[{"$f":"IF($H$2>11,\"Verbindung Sprung 6\",\"entfällt\")","v":"Verbindung Sprung 6"},null,{"$f":"IF(A36<>\"entfällt\",VLOOKUP(6,INDIRECT($C$73),2,0),\"\")","v":"800°"},{"$f":"IF(A36<>\"entfällt\",VLOOKUP(6,INDIRECT($C$73),3,0),\"\")","v":10},{"$f":"IF(A36<>\"entfällt\",VLOOKUP(6,INDIRECT($C$73),4,0),\"\")","v":3},1,{"$f":"IF(H2>12,\"Wert - Abzug\",\"entfällt\")","v":"Wert - Abzug"},{"$f":"IF(A36=\"entfällt\",0,IF(F36=\"\",0,D36-F36))","v":9}]
["Gesamtpunktzahl Trampolin",null,null,null,null,null,null,{"$f":"SUM(H21:H36)","v":104.39999999999998}]
["Element",null,null,null,"Wert","Abzug","Berechnung","Punkte"]
[{"$f":"VLOOKUP(1,INDIRECT($C$70),2,0)","v":"Flugrolle mit Überstrecken mit Anlauf"},null,null,null,{"$f":"VLOOKUP(1,INDIRECT($C$70),3,0)","v":3},1.5,"Wert - Abzug",{"$f":"IF(E39=\" \",\"\",IF(F39=\"\",0,E39-F39))","v":1.5}]
[{"$f":"VLOOKUP(2,INDIRECT($C$70),2,0)","v":"--> Strecksprung, Salto vorwärts gehockt"},null,null,null,{"$f":"VLOOKUP(2,INDIRECT($C$70),3,0)","v":4.5},0.5,"Wert - Abzug",{"$f":"IF(E40=\" \",\"\",IF(F40=\"\",0,E40-F40))","v":4}]
[{"$f":"VLOOKUP(3,INDIRECT($C$70),2,0)","v":"Vorspreizen, Handstand mit 1/1 Drehung, abrollen"},null,null,null,{"$f":"VLOOKUP(3,INDIRECT($C$70),3,0)","v":3},0,"Wert - Abzug",3]
[{"$f":"VLOOKUP(4,INDIRECT($C$70),2,0)","v":"--> Aufstehen mit gestreckten Beinen"},null,null,null,{"$f":"VLOOKUP(4,INDIRECT($C$70),3,0)","v":3},0,"Wert - Abzug",3]
[{"$f":"VLOOKUP(5,INDIRECT($C$70),2,0)","v":"Vorspreizen, Bestellschritt, Strecksprung 3/2 Drehung"},null,null,null,{"$f":"VLOOKUP(5,INDIRECT($C$70),3,0)","v":3},0.5,"Wert - Abzug",2.5]
[{"$f":"VLOOKUP(6,INDIRECT($C$70),2,0)","v":"Salto rückwärts gehockt"},null,null,null,{"$f":"VLOOKUP(6,INDIRECT($C$70),3,0)","v":3},0.5,"Wert - Abzug",2.5]
[{"$f":"VLOOKUP(7,INDIRECT($C$70),2,0)","v":"Handstützüberschlag"},null,null,null,{"$f":"VLOOKUP(7,INDIRECT($C$70),3,0)","v":3},0.5,"Wert - Abzug",2.5]
[{"$f":"VLOOKUP(8,INDIRECT($C$70),2,0)","v":"--> Ansprung Schrittstellung, Handstand mit zwei Hüpfern"},null,null,null,{"$f":"VLOOKUP(8,INDIRECT($C$70),3,0)","v":3},0,"Wert - Abzug",3]
[{"$f":"VLOOKUP(9,INDIRECT($C$70),2,0)","v":"Abrollen --> Strecksprung 1/2 Drehung"},null,null,null,{"$f":"VLOOKUP(9,INDIRECT($C$70),3,0)","v":1.5},1,{"$f":"IF(H2>16,\"\",\"Wert - Abzug\")","v":"Wert - Abzug"},0.5]
[{"$f":"VLOOKUP(10,INDIRECT($C$70),2,0)","v":"Salto vorwärts gebückt mit Anlauf"},null,null,null,{"$f":"VLOOKUP(10,INDIRECT($C$70),3,0)","v":3},0,{"$f":"IF(H2>16,\"\",\"Wert - Abzug\")","v":"Wert - Abzug"},3]
[{"$f":"VLOOKUP(11,INDIRECT($C$70),2,0)","v":" "},null,null,null,{"$f":"VLOOKUP(11,INDIRECT($C$70),3,0)","v":" "},null,{"$f":"IF(H2>13,\"\",\"Wert - Abzug\")","v":""},""]
[{"$f":"VLOOKUP(12,INDIRECT($C$70),2,0)","v":" "},null,null,null,{"$f":"VLOOKUP(12,INDIRECT($C$70),3,0)","v":" "},null,{"$f":"IF(OR(H2=9,H2=12,H2=13),\"Wert - Abzug\",\"\")","v":""},""]
["Gesamtpunktzahl Bodenkomplexübung",null,null,null,null,null,null,{"$f":"SUM(H39:H50)","v":25.5}]
["Gesamtpunktzahl",null,null,null,null,null,null,{"$f":"SUM(H9,H19,H37,H51)","v":205.89999999999998}]
[]
[]
[null,"Shuttles",{"$f":"\"Shuttles_\"&F1&IF(H2=9,\"_9\",IF(H2<12,\"_10_11\",IF(H2<14,\"_12_13\",IF(H2<17,\"_14_16\",\"_17\"))))","v":"Shuttles_männlich_14_16"}]
[null,null,{"$f":"\"Shuttles_\"&F1&IF(H2=9,\"_9\",IF(H2<12,\"_10_11\",IF(H2<14,\"_12_13\",IF(H2<17,\"_14_16\",\"_17\"))))&\"[Shuttle]\"","v":"Shuttles_männlich_14_16[Shuttle]"}]
[null,null,{"$f":"\"Shuttles_\"&F1&IF(H2=9,\"_9\",IF(H2<12,\"_10_11\",IF(H2<14,\"_12_13\",IF(H2<17,\"_14_16\",\"_17\"))))&\"[Punkte]\"","v":"Shuttles_männlich_14_16[Punkte]"}]
[]
[null,"G_TBN TN BKÜ",{"$f":"IF(H2<13,\"beide\",F1)","v":"männlich"}]
[null,"AK",{"$f":"IF(OR(H2=9,H2=12),H2,IF(H2<12,\"10_11\",IF(H2<15,\"13_14\",IF(H2<17,\"15_16\",IF(H2<19,\"17_18\",19)))))","v":"15_16"}]
[]
[null,"TBN",{"$f":"\"TBN_\"&C59&\"_\"&C60","v":"TBN_männlich_15_16"}]
[null,null,{"$f":"C62&\"[Beschreibung]\"","v":"TBN_männlich_15_16[Beschreibung]"}]
[]
[null,"TN",{"$f":"\"TN_\"&C59&\"_\"&C60","v":"TN_männlich_15_16"}]
[null,null,{"$f":"C65&\"[Beschreibung]\"","v":"TN_männlich_15_16[Beschreibung]"}]
[]
[null,"TV",{"$f":"\"TV_\"&F1&\"_\"&C60","v":"TV_männlich_15_16"}]
[]
[null,"BKÜ",{"$f":"\"BKÜ\"&IF(H2=9,\"_9\",IF(H2<12,\"_10_11\",IF(H2<14,\"_12_13\",IF(H2<17,\"_14_16\",\"_17\"))))","v":"BKÜ_14_16"}]
[]
[null,"G_TV",{"$f":"IF(H2<17,\"beide\",F1)","v":"beide"}]
[null,"TV",{"$f":"\"TV_\"&C72&\"_\"&C60","v":"TV_beide_15_16"}]
[]
[null,{"$f":"SUM(H19,H9,H51)","v":101.5},"Vergleichspunktzahl aus Kraft, Beweglichkeit, Grundlagenausdauer, Bodenübung"]
[null,{"$f":"IF(B75>95,\"Ja\",\"Nein\")","v":"Ja"},"Vergleichspunktzahl erfüllt?"]
[null,{"$f":"IF(F1=\"Weiblich\",VLOOKUP(H2,Punktetabellen!$D$43:$F$49,3,1),VLOOKUP(H2,Punktetabellen!$D$43:$F$49,2,1))","v":162},"Mindest-Gesamtwert"]
[null,{"$f":"IF(H52>=B77,\"Ja\",\"Nein\")","v":"Ja"},"Gesamtwert erfüllt?"]
[null,{"$f":"IF(AND(B76=\"Ja\",B78=\"Ja\"),\"Ja\",\"Nein\")","v":"Ja"},"Alles erfüllt?"]

{"sheet":"LauhöferSaskia","index":9,"n_rows":79,"n_cols":8,"rows_kept":79,"cut":false,"hidden":false,"merged":[[11,0,11,4],[0,1,0,4],[1,1,1,5],[2,0,2,4],[3,0,3,4],[4,0,4,4],[5,0,5,4],[6,0,6,4],[7,0,7,4],[8,0,8,6],[9,0,9,4],[10,0,10,4],[23,0,23,1],[12,0,12,4],[13,0,13,4],[14,0,14,4],[15,0,15,4],[16,0,16,1],[17,0,17,4],[18,0,18,6],[19,0,19,2],[20,0,20,2],[21,0,21,1],[22,0,22,1],[41,0,41,3],[30,0,30,1],[31,0,31,1],[32,0,32,1],[33,0,33,1],[34,0,34,1],[35,0,35,1],[36,0,36,6],[37,0,37,3],[38,0,38,3],[39,0,39,3],[40,0,40,3],[48,0,48,3],[49,0,49,3],[50,0,50,6],[51,0,51,6],[42,0,42,3],[43,0,43,3],[44,0,44,3],[45,0,45,3],[46,0,46,3],[47,0,47,3]]}
["Name","Lauhöfer, Saskia",null,null,null,"weiblich","Jahrgang",2003]
["Verein","Frankfurt Flyers",null,null,null,null,"AK",{"$f":"2020-H1","v":17}]
["Übung",null,null,null,null,"Wert","Berechnung","Punkte"]
["Fußdehnung",null,null,null,null,null,"Bild",{"$f":"F4","v":0}]
["Briefmarke mit Armrumpfwinkel",null,null,null,null,null,"Bild",{"$f":"F5","v":0}]
["Bückbeweglichkeit",null,null,null,null,null,"Tabelle",{"$f":"IF(F6=\"\",0,VLOOKUP(F6,Punktetabellen!A10:B15,2,1))","v":0}]
["Querspagat links",null,null,null,null,0,"Tabelle",{"$f":"IF(F7=\"\",0,VLOOKUP(F7,Punktetabellen!A3:B6,2,0))","v":10}]
["Querspagat rechts",null,null,null,null,"10 cm oder mehr","Tabelle",{"$f":"IF(F8=\"\",0,VLOOKUP(F8,Punktetabellen!A3:B6,2,0))","v":0}]
["Gesamtpunktzahl Beweglichkeit",null,null,null,null,null,null,{"$f":"SUM(H4:H8)","v":10}]
["Übung",null,null,null,null,"Wert","Berechnung","Punktzahl"]
["Klimmzug",null,null,null,null,null,"Tabelle",{"$f":"IF(F11=\"\",0,IF(H2<12,VLOOKUP(F11,Punktetabellen!D4:F14,3,1),VLOOKUP(F11,Punktetabellen!E4:F14,2,1)))","v":0}]
["Beinheben",null,null,null,null,null,"Tabelle",{"$f":"IF(H2=9,VLOOKUP(F12,Punktetabellen!D19:F29,3,1),VLOOKUP(F12,Punktetabellen!E19:F29,2,1))","v":0}]
["Flieger",null,null,null,null,null,"Tabelle",{"$f":"IF(H2=9,VLOOKUP(F13,Punktetabellen!H4:K9,4,1),IF(H2<12,VLOOKUP(F13,Punktetabellen!I4:K9,3,1),VLOOKUP(F13,Punktetabellen!J4:K9,2,1)))","v":0}]
["Rollenverbindung",null,null,null,null,null,"Tabelle",{"$f":"IF(H2=9,VLOOKUP(F14,Punktetabellen!H14:K24,4,1),IF(H2<12,VLOOKUP(F14,Punktetabellen!I14:K24,3,1),VLOOKUP(F14,Punktetabellen!J14:K24,2,1)))","v":0}]
["Prellsprünge",null,null,null,null,5,"Tabelle",{"$f":"IF(H2=9,VLOOKUP(F15,Punktetabellen!M4:Q14,5,1),IF(H2<12,VLOOKUP(F15,Punktetabellen!N4:Q14,4,1),IF(H2<14,VLOOKUP(F15,Punktetabellen!O4:Q14,3,1),VLOOKUP(F15,Punktetabellen!P4:Q14,2,1))))","v":5}]
["Handstandstehen",null,null,null,null,null,"Tabelle",{"$f":"IF(F16=\"\",0,IF(H2<10,VLOOKUP(F16,Punktetabellen!D34:F40,3,1),VLOOKUP(F16,Punktetabellen!E34:F40,2,1)))","v":0}]
["Schweizer, Wiener",null,{"$f":"IF(H2<12,\"\",IF(AND(H2>13,H2<17),\"Schweizer: \",\"Wiener: \"))","v":"Wiener: "},null,{"$f":"IF(H2<12,\"\",IF(AND(H2>13,H2<17),\"Wiener: \",\"Schweizer: \"))","v":"Schweizer: "},null,"Tabelle",{"$f":"IF(H2<12,VLOOKUP(F17,Punktetabellen!A20:B25,2,1),((MIN(5,1*D17)*2)+MIN(MAX(0,5-(1*D17)),(1*F17))))","v":0}]
["Bleep-Test",null,null,null,null,"L7 S5","Tabelle",{"$f":"IF(F18=\"\",0,VLOOKUP(F18,INDIRECT(C55),2,0))","v":3}]
["Gesamtpunktzahl Kraft/Kondition",null,null,null,null,null,null,{"$f":"SUM(H11:H18)","v":8}]
["Übung",null,null,"Max / Soll","Max. Abzug","Abzug / Ist","Berechnung","Punkte"]
["Standsprunghöhe",null,null,{"$f":"IF(F1=\"männlich\",VLOOKUP(H2,Standsprünge!A3:C15,3,0),VLOOKUP(H2,Standsprünge!A3:B15,2,0))","v":16.3},null,null,"(Ist - Soll) x 10",{"$f":"IF(F21=\"\",0,(F21-D21)*10)","v":0}]
[{"$f":"IF(H2>16,\"entfällt\",\"TBN\")","v":"entfällt"},null,null,{"$f":"IF(C22=\"\",\"\",VLOOKUP(C22,INDIRECT($C$62),2,0))","v":""},{"$f":"IF(C22=\"\",\"\",VLOOKUP(C22,INDIRECT($C$62),3,0))","v":""},null,{"$f":"IF(H2>16,\"entfällt\",\"Wert - Abzug\")","v":"entfällt"},{"$f":"IF(A22=\"entfällt\",0,IF(F22=\"\",0,D22-F22))","v":0}]
[{"$f":"IF(H2>16,\"entfällt\",\"TBN\")","v":"entfällt"},null,null,{"$f":"IF(C23=\"\",\"\",VLOOKUP(C23,INDIRECT($C$62),2,0))","v":""},{"$f":"IF(C23=\"\",\"\",VLOOKUP(C23,INDIRECT($C$62),3,0))","v":""},null,{"$f":"IF(H2>16,\"entfällt\",\"Wert - Abzug\")","v":"entfällt"},{"$f":"IF(A23=\"entfällt\",0,IF(F23=\"\",0,D23-F23))","v":0}]
[{"$f":"IF(H2>12,\"entfällt\",\"TBN\")","v":"entfällt"},null,null,{"$f":"IF(C24=\"\",\"\",VLOOKUP(C24,INDIRECT($C$62),2,0))","v":""},{"$f":"IF(C24=\"\",\"\",VLOOKUP(C24,INDIRECT($C$62),3,0))","v":""},null,{"$f":"IF(H2>16,\"entfällt\",\"Wert - Abzug\")","v":"entfällt"},0]
["TN",{"$f":"IF(C25=\"\",\"\",VLOOKUP(C25,INDIRECT($C$65),2,0))","v":""},null,{"$f":"IF(C25=\"\",\"\",VLOOKUP(C25,INDIRECT($C$65),3,0))","v":""},{"$f":"IF(C25=\"\",\"\",VLOOKUP(C25,INDIRECT($C$65),4,0))","v":""},null,"Wert - Abzug",0]
["TN","",null,"","",null,"Wert - Abzug",0]
["TN","",null,"","",null,"Wert - Abzug",0]
[{"$f":"IF(H2>12,\"TN\",\"entfällt\")","v":"TN"},"",null,"","",null,{"$f":"IF(H2>12,\"Wert - Abzug\",\"entfällt\")","v":"Wert - Abzug"},0]
[{"$f":"IF(H2>16,\"TN\",\"entfällt\")","v":"TN"},"",null,"","",null,{"$f":"IF(H2>16,\"Wert - Abzug\",\"entfällt\")","v":"Wert - Abzug"},0]
[{"$f":"IF(H2>16,\"TN\",\"entfällt\")","v":"TN"},"",null,"","",null,{"$f":"IF(H2>16,\"Wert - Abzug\",\"entfällt\")","v":"Wert - Abzug"},{"$f":"IF(A30=\"entfällt\",0,IF(F30=\"\",0,D30-F30))","v":0}]
[{"$f":"IF($H$2>11,\"Verbindung Sprung 1\",\"entfällt\")","v":"Verbindung Sprung 1"},null,{"$f":"IF(A31<>\"entfällt\",VLOOKUP(1,INDIRECT($C$73),2,0),\"\")","v":"803<"},{"$f":"IF(A31<>\"entfällt\",VLOOKUP(1,INDIRECT($C$73),3,0),\"\")","v":15},{"$f":"IF(A31<>\"entfällt\",VLOOKUP(1,INDIRECT($C$73),4,0),\"\")","v":3},null,{"$f":"IF(H2>12,\"Wert - Abzug\",\"entfällt\")","v":"Wert - Abzug"},{"$f":"IF(A31=\"entfällt\",0,IF(F31=\"\",0,D31-F31))","v":0}]
[{"$f":"IF($H$2>11,\"Verbindung Sprung 2\",\"entfällt\")","v":"Verbindung Sprung 2"},null,{"$f":"IF(A32<>\"entfällt\",VLOOKUP(2,INDIRECT($C$73),2,0),\"\")","v":"40<"},{"$f":"IF(A32<>\"entfällt\",VLOOKUP(2,INDIRECT($C$73),3,0),\"\")","v":6},{"$f":"IF(A32<>\"entfällt\",VLOOKUP(2,INDIRECT($C$73),4,0),\"\")","v":3},null,{"$f":"IF(H2>12,\"Wert - Abzug\",\"entfällt\")","v":"Wert - Abzug"},{"$f":"IF(A32=\"entfällt\",0,IF(F32=\"\",0,D32-F32))","v":0}]
[{"$f":"IF($H$2>11,\"Verbindung Sprung 3\",\"entfällt\")","v":"Verbindung Sprung 3"},null,{"$f":"IF(A33<>\"entfällt\",VLOOKUP(3,INDIRECT($C$73),2,0),\"\")","v":"801<"},{"$f":"IF(A33<>\"entfällt\",VLOOKUP(3,INDIRECT($C$73),3,0),\"\")","v":13},{"$f":"IF(A33<>\"entfällt\",VLOOKUP(3,INDIRECT($C$73),4,0),\"\")","v":3},null,{"$f":"IF(H2>12,\"Wert - Abzug\",\"entfällt\")","v":"Wert - Abzug"},0]
[{"$f":"IF($H$2>11,\"Verbindung Sprung 4\",\"entfällt\")","v":"Verbindung Sprung 4"},null,{"$f":"IF(A34<>\"entfällt\",VLOOKUP(4,INDIRECT($C$73),2,0),\"\")","v":"40/"},{"$f":"IF(A34<>\"entfällt\",VLOOKUP(4,INDIRECT($C$73),3,0),\"\")","v":6},{"$f":"IF(A34<>\"entfällt\",VLOOKUP(4,INDIRECT($C$73),4,0),\"\")","v":3},null,{"$f":"IF(H2>12,\"Wert - Abzug\",\"entfällt\")","v":"Wert - Abzug"},0]
[{"$f":"IF($H$2>11,\"Verbindung Sprung 5\",\"entfällt\")","v":"Verbindung Sprung 5"},null,{"$f":"IF(A35<>\"entfällt\",VLOOKUP(5,INDIRECT($C$73),2,0),\"\")","v":"41/"},{"$f":"IF(A35<>\"entfällt\",VLOOKUP(5,INDIRECT($C$73),3,0),\"\")","v":6},{"$f":"IF(A35<>\"entfällt\",VLOOKUP(5,INDIRECT($C$73),4,0),\"\")","v":3},null,{"$f":"IF(H2>12,\"Wert - Abzug\",\"entfällt\")","v":"Wert - Abzug"},0]
[{"$f":"IF($H$2>11,\"Verbindung Sprung 6\",\"entfällt\")","v":"Verbindung Sprung 6"},null,{"$f":"IF(A36<>\"entfällt\",VLOOKUP(6,INDIRECT($C$73),2,0),\"\")","v":"811°"},{"$f":"IF(A36<>\"entfällt\",VLOOKUP(6,INDIRECT($C$73),3,0),\"\")","v":12},{"$f":"IF(A36<>\"entfällt\",VLOOKUP(6,INDIRECT($C$73),4,0),\"\")","v":3},null,{"$f":"IF(H2>12,\"Wert - Abzug\",\"entfällt\")","v":"Wert - Abzug"},{"$f":"IF(A36=\"entfällt\",0,IF(F36=\"\",0,D36-F36))","v":0}]
["Gesamtpunktzahl Trampolin",null,null,null,null,null,null,{"$f":"SUM(H21:H36)","v":0}]
["Element",null,null,null,"Wert","Abzug","Berechnung","Punkte"]
[{"$f":"VLOOKUP(1,INDIRECT($C$70),2,0)","v":"Salto vorwärts gehockt aus dem Stand"},null,null,null,{"$f":"VLOOKUP(1,INDIRECT($C$70),3,0)","v":5},3,"Wert - Abzug",{"$f":"IF(E39=\" \",\"\",IF(F39=\"\",0,E39-F39))","v":2}]
[{"$f":"VLOOKUP(2,INDIRECT($C$70),2,0)","v":"Vorspreizen, Bestellschritt, Strecksprung 3/2 Drehung"},null,null,null,{"$f":"VLOOKUP(2,INDIRECT($C$70),3,0)","v":3},null,"Wert - Abzug",{"$f":"IF(E40=\" \",\"\",IF(F40=\"\",0,E40-F40))","v":0}]
[{"$f":"VLOOKUP(3,INDIRECT($C$70),2,0)","v":"Rolle rückwärts durch Handstand mit 1/2 Drehung"},null,null,null,{"$f":"VLOOKUP(3,INDIRECT($C$70),3,0)","v":4},null,"Wert - Abzug",0]
[{"$f":"VLOOKUP(4,INDIRECT($C$70),2,0)","v":"--> Strecksprung --> Salto vorwärts gehockt"},null,null,null,{"$f":"VLOOKUP(4,INDIRECT($C$70),3,0)","v":4},2,"Wert - Abzug",2]
[{"$f":"VLOOKUP(5,INDIRECT($C$70),2,0)","v":"Wiener, 1/2 Drehung, absenken zum Stand"},null,null,null,{"$f":"VLOOKUP(5,INDIRECT($C$70),3,0)","v":4},null,"Wert - Abzug",0]
[{"$f":"VLOOKUP(6,INDIRECT($C$70),2,0)","v":"Handstand mit zwei Hüpfern, abrollen"},null,null,null,{"$f":"VLOOKUP(6,INDIRECT($C$70),3,0)","v":2},0,"Wert - Abzug",2]
[{"$f":"VLOOKUP(7,INDIRECT($C$70),2,0)","v":"--> aufstehen mit gestreckten Beinen"},null,null,null,{"$f":"VLOOKUP(7,INDIRECT($C$70),3,0)","v":3},0,"Wert - Abzug",3]
[{"$f":"VLOOKUP(8,INDIRECT($C$70),2,0)","v":"Salto rückwärts gebückt"},null,null,null,{"$f":"VLOOKUP(8,INDIRECT($C$70),3,0)","v":5},null,"Wert - Abzug",0]
[{"$f":"VLOOKUP(9,INDIRECT($C$70),2,0)","v":" "},null,null,null,{"$f":"VLOOKUP(9,INDIRECT($C$70),3,0)","v":" "},null,{"$f":"IF(H2>16,\"\",\"Wert - Abzug\")","v":""},""]
[{"$f":"VLOOKUP(10,INDIRECT($C$70),2,0)","v":" "},null,null,null,{"$f":"VLOOKUP(10,INDIRECT($C$70),3,0)","v":" "},null,{"$f":"IF(H2>16,\"\",\"Wert - Abzug\")","v":""},""]
[{"$f":"VLOOKUP(11,INDIRECT($C$70),2,0)","v":" "},null,null,null,{"$f":"VLOOKUP(11,INDIRECT($C$70),3,0)","v":" "},null,{"$f":"IF(H2>13,\"\",\"Wert - Abzug\")","v":""},""]
[{"$f":"VLOOKUP(12,INDIRECT($C$70),2,0)","v":" "},null,null,null,{"$f":"VLOOKUP(12,INDIRECT($C$70),3,0)","v":" "},null,{"$f":"IF(OR(H2=9,H2=12,H2=13),\"Wert - Abzug\",\"\")","v":""},""]
["Gesamtpunktzahl Bodenkomplexübung",null,null,null,null,null,null,{"$f":"SUM(H39:H50)","v":9}]
["Gesamtpunktzahl",null,null,null,null,null,null,{"$f":"SUM(H9,H19,H37,H51)","v":27}]
[]
[]
[null,"Shuttles",{"$f":"\"Shuttles_\"&F1&IF(H2=9,\"_9\",IF(H2<12,\"_10_11\",IF(H2<14,\"_12_13\",IF(H2<17,\"_14_16\",\"_17\"))))","v":"Shuttles_weiblich_17"}]
[null,null,{"$f":"\"Shuttles_\"&F1&IF(H2=9,\"_9\",IF(H2<12,\"_10_11\",IF(H2<14,\"_12_13\",IF(H2<17,\"_14_16\",\"_17\"))))&\"[Shuttle]\"","v":"Shuttles_weiblich_17[Shuttle]"}]
[null,null,{"$f":"\"Shuttles_\"&F1&IF(H2=9,\"_9\",IF(H2<12,\"_10_11\",IF(H2<14,\"_12_13\",IF(H2<17,\"_14_16\",\"_17\"))))&\"[Punkte]\"","v":"Shuttles_weiblich_17[Punkte]"}]
[]
[null,"G_TBN TN BKÜ",{"$f":"IF(H2<13,\"beide\",F1)","v":"weiblich"}]
[null,"AK",{"$f":"IF(OR(H2=9,H2=12),H2,IF(H2<12,\"10_11\",IF(H2<15,\"13_14\",IF(H2<17,\"15_16\",IF(H2<19,\"17_18\",19)))))","v":"17_18"}]
[]
[null,"TBN",{"$f":"\"TBN_\"&C59&\"_\"&C60","v":"TBN_weiblich_17_18"}]
[null,null,{"$f":"C62&\"[Beschreibung]\"","v":"TBN_weiblich_17_18[Beschreibung]"}]
[]
[null,"TN",{"$f":"\"TN_\"&C59&\"_\"&C60","v":"TN_weiblich_17_18"}]
[null,null,{"$f":"C65&\"[Beschreibung]\"","v":"TN_weiblich_17_18[Beschreibung]"}]
[]
[null,"TV",{"$f":"\"TV_\"&F1&\"_\"&C60","v":"TV_weiblich_17_18"}]
[]
[null,"BKÜ",{"$f":"\"BKÜ\"&IF(H2=9,\"_9\",IF(H2<12,\"_10_11\",IF(H2<14,\"_12_13\",IF(H2<17,\"_14_16\",\"_17\"))))","v":"BKÜ_17"}]
[]
[null,"G_TV",{"$f":"IF(H2<17,\"beide\",F1)","v":"weiblich"}]
[null,"TV",{"$f":"\"TV_\"&C72&\"_\"&C60","v":"TV_weiblich_17_18"}]
[]
[null,{"$f":"SUM(H19,H9,H51)","v":27},"Vergleichspunktzahl aus Kraft, Beweglichkeit, Grundlagenausdauer, Bodenübung"]
[null,{"$f":"IF(B75>95,\"Ja\",\"Nein\")","v":"Nein"},"Vergleichspunktzahl erfüllt?"]
[null,{"$f":"IF(F1=\"Weiblich\",VLOOKUP(H2,Punktetabellen!$D$43:$F$49,3,1),VLOOKUP(H2,Punktetabellen!$D$43:$F$49,2,1))","v":169},"Mindest-Gesamtwert"]
[null,{"$f":"IF(H52>=B77,\"Ja\",\"Nein\")","v":"Nein"},"Gesamtwert erfüllt?"]
[null,{"$f":"IF(AND(B76=\"Ja\",B78=\"Ja\"),\"Ja\",\"Nein\")","v":"Nein"},"Alles erfüllt?"]

{"sheet":"MeinertPaul","index":10,"n_rows":79,"n_cols":8,"rows_kept":79,"cut":false,"hidden":false,"merged":[[11,0,11,4],[0,1,0,4],[1,1,1,5],[2,0,2,4],[3,0,3,4],[4,0,4,4],[5,0,5,4],[6,0,6,4],[7,0,7,4],[8,0,8,6],[9,0,9,4],[10,0,10,4],[23,0,23,1],[12,0,12,4],[13,0,13,4],[14,0,14,4],[15,0,15,4],[16,0,16,1],[17,0,17,4],[18,0,18,6],[19,0,19,2],[20,0,20,2],[21,0,21,1],[22,0,22,1],[41,0,41,3],[30,0,30,1],[31,0,31,1],[32,0,32,1],[33,0,33,1],[34,0,34,1],[35,0,35,1],[36,0,36,6],[37,0,37,3],[38,0,38,3],[39,0,39,3],[40,0,40,3],[48,0,48,3],[49,0,49,3],[50,0,50,6],[51,0,51,6],[42,0,42,3],[43,0,43,3],[44,0,44,3],[45,0,45,3],[46,0,46,3],[47,0,47,3]]}
["Name","Meinert, Paul",null,null,null,"männlich","Jahrgang",2004]
["Verein","TV Blecher",null,null,null,null,"AK",{"$f":"2020-H1","v":16}]
["Übung",null,null,null,null,"Wert","Berechnung","Punkte"]
["Fußdehnung",null,null,null,null,6,"Bild",{"$f":"F4","v":6}]
["Briefmarke mit Armrumpfwinkel",null,null,null,null,6,"Bild",{"$f":"F5","v":6}]
["Bückbeweglichkeit",null,null,null,null,20,"Tabelle",{"$f":"IF(F6=\"\",0,VLOOKUP(F6,Punktetabellen!A10:B15,2,1))","v":10}]
["Querspagat links",null,null,null,null,"<5 cm","Tabelle",{"$f":"IF(F7=\"\",0,VLOOKUP(F7,Punktetabellen!A3:B6,2,0))","v":6}]
["Querspagat rechts",null,null,null,null,"<5 cm","Tabelle",{"$f":"IF(F8=\"\",0,VLOOKUP(F8,Punktetabellen!A3:B6,2,0))","v":6}]
["Gesamtpunktzahl Beweglichkeit",null,null,null,null,null,null,{"$f":"SUM(H4:H8)","v":34}]
["Übung",null,null,null,null,"Wert","Berechnung","Punktzahl"]
["Klimmzug",null,null,null,null,15,"Tabelle",{"$f":"IF(F11=\"\",0,IF(H2<12,VLOOKUP(F11,Punktetabellen!D4:F14,3,1),VLOOKUP(F11,Punktetabellen!E4:F14,2,1)))","v":10}]
["Beinheben",null,null,null,null,5,"Tabelle",{"$f":"IF(H2=9,VLOOKUP(F12,Punktetabellen!D19:F29,3,1),VLOOKUP(F12,Punktetabellen!E19:F29,2,1))","v":2}]
["Flieger",null,null,null,null,90,"Tabelle",{"$f":"IF(H2=9,VLOOKUP(F13,Punktetabellen!H4:K9,4,1),IF(H2<12,VLOOKUP(F13,Punktetabellen!I4:K9,3,1),VLOOKUP(F13,Punktetabellen!J4:K9,2,1)))","v":4}]
["Rollenverbindung",null,null,null,null,29,"Tabelle",{"$f":"IF(H2=9,VLOOKUP(F14,Punktetabellen!H14:K24,4,1),IF(H2<12,VLOOKUP(F14,Punktetabellen!I14:K24,3,1),VLOOKUP(F14,Punktetabellen!J14:K24,2,1)))","v":10}]
["Prellsprünge",null,null,null,null,10,"Tabelle",{"$f":"IF(H2=9,VLOOKUP(F15,Punktetabellen!M4:Q14,5,1),IF(H2<12,VLOOKUP(F15,Punktetabellen!N4:Q14,4,1),IF(H2<14,VLOOKUP(F15,Punktetabellen!O4:Q14,3,1),VLOOKUP(F15,Punktetabellen!P4:Q14,2,1))))","v":10}]
["Handstandstehen",null,null,null,null,30,"Tabelle",{"$f":"IF(F16=\"\",0,IF(H2<10,VLOOKUP(F16,Punktetabellen!D34:F40,3,1),VLOOKUP(F16,Punktetabellen!E34:F40,2,1)))","v":10}]
["Schweizer, Wiener",null,{"$f":"IF(H2<12,\"\",IF(AND(H2>13,H2<17),\"Schweizer: \",\"Wiener: \"))","v":"Schweizer: "},0,{"$f":"IF(H2<12,\"\",IF(AND(H2>13,H2<17),\"Wiener: \",\"Schweizer: \"))","v":"Wiener: "},0,"Tabelle",{"$f":"IF(H2<12,VLOOKUP(F17,Punktetabellen!A20:B25,2,1),((MIN(5,1*D17)*2)+MIN(MAX(0,5-(1*D17)),(1*F17))))","v":0}]
["Bleep-Test",null,null,null,null,"L10 S11","Tabelle",{"$f":"IF(F18=\"\",0,VLOOKUP(F18,INDIRECT(C55),2,0))","v":8}]
["Gesamtpunktzahl Kraft/Kondition",null,null,null,null,null,null,{"$f":"SUM(H11:H18)","v":54}]
["Übung",null,null,"Max / Soll","Max. Abzug","Abzug / Ist","Berechnung","Punkte"]
["Standsprunghöhe",null,null,{"$f":"IF(F1=\"männlich\",VLOOKUP(H2,Standsprünge!A3:C15,3,0),VLOOKUP(H2,Standsprünge!A3:B15,2,0))","v":16.8},null,17.14,"(Ist - Soll) x 10",{"$f":"IF(F21=\"\",0,(F21-D21)*10)","v":3.3999999999999986}]
[{"$f":"IF(H2>16,\"entfällt\",\"TBN\")","v":"TBN"},null,null,{"$f":"IF(C22=\"\",\"\",VLOOKUP(C22,INDIRECT($C$62),2,0))","v":""},{"$f":"IF(C22=\"\",\"\",VLOOKUP(C22,INDIRECT($C$62),3,0))","v":""},null,{"$f":"IF(H2>16,\"entfällt\",\"Wert - Abzug\")","v":"Wert - Abzug"},{"$f":"IF(A22=\"entfällt\",0,IF(F22=\"\",0,D22-F22))","v":0}]
[{"$f":"IF(H2>16,\"entfällt\",\"TBN\")","v":"TBN"},null,null,{"$f":"IF(C23=\"\",\"\",VLOOKUP(C23,INDIRECT($C$62),2,0))","v":""},{"$f":"IF(C23=\"\",\"\",VLOOKUP(C23,INDIRECT($C$62),3,0))","v":""},null,{"$f":"IF(H2>16,\"entfällt\",\"Wert - Abzug\")","v":"Wert - Abzug"},{"$f":"IF(A23=\"entfällt\",0,IF(F23=\"\",0,D23-F23))","v":0}]
[{"$f":"IF(H2>12,\"entfällt\",\"TBN\")","v":"entfällt"},null,null,{"$f":"IF(C24=\"\",\"\",VLOOKUP(C24,INDIRECT($C$62),2,0))","v":""},{"$f":"IF(C24=\"\",\"\",VLOOKUP(C24,INDIRECT($C$62),3,0))","v":""},null,{"$f":"IF(H2>16,\"entfällt\",\"Wert - Abzug\")","v":"Wert - Abzug"},0]
["TN",{"$f":"IF(C25=\"\",\"\",VLOOKUP(C25,INDIRECT($C$65),2,0))","v":"803<"},"Fliffisrudi b",{"$f":"IF(C25=\"\",\"\",VLOOKUP(C25,INDIRECT($C$65),3,0))","v":15},{"$f":"IF(C25=\"\",\"\",VLOOKUP(C25,INDIRECT($C$65),4,0))","v":6},4,"Wert - Abzug",11]
["TN","",null,"","",null,"Wert - Abzug",0]
["TN","",null,"","",null,"Wert - Abzug",0]
[{"$f":"IF(H2>12,\"TN\",\"entfällt\")","v":"TN"},"",null,"","",null,{"$f":"IF(H2>12,\"Wert - Abzug\",\"entfällt\")","v":"Wert - Abzug"},0]
[{"$f":"IF(H2>16,\"TN\",\"entfällt\")","v":"entfällt"},"",null,"","",null,{"$f":"IF(H2>16,\"Wert - Abzug\",\"entfällt\")","v":"entfällt"},0]
[{"$f":"IF(H2>16,\"TN\",\"entfällt\")","v":"entfällt"},"",null,"","",null,{"$f":"IF(H2>16,\"Wert - Abzug\",\"entfällt\")","v":"entfällt"},{"$f":"IF(A30=\"entfällt\",0,IF(F30=\"\",0,D30-F30))","v":0}]
[{"$f":"IF($H$2>11,\"Verbindung Sprung 1\",\"entfällt\")","v":"Verbindung Sprung 1"},null,{"$f":"IF(A31<>\"entfällt\",VLOOKUP(1,INDIRECT($C$73),2,0),\"\")","v":"801<"},{"$f":"IF(A31<>\"entfällt\",VLOOKUP(1,INDIRECT($C$73),3,0),\"\")","v":13},{"$f":"IF(A31<>\"entfällt\",VLOOKUP(1,INDIRECT($C$73),4,0),\"\")","v":3},2,{"$f":"IF(H2>12,\"Wert - Abzug\",\"entfällt\")","v":"Wert - Abzug"},{"$f":"IF(A31=\"entfällt\",0,IF(F31=\"\",0,D31-F31))","v":11}]
[{"$f":"IF($H$2>11,\"Verbindung Sprung 2\",\"entfällt\")","v":"Verbindung Sprung 2"},null,{"$f":"IF(A32<>\"entfällt\",VLOOKUP(2,INDIRECT($C$73),2,0),\"\")","v":"40<"},{"$f":"IF(A32<>\"entfällt\",VLOOKUP(2,INDIRECT($C$73),3,0),\"\")","v":6},{"$f":"IF(A32<>\"entfällt\",VLOOKUP(2,INDIRECT($C$73),4,0),\"\")","v":3},1,{"$f":"IF(H2>12,\"Wert - Abzug\",\"entfällt\")","v":"Wert - Abzug"},{"$f":"IF(A32=\"entfällt\",0,IF(F32=\"\",0,D32-F32))","v":5}]
[{"$f":"IF($H$2>11,\"Verbindung Sprung 3\",\"entfällt\")","v":"Verbindung Sprung 3"},null,{"$f":"IF(A33<>\"entfällt\",VLOOKUP(3,INDIRECT($C$73),2,0),\"\")","v":"801°"},{"$f":"IF(A33<>\"entfällt\",VLOOKUP(3,INDIRECT($C$73),3,0),\"\")","v":11},{"$f":"IF(A33<>\"entfällt\",VLOOKUP(3,INDIRECT($C$73),4,0),\"\")","v":3},2,{"$f":"IF(H2>12,\"Wert - Abzug\",\"entfällt\")","v":"Wert - Abzug"},9]
[{"$f":"IF($H$2>11,\"Verbindung Sprung 4\",\"entfällt\")","v":"Verbindung Sprung 4"},null,{"$f":"IF(A34<>\"entfällt\",VLOOKUP(4,INDIRECT($C$73),2,0),\"\")","v":"40/"},{"$f":"IF(A34<>\"entfällt\",VLOOKUP(4,INDIRECT($C$73),3,0),\"\")","v":6},{"$f":"IF(A34<>\"entfällt\",VLOOKUP(4,INDIRECT($C$73),4,0),\"\")","v":3},1,{"$f":"IF(H2>12,\"Wert - Abzug\",\"entfällt\")","v":"Wert - Abzug"},5]
[{"$f":"IF($H$2>11,\"Verbindung Sprung 5\",\"entfällt\")","v":"Verbindung Sprung 5"},null,{"$f":"IF(A35<>\"entfällt\",VLOOKUP(5,INDIRECT($C$73),2,0),\"\")","v":"41/"},{"$f":"IF(A35<>\"entfällt\",VLOOKUP(5,INDIRECT($C$73),3,0),\"\")","v":6},{"$f":"IF(A35<>\"entfällt\",VLOOKUP(5,INDIRECT($C$73),4,0),\"\")","v":3},2,{"$f":"IF(H2>12,\"Wert - Abzug\",\"entfällt\")","v":"Wert - Abzug"},4]
[{"$f":"IF($H$2>11,\"Verbindung Sprung 6\",\"entfällt\")","v":"Verbindung Sprung 6"},null,{"$f":"IF(A36<>\"entfällt\",VLOOKUP(6,INDIRECT($C$73),2,0),\"\")","v":"800°"},{"$f":"IF(A36<>\"entfällt\",VLOOKUP(6,INDIRECT($C$73),3,0),\"\")","v":10},{"$f":"IF(A36<>\"entfällt\",VLOOKUP(6,INDIRECT($C$73),4,0),\"\")","v":3},2,{"$f":"IF(H2>12,\"Wert - Abzug\",\"entfällt\")","v":"Wert - Abzug"},{"$f":"IF(A36=\"entfällt\",0,IF(F36=\"\",0,D36-F36))","v":8}]
["Gesamtpunktzahl Trampolin",null,null,null,null,null,null,{"$f":"SUM(H21:H36)","v":56.4}]
["Element",null,null,null,"Wert","Abzug","Berechnung","Punkte"]
[{"$f":"VLOOKUP(1,INDIRECT($C$70),2,0)","v":"Flugrolle mit Überstrecken mit Anlauf"},null,null,null,{"$f":"VLOOKUP(1,INDIRECT($C$70),3,0)","v":3},0,"Wert - Abzug",{"$f":"IF(E39=\" \",\"\",IF(F39=\"\",0,E39-F39))","v":3}]
[{"$f":"VLOOKUP(2,INDIRECT($C$70),2,0)","v":"--> Strecksprung, Salto vorwärts gehockt"},null,null,null,{"$f":"VLOOKUP(2,INDIRECT($C$70),3,0)","v":4.5},0,"Wert - Abzug",{"$f":"IF(E40=\" \",\"\",IF(F40=\"\",0,E40-F40))","v":4.5}]
[{"$f":"VLOOKUP(3,INDIRECT($C$70),2,0)","v":"Vorspreizen, Handstand mit 1/1 Drehung, abrollen"},null,null,null,{"$f":"VLOOKUP(3,INDIRECT($C$70),3,0)","v":3},0.5,"Wert - Abzug",2.5]
[{"$f":"VLOOKUP(4,INDIRECT($C$70),2,0)","v":"--> Aufstehen mit gestreckten Beinen"},null,null,null,{"$f":"VLOOKUP(4,INDIRECT($C$70),3,0)","v":3},0.5,"Wert - Abzug",2.5]
[{"$f":"VLOOKUP(5,INDIRECT($C$70),2,0)","v":"Vorspreizen, Bestellschritt, Strecksprung 3/2 Drehung"},null,null,null,{"$f":"VLOOKUP(5,INDIRECT($C$70),3,0)","v":3},null,"Wert - Abzug",0]
[{"$f":"VLOOKUP(6,INDIRECT($C$70),2,0)","v":"Salto rückwärts gehockt"},null,null,null,{"$f":"VLOOKUP(6,INDIRECT($C$70),3,0)","v":3},1.5,"Wert - Abzug",1.5]
[{"$f":"VLOOKUP(7,INDIRECT($C$70),2,0)","v":"Handstützüberschlag"},null,null,null,{"$f":"VLOOKUP(7,INDIRECT($C$70),3,0)","v":3},1,"Wert - Abzug",2]
[{"$f":"VLOOKUP(8,INDIRECT($C$70),2,0)","v":"--> Ansprung Schrittstellung, Handstand mit zwei Hüpfern"},null,null,null,{"$f":"VLOOKUP(8,INDIRECT($C$70),3,0)","v":3},1,"Wert - Abzug",2]
[{"$f":"VLOOKUP(9,INDIRECT($C$70),2,0)","v":"Abrollen --> Strecksprung 1/2 Drehung"},null,null,null,{"$f":"VLOOKUP(9,INDIRECT($C$70),3,0)","v":1.5},0,{"$f":"IF(H2>16,\"\",\"Wert - Abzug\")","v":"Wert - Abzug"},1.5]
[{"$f":"VLOOKUP(10,INDIRECT($C$70),2,0)","v":"Salto vorwärts gebückt mit Anlauf"},null,null,null,{"$f":"VLOOKUP(10,INDIRECT($C$70),3,0)","v":3},1,{"$f":"IF(H2>16,\"\",\"Wert - Abzug\")","v":"Wert - Abzug"},2]
[{"$f":"VLOOKUP(11,INDIRECT($C$70),2,0)","v":" "},null,null,null,{"$f":"VLOOKUP(11,INDIRECT($C$70),3,0)","v":" "},null,{"$f":"IF(H2>13,\"\",\"Wert - Abzug\")","v":""},""]
[{"$f":"VLOOKUP(12,INDIRECT($C$70),2,0)","v":" "},null,null,null,{"$f":"VLOOKUP(12,INDIRECT($C$70),3,0)","v":" "},null,{"$f":"IF(OR(H2=9,H2=12,H2=13),\"Wert - Abzug\",\"\")","v":""},""]
["Gesamtpunktzahl Bodenkomplexübung",null,null,null,null,null,null,{"$f":"SUM(H39:H50)","v":21.5}]
["Gesamtpunktzahl",null,null,null,null,null,null,{"$f":"SUM(H9,H19,H37,H51)","v":165.9}]
[]
[]
[null,"Shuttles",{"$f":"\"Shuttles_\"&F1&IF(H2=9,\"_9\",IF(H2<12,\"_10_11\",IF(H2<14,\"_12_13\",IF(H2<17,\"_14_16\",\"_17\"))))","v":"Shuttles_männlich_14_16"}]
[null,null,{"$f":"\"Shuttles_\"&F1&IF(H2=9,\"_9\",IF(H2<12,\"_10_11\",IF(H2<14,\"_12_13\",IF(H2<17,\"_14_16\",\"_17\"))))&\"[Shuttle]\"","v":"Shuttles_männlich_14_16[Shuttle]"}]
[null,null,{"$f":"\"Shuttles_\"&F1&IF(H2=9,\"_9\",IF(H2<12,\"_10_11\",IF(H2<14,\"_12_13\",IF(H2<17,\"_14_16\",\"_17\"))))&\"[Punkte]\"","v":"Shuttles_männlich_14_16[Punkte]"}]
[]
[null,"G_TBN TN BKÜ",{"$f":"IF(H2<13,\"beide\",F1)","v":"männlich"}]
[null,"AK",{"$f":"IF(OR(H2=9,H2=12),H2,IF(H2<12,\"10_11\",IF(H2<15,\"13_14\",IF(H2<17,\"15_16\",IF(H2<19,\"17_18\",19)))))","v":"15_16"}]
[]
[null,"TBN",{"$f":"\"TBN_\"&C59&\"_\"&C60","v":"TBN_männlich_15_16"}]
[null,null,{"$f":"C62&\"[Beschreibung]\"","v":"TBN_männlich_15_16[Beschreibung]"}]
[]
[null,"TN",{"$f":"\"TN_\"&C59&\"_\"&C60","v":"TN_männlich_15_16"}]
[null,null,{"$f":"C65&\"[Beschreibung]\"","v":"TN_männlich_15_16[Beschreibung]"}]
[]
[null,"TV",{"$f":"\"TV_\"&F1&\"_\"&C60","v":"TV_männlich_15_16"}]
[]
[null,"BKÜ",{"$f":"\"BKÜ\"&IF(H2=9,\"_9\",IF(H2<12,\"_10_11\",IF(H2<14,\"_12_13\",IF(H2<17,\"_14_16\",\"_17\"))))","v":"BKÜ_14_16"}]
[]
[null,"G_TV",{"$f":"IF(H2<17,\"beide\",F1)","v":"beide"}]
[null,"TV",{"$f":"\"TV_\"&C72&\"_\"&C60","v":"TV_beide_15_16"}]
[]
[null,{"$f":"SUM(H19,H9,H51)","v":109.5},"Vergleichspunktzahl aus Kraft, Beweglichkeit, Grundlagenausdauer, Bodenübung"]
[null,{"$f":"IF(B75>95,\"Ja\",\"Nein\")","v":"Ja"},"Vergleichspunktzahl erfüllt?"]
[null,{"$f":"IF(F1=\"Weiblich\",VLOOKUP(H2,Punktetabellen!$D$43:$F$49,3,1),VLOOKUP(H2,Punktetabellen!$D$43:$F$49,2,1))","v":162},"Mindest-Gesamtwert"]
[null,{"$f":"IF(H52>=B77,\"Ja\",\"Nein\")","v":"Ja"},"Gesamtwert erfüllt?"]
[null,{"$f":"IF(AND(B76=\"Ja\",B78=\"Ja\"),\"Ja\",\"Nein\")","v":"Ja"},"Alles erfüllt?"]

{"sheet":"RischValentin","index":11,"n_rows":79,"n_cols":8,"rows_kept":79,"cut":false,"hidden":false,"merged":[[11,0,11,4],[0,1,0,4],[1,1,1,5],[2,0,2,4],[3,0,3,4],[4,0,4,4],[5,0,5,4],[6,0,6,4],[7,0,7,4],[8,0,8,6],[9,0,9,4],[10,0,10,4],[23,0,23,1],[12,0,12,4],[13,0,13,4],[14,0,14,4],[15,0,15,4],[16,0,16,1],[17,0,17,4],[18,0,18,6],[19,0,19,2],[20,0,20,2],[21,0,21,1],[22,0,22,1],[41,0,41,3],[30,0,30,1],[31,0,31,1],[32,0,32,1],[33,0,33,1],[34,0,34,1],[35,0,35,1],[36,0,36,6],[37,0,37,3],[38,0,38,3],[39,0,39,3],[40,0,40,3],[48,0,48,3],[49,0,49,3],[50,0,50,6],[51,0,51,6],[42,0,42,3],[43,0,43,3],[44,0,44,3],[45,0,45,3],[46,0,46,3],[47,0,47,3]]}
["Name","Risch, Valentin",null,null,null,"männlich","Jahrgang",2005]
["Verein","SG Frankfurt-Nied",null,null,null,null,"AK",{"$f":"2020-H1","v":15}]
["Übung",null,null,null,null,"Wert","Berechnung","Punkte"]
["Fußdehnung",null,null,null,null,10,"Bild",{"$f":"F4","v":10}]
["Briefmarke mit Armrumpfwinkel",null,null,null,null,10,"Bild",{"$f":"F5","v":10}]
["Bückbeweglichkeit",null,null,null,null,24,"Tabelle",{"$f":"IF(F6=\"\",0,VLOOKUP(F6,Punktetabellen!A10:B15,2,1))","v":10}]
["Querspagat links",null,null,null,null,0,"Tabelle",{"$f":"IF(F7=\"\",0,VLOOKUP(F7,Punktetabellen!A3:B6,2,0))","v":10}]
["Querspagat rechts",null,null,null,null,"<5 cm","Tabelle",{"$f":"IF(F8=\"\",0,VLOOKUP(F8,Punktetabellen!A3:B6,2,0))","v":6}]
["Gesamtpunktzahl Beweglichkeit",null,null,null,null,null,null,{"$f":"SUM(H4:H8)","v":46}]
["Übung",null,null,null,null,"Wert","Berechnung","Punktzahl"]
["Klimmzug",null,null,null,null,10,"Tabelle",{"$f":"IF(F11=\"\",0,IF(H2<12,VLOOKUP(F11,Punktetabellen!D4:F14,3,1),VLOOKUP(F11,Punktetabellen!E4:F14,2,1)))","v":5}]
["Beinheben",null,null,null,null,11,"Tabelle",{"$f":"IF(H2=9,VLOOKUP(F12,Punktetabellen!D19:F29,3,1),VLOOKUP(F12,Punktetabellen!E19:F29,2,1))","v":6}]
["Flieger",null,null,null,null,45,"Tabelle",{"$f":"IF(H2=9,VLOOKUP(F13,Punktetabellen!H4:K9,4,1),IF(H2<12,VLOOKUP(F13,Punktetabellen!I4:K9,3,1),VLOOKUP(F13,Punktetabellen!J4:K9,2,1)))","v":0}]
["Rollenverbindung",null,null,null,null,24,"Tabelle",{"$f":"IF(H2=9,VLOOKUP(F14,Punktetabellen!H14:K24,4,1),IF(H2<12,VLOOKUP(F14,Punktetabellen!I14:K24,3,1),VLOOKUP(F14,Punktetabellen!J14:K24,2,1)))","v":7}]
["Prellsprünge",null,null,null,null,10,"Tabelle",{"$f":"IF(H2=9,VLOOKUP(F15,Punktetabellen!M4:Q14,5,1),IF(H2<12,VLOOKUP(F15,Punktetabellen!N4:Q14,4,1),IF(H2<14,VLOOKUP(F15,Punktetabellen!O4:Q14,3,1),VLOOKUP(F15,Punktetabellen!P4:Q14,2,1))))","v":10}]
["Handstandstehen",null,null,null,null,30,"Tabelle",{"$f":"IF(F16=\"\",0,IF(H2<10,VLOOKUP(F16,Punktetabellen!D34:F40,3,1),VLOOKUP(F16,Punktetabellen!E34:F40,2,1)))","v":10}]
["Schweizer, Wiener",null,{"$f":"IF(H2<12,\"\",IF(AND(H2>13,H2<17),\"Schweizer: \",\"Wiener: \"))","v":"Schweizer: "},0,{"$f":"IF(H2<12,\"\",IF(AND(H2>13,H2<17),\"Wiener: \",\"Schweizer: \"))","v":"Wiener: "},0,"Tabelle",{"$f":"IF(H2<12,VLOOKUP(F17,Punktetabellen!A20:B25,2,1),((MIN(5,1*D17)*2)+MIN(MAX(0,5-(1*D17)),(1*F17))))","v":0}]
["Bleep-Test",null,null,null,null,"L7 S10","Tabelle",{"$f":"IF(F18=\"\",0,VLOOKUP(F18,INDIRECT(C55),2,0))","v":2}]
["Gesamtpunktzahl Kraft/Kondition",null,null,null,null,null,null,{"$f":"SUM(H11:H18)","v":40}]
["Übung",null,null,"Max / Soll","Max. Abzug","Abzug / Ist","Berechnung","Punkte"]
["Standsprunghöhe",null,null,{"$f":"IF(F1=\"männlich\",VLOOKUP(H2,Standsprünge!A3:C15,3,0),VLOOKUP(H2,Standsprünge!A3:B15,2,0))","v":16.3},null,16.614999999999998,"(Ist - Soll) x 10",{"$f":"IF(F21=\"\",0,(F21-D21)*10)","v":3.1499999999999773}]
[{"$f":"IF(H2>16,\"entfällt\",\"TBN\")","v":"TBN"},null,"7/4 Salto rw c, 1/1 ein 1/2 aus",{"$f":"IF(C22=\"\",\"\",VLOOKUP(C22,INDIRECT($C$62),2,0))","v":11},{"$f":"IF(C22=\"\",\"\",VLOOKUP(C22,INDIRECT($C$62),3,0))","v":6},2,{"$f":"IF(H2>16,\"entfällt\",\"Wert - Abzug\")","v":"Wert - Abzug"},{"$f":"IF(A22=\"entfällt\",0,IF(F22=\"\",0,D22-F22))","v":9}]
[{"$f":"IF(H2>16,\"entfällt\",\"TBN\")","v":"TBN"},null,"7/4 Salto rw b, 1/1 ein 1/2 aus",{"$f":"IF(C23=\"\",\"\",VLOOKUP(C23,INDIRECT($C$62),2,0))","v":12},{"$f":"IF(C23=\"\",\"\",VLOOKUP(C23,INDIRECT($C$62),3,0))","v":6},2,{"$f":"IF(H2>16,\"entfällt\",\"Wert - Abzug\")","v":"Wert - Abzug"},{"$f":"IF(A23=\"entfällt\",0,IF(F23=\"\",0,D23-F23))","v":10}]
[{"$f":"IF(H2>12,\"entfällt\",\"TBN\")","v":"entfällt"},null,null,{"$f":"IF(C24=\"\",\"\",VLOOKUP(C24,INDIRECT($C$62),2,0))","v":""},{"$f":"IF(C24=\"\",\"\",VLOOKUP(C24,INDIRECT($C$62),3,0))","v":""},null,{"$f":"IF(H2>16,\"entfällt\",\"Wert - Abzug\")","v":"Wert - Abzug"},0]
["TN",{"$f":"IF(C25=\"\",\"\",VLOOKUP(C25,INDIRECT($C$65),2,0))","v":"803<"},"Fliffisrudi b",{"$f":"IF(C25=\"\",\"\",VLOOKUP(C25,INDIRECT($C$65),3,0))","v":15},{"$f":"IF(C25=\"\",\"\",VLOOKUP(C25,INDIRECT($C$65),4,0))","v":6},4,"Wert - Abzug",11]
["TN","12001°","Triffis c",17,6,4,"Wert - Abzug",13]
["TN","821<","1/1 ein 1/2 aus b",15,6,4,"Wert - Abzug",11]
[{"$f":"IF(H2>12,\"TN\",\"entfällt\")","v":"TN"},"822°","1/1 ein 1/1 aus c",14,6,2,{"$f":"IF(H2>12,\"Wert - Abzug\",\"entfällt\")","v":"Wert - Abzug"},12]
[{"$f":"IF(H2>16,\"TN\",\"entfällt\")","v":"entfällt"},"",null,"","",null,{"$f":"IF(H2>16,\"Wert - Abzug\",\"entfällt\")","v":"entfällt"},0]
[{"$f":"IF(H2>16,\"TN\",\"entfällt\")","v":"entfällt"},"",null,"","",null,{"$f":"IF(H2>16,\"Wert - Abzug\",\"entfällt\")","v":"entfällt"},{"$f":"IF(A30=\"entfällt\",0,IF(F30=\"\",0,D30-F30))","v":0}]
[{"$f":"IF($H$2>11,\"Verbindung Sprung 1\",\"entfällt\")","v":"Verbindung Sprung 1"},null,{"$f":"IF(A31<>\"entfällt\",VLOOKUP(1,INDIRECT($C$73),2,0),\"\")","v":"801<"},{"$f":"IF(A31<>\"entfällt\",VLOOKUP(1,INDIRECT($C$73),3,0),\"\")","v":13},{"$f":"IF(A31<>\"entfällt\",VLOOKUP(1,INDIRECT($C$73),4,0),\"\")","v":3},1,{"$f":"IF(H2>12,\"Wert - Abzug\",\"entfällt\")","v":"Wert - Abzug"},{"$f":"IF(A31=\"entfällt\",0,IF(F31=\"\",0,D31-F31))","v":12}]
[{"$f":"IF($H$2>11,\"Verbindung Sprung 2\",\"entfällt\")","v":"Verbindung Sprung 2"},null,{"$f":"IF(A32<>\"entfällt\",VLOOKUP(2,INDIRECT($C$73),2,0),\"\")","v":"40<"},{"$f":"IF(A32<>\"entfällt\",VLOOKUP(2,INDIRECT($C$73),3,0),\"\")","v":6},{"$f":"IF(A32<>\"entfällt\",VLOOKUP(2,INDIRECT($C$73),4,0),\"\")","v":3},2,{"$f":"IF(H2>12,\"Wert - Abzug\",\"entfällt\")","v":"Wert - Abzug"},{"$f":"IF(A32=\"entfällt\",0,IF(F32=\"\",0,D32-F32))","v":4}]
[{"$f":"IF($H$2>11,\"Verbindung Sprung 3\",\"entfällt\")","v":"Verbindung Sprung 3"},null,{"$f":"IF(A33<>\"entfällt\",VLOOKUP(3,INDIRECT($C$73),2,0),\"\")","v":"801°"},{"$f":"IF(A33<>\"entfällt\",VLOOKUP(3,INDIRECT($C$73),3,0),\"\")","v":11},{"$f":"IF(A33<>\"entfällt\",VLOOKUP(3,INDIRECT($C$73),4,0),\"\")","v":3},2,{"$f":"IF(H2>12,\"Wert - Abzug\",\"entfällt\")","v":"Wert - Abzug"},9]
[{"$f":"IF($H$2>11,\"Verbindung Sprung 4\",\"entfällt\")","v":"Verbindung Sprung 4"},null,{"$f":"IF(A34<>\"entfällt\",VLOOKUP(4,INDIRECT($C$73),2,0),\"\")","v":"40/"},{"$f":"IF(A34<>\"entfällt\",VLOOKUP(4,INDIRECT($C$73),3,0),\"\")","v":6},{"$f":"IF(A34<>\"entfällt\",VLOOKUP(4,INDIRECT($C$73),4,0),\"\")","v":3},2,{"$f":"IF(H2>12,\"Wert - Abzug\",\"entfällt\")","v":"Wert - Abzug"},4]
[{"$f":"IF($H$2>11,\"Verbindung Sprung 5\",\"entfällt\")","v":"Verbindung Sprung 5"},null,{"$f":"IF(A35<>\"entfällt\",VLOOKUP(5,INDIRECT($C$73),2,0),\"\")","v":"41/"},{"$f":"IF(A35<>\"entfällt\",VLOOKUP(5,INDIRECT($C$73),3,0),\"\")","v":6},{"$f":"IF(A35<>\"entfällt\",VLOOKUP(5,INDIRECT($C$73),4,0),\"\")","v":3},1,{"$f":"IF(H2>12,\"Wert - Abzug\",\"entfällt\")","v":"Wert - Abzug"},5]
[{"$f":"IF($H$2>11,\"Verbindung Sprung 6\",\"entfällt\")","v":"Verbindung Sprung 6"},null,{"$f":"IF(A36<>\"entfällt\",VLOOKUP(6,INDIRECT($C$73),2,0),\"\")","v":"800°"},{"$f":"IF(A36<>\"entfällt\",VLOOKUP(6,INDIRECT($C$73),3,0),\"\")","v":10},{"$f":"IF(A36<>\"entfällt\",VLOOKUP(6,INDIRECT($C$73),4,0),\"\")","v":3},1,{"$f":"IF(H2>12,\"Wert - Abzug\",\"entfällt\")","v":"Wert - Abzug"},{"$f":"IF(A36=\"entfällt\",0,IF(F36=\"\",0,D36-F36))","v":9}]
["Gesamtpunktzahl Trampolin",null,null,null,null,null,null,{"$f":"SUM(H21:H36)","v":112.14999999999998}]
["Element",null,null,null,"Wert","Abzug","Berechnung","Punkte"]
[{"$f":"VLOOKUP(1,INDIRECT($C$70),2,0)","v":"Flugrolle mit Überstrecken mit Anlauf"},null,null,null,{"$f":"VLOOKUP(1,INDIRECT($C$70),3,0)","v":3},0,"Wert - Abzug",{"$f":"IF(E39=\" \",\"\",IF(F39=\"\",0,E39-F39))","v":3}]
[{"$f":"VLOOKUP(2,INDIRECT($C$70),2,0)","v":"--> Strecksprung, Salto vorwärts gehockt"},null,null,null,{"$f":"VLOOKUP(2,INDIRECT($C$70),3,0)","v":4.5},0,"Wert - Abzug",{"$f":"IF(E40=\" \",\"\",IF(F40=\"\",0,E40-F40))","v":4.5}]
[{"$f":"VLOOKUP(3,INDIRECT($C$70),2,0)","v":"Vorspreizen, Handstand mit 1/1 Drehung, abrollen"},null,null,null,{"$f":"VLOOKUP(3,INDIRECT($C$70),3,0)","v":3},1,"Wert - Abzug",2]
[{"$f":"VLOOKUP(4,INDIRECT($C$70),2,0)","v":"--> Aufstehen mit gestreckten Beinen"},null,null,null,{"$f":"VLOOKUP(4,INDIRECT($C$70),3,0)","v":3},0,"Wert - Abzug",3]
[{"$f":"VLOOKUP(5,INDIRECT($C$70),2,0)","v":"Vorspreizen, Bestellschritt, Strecksprung 3/2 Drehung"},null,null,null,{"$f":"VLOOKUP(5,INDIRECT($C$70),3,0)","v":3},2.5,"Wert - Abzug",0.5]
[{"$f":"VLOOKUP(6,INDIRECT($C$70),2,0)","v":"Salto rückwärts gehockt"},null,null,null,{"$f":"VLOOKUP(6,INDIRECT($C$70),3,0)","v":3},0.5,"Wert - Abzug",2.5]
[{"$f":"VLOOKUP(7,INDIRECT($C$70),2,0)","v":"Handstützüberschlag"},null,null,null,{"$f":"VLOOKUP(7,INDIRECT($C$70),3,0)","v":3},2,"Wert - Abzug",1]
[{"$f":"VLOOKUP(8,INDIRECT($C$70),2,0)","v":"--> Ansprung Schrittstellung, Handstand mit zwei Hüpfern"},null,null,null,{"$f":"VLOOKUP(8,INDIRECT($C$70),3,0)","v":3},0,"Wert - Abzug",3]
[{"$f":"VLOOKUP(9,INDIRECT($C$70),2,0)","v":"Abrollen --> Strecksprung 1/2 Drehung"},null,null,null,{"$f":"VLOOKUP(9,INDIRECT($C$70),3,0)","v":1.5},0.5,{"$f":"IF(H2>16,\"\",\"Wert - Abzug\")","v":"Wert - Abzug"},1]
[{"$f":"VLOOKUP(10,INDIRECT($C$70),2,0)","v":"Salto vorwärts gebückt mit Anlauf"},null,null,null,{"$f":"VLOOKUP(10,INDIRECT($C$70),3,0)","v":3},0,{"$f":"IF(H2>16,\"\",\"Wert - Abzug\")","v":"Wert - Abzug"},3]
[{"$f":"VLOOKUP(11,INDIRECT($C$70),2,0)","v":" "},null,null,null,{"$f":"VLOOKUP(11,INDIRECT($C$70),3,0)","v":" "},null,{"$f":"IF(H2>13,\"\",\"Wert - Abzug\")","v":""},""]
[{"$f":"VLOOKUP(12,INDIRECT($C$70),2,0)","v":" "},null,null,null,{"$f":"VLOOKUP(12,INDIRECT($C$70),3,0)","v":" "},null,{"$f":"IF(OR(H2=9,H2=12,H2=13),\"Wert - Abzug\",\"\")","v":""},""]
["Gesamtpunktzahl Bodenkomplexübung",null,null,null,null,null,null,{"$f":"SUM(H39:H50)","v":23.5}]
["Gesamtpunktzahl",null,null,null,null,null,null,{"$f":"SUM(H9,H19,H37,H51)","v":221.64999999999998}]
[]
[]
[null,"Shuttles",{"$f":"\"Shuttles_\"&F1&IF(H2=9,\"_9\",IF(H2<12,\"_10_11\",IF(H2<14,\"_12_13\",IF(H2<17,\"_14_16\",\"_17\"))))","v":"Shuttles_männlich_14_16"}]
[null,null,{"$f":"\"Shuttles_\"&F1&IF(H2=9,\"_9\",IF(H2<12,\"_10_11\",IF(H2<14,\"_12_13\",IF(H2<17,\"_14_16\",\"_17\"))))&\"[Shuttle]\"","v":"Shuttles_männlich_14_16[Shuttle]"}]
[null,null,{"$f":"\"Shuttles_\"&F1&IF(H2=9,\"_9\",IF(H2<12,\"_10_11\",IF(H2<14,\"_12_13\",IF(H2<17,\"_14_16\",\"_17\"))))&\"[Punkte]\"","v":"Shuttles_männlich_14_16[Punkte]"}]
[]
[null,"G_TBN TN BKÜ",{"$f":"IF(H2<13,\"beide\",F1)","v":"männlich"}]
[null,"AK",{"$f":"IF(OR(H2=9,H2=12),H2,IF(H2<12,\"10_11\",IF(H2<15,\"13_14\",IF(H2<17,\"15_16\",IF(H2<19,\"17_18\",19)))))","v":"15_16"}]
[]
[null,"TBN",{"$f":"\"TBN_\"&C59&\"_\"&C60","v":"TBN_männlich_15_16"}]
[null,null,{"$f":"C62&\"[Beschreibung]\"","v":"TBN_männlich_15_16[Beschreibung]"}]
[]
[null,"TN",{"$f":"\"TN_\"&C59&\"_\"&C60","v":"TN_männlich_15_16"}]
[null,null,{"$f":"C65&\"[Beschreibung]\"","v":"TN_männlich_15_16[Beschreibung]"}]
[]
[null,"TV",{"$f":"\"TV_\"&F1&\"_\"&C60","v":"TV_männlich_15_16"}]
[]
[null,"BKÜ",{"$f":"\"BKÜ\"&IF(H2=9,\"_9\",IF(H2<12,\"_10_11\",IF(H2<14,\"_12_13\",IF(H2<17,\"_14_16\",\"_17\"))))","v":"BKÜ_14_16"}]
[]
[null,"G_TV",{"$f":"IF(H2<17,\"beide\",F1)","v":"beide"}]
[null,"TV",{"$f":"\"TV_\"&C72&\"_\"&C60","v":"TV_beide_15_16"}]
[]
[null,{"$f":"SUM(H19,H9,H51)","v":109.5},"Vergleichspunktzahl aus Kraft, Beweglichkeit, Grundlagenausdauer, Bodenübung"]
[null,{"$f":"IF(B75>95,\"Ja\",\"Nein\")","v":"Ja"},"Vergleichspunktzahl erfüllt?"]
[null,{"$f":"IF(F1=\"Weiblich\",VLOOKUP(H2,Punktetabellen!$D$43:$F$49,3,1),VLOOKUP(H2,Punktetabellen!$D$43:$F$49,2,1))","v":162},"Mindest-Gesamtwert"]
[null,{"$f":"IF(H52>=B77,\"Ja\",\"Nein\")","v":"Ja"},"Gesamtwert erfüllt?"]
[null,{"$f":"IF(AND(B76=\"Ja\",B78=\"Ja\"),\"Ja\",\"Nein\")","v":"Ja"},"Alles erfüllt?"]

{"sheet":"StöhrGabriela","index":12,"n_rows":79,"n_cols":8,"rows_kept":79,"cut":false,"hidden":false,"merged":[[11,0,11,4],[0,1,0,4],[1,1,1,5],[2,0,2,4],[3,0,3,4],[4,0,4,4],[5,0,5,4],[6,0,6,4],[7,0,7,4],[8,0,8,6],[9,0,9,4],[10,0,10,4],[23,0,23,1],[12,0,12,4],[13,0,13,4],[14,0,14,4],[15,0,15,4],[16,0,16,1],[17,0,17,4],[18,0,18,6],[19,0,19,2],[20,0,20,2],[21,0,21,1],[22,0,22,1],[41,0,41,3],[30,0,30,1],[31,0,31,1],[32,0,32,1],[33,0,33,1],[34,0,34,1],[35,0,35,1],[36,0,36,6],[37,0,37,3],[38,0,38,3],[39,0,39,3],[40,0,40,3],[48,0,48,3],[49,0,49,3],[50,0,50,6],[51,0,51,6],[42,0,42,3],[43,0,43,3],[44,0,44,3],[45,0,45,3],[46,0,46,3],[47,0,47,3]]}
["Name","Stöhr, Gabriela",null,null,null,"weiblich","Jahrgang",2002]
["Verein","Munich-Airrders",null,null,null,null,"AK",{"$f":"2020-H1","v":18}]
["Übung",null,null,null,null,"Wert","Berechnung","Punkte"]
["Fußdehnung",null,null,null,null,10,"Bild",{"$f":"F4","v":10}]
["Briefmarke mit Armrumpfwinkel",null,null,null,null,10,"Bild",{"$f":"F5","v":10}]
["Bückbeweglichkeit",null,null,null,null,23,"Tabelle",{"$f":"IF(F6=\"\",0,VLOOKUP(F6,Punktetabellen!A10:B15,2,1))","v":10}]
["Querspagat links",null,null,null,null,0,"Tabelle",{"$f":"IF(F7=\"\",0,VLOOKUP(F7,Punktetabellen!A3:B6,2,0))","v":10}]
["Querspagat rechts",null,null,null,null,0,"Tabelle",{"$f":"IF(F8=\"\",0,VLOOKUP(F8,Punktetabellen!A3:B6,2,0))","v":10}]
["Gesamtpunktzahl Beweglichkeit",null,null,null,null,null,null,{"$f":"SUM(H4:H8)","v":50}]
["Übung",null,null,null,null,"Wert","Berechnung","Punktzahl"]
["Klimmzug",null,null,null,null,8,"Tabelle",{"$f":"IF(F11=\"\",0,IF(H2<12,VLOOKUP(F11,Punktetabellen!D4:F14,3,1),VLOOKUP(F11,Punktetabellen!E4:F14,2,1)))","v":3}]
["Beinheben",null,null,null,null,3,"Tabelle",{"$f":"IF(H2=9,VLOOKUP(F12,Punktetabellen!D19:F29,3,1),VLOOKUP(F12,Punktetabellen!E19:F29,2,1))","v":1}]
["Flieger",null,null,null,null,90,"Tabelle",{"$f":"IF(H2=9,VLOOKUP(F13,Punktetabellen!H4:K9,4,1),IF(H2<12,VLOOKUP(F13,Punktetabellen!I4:K9,3,1),VLOOKUP(F13,Punktetabellen!J4:K9,2,1)))","v":4}]
["Rollenverbindung",null,null,null,null,23,"Tabelle",{"$f":"IF(H2=9,VLOOKUP(F14,Punktetabellen!H14:K24,4,1),IF(H2<12,VLOOKUP(F14,Punktetabellen!I14:K24,3,1),VLOOKUP(F14,Punktetabellen!J14:K24,2,1)))","v":7}]
["Prellsprünge",null,null,null,null,null,"Tabelle",{"$f":"IF(H2=9,VLOOKUP(F15,Punktetabellen!M4:Q14,5,1),IF(H2<12,VLOOKUP(F15,Punktetabellen!N4:Q14,4,1),IF(H2<14,VLOOKUP(F15,Punktetabellen!O4:Q14,3,1),VLOOKUP(F15,Punktetabellen!P4:Q14,2,1))))","v":0}]
["Handstandstehen",null,null,null,null,30,"Tabelle",{"$f":"IF(F16=\"\",0,IF(H2<10,VLOOKUP(F16,Punktetabellen!D34:F40,3,1),VLOOKUP(F16,Punktetabellen!E34:F40,2,1)))","v":10}]
["Schweizer, Wiener",null,{"$f":"IF(H2<12,\"\",IF(AND(H2>13,H2<17),\"Schweizer: \",\"Wiener: \"))","v":"Wiener: "},0,{"$f":"IF(H2<12,\"\",IF(AND(H2>13,H2<17),\"Wiener: \",\"Schweizer: \"))","v":"Schweizer: "},0,"Tabelle",{"$f":"IF(H2<12,VLOOKUP(F17,Punktetabellen!A20:B25,2,1),((MIN(5,1*D17)*2)+MIN(MAX(0,5-(1*D17)),(1*F17))))","v":0}]
["Bleep-Test",null,null,null,null,"L8 S5","Tabelle",{"$f":"IF(F18=\"\",0,VLOOKUP(F18,INDIRECT(C55),2,0))","v":5}]
["Gesamtpunktzahl Kraft/Kondition",null,null,null,null,null,null,{"$f":"SUM(H11:H18)","v":30}]
["Übung",null,null,"Max / Soll","Max. Abzug","Abzug / Ist","Berechnung","Punkte"]
["Standsprunghöhe",null,null,{"$f":"IF(F1=\"männlich\",VLOOKUP(H2,Standsprünge!A3:C15,3,0),VLOOKUP(H2,Standsprünge!A3:B15,2,0))","v":16.399999999999999},null,null,"(Ist - Soll) x 10",{"$f":"IF(F21=\"\",0,(F21-D21)*10)","v":0}]
[{"$f":"IF(H2>16,\"entfällt\",\"TBN\")","v":"entfällt"},null,null,{"$f":"IF(C22=\"\",\"\",VLOOKUP(C22,INDIRECT($C$62),2,0))","v":""},{"$f":"IF(C22=\"\",\"\",VLOOKUP(C22,INDIRECT($C$62),3,0))","v":""},null,{"$f":"IF(H2>16,\"entfällt\",\"Wert - Abzug\")","v":"entfällt"},{"$f":"IF(A22=\"entfällt\",0,IF(F22=\"\",0,D22-F22))","v":0}]
[{"$f":"IF(H2>16,\"entfällt\",\"TBN\")","v":"entfällt"},null,null,{"$f":"IF(C23=\"\",\"\",VLOOKUP(C23,INDIRECT($C$62),2,0))","v":""},{"$f":"IF(C23=\"\",\"\",VLOOKUP(C23,INDIRECT($C$62),3,0))","v":""},null,{"$f":"IF(H2>16,\"entfällt\",\"Wert - Abzug\")","v":"entfällt"},{"$f":"IF(A23=\"entfällt\",0,IF(F23=\"\",0,D23-F23))","v":0}]
[{"$f":"IF(H2>12,\"entfällt\",\"TBN\")","v":"entfällt"},null,null,{"$f":"IF(C24=\"\",\"\",VLOOKUP(C24,INDIRECT($C$62),2,0))","v":""},{"$f":"IF(C24=\"\",\"\",VLOOKUP(C24,INDIRECT($C$62),3,0))","v":""},null,{"$f":"IF(H2>16,\"entfällt\",\"Wert - Abzug\")","v":"entfällt"},0]
["TN",{"$f":"IF(C25=\"\",\"\",VLOOKUP(C25,INDIRECT($C$65),2,0))","v":""},null,{"$f":"IF(C25=\"\",\"\",VLOOKUP(C25,INDIRECT($C$65),3,0))","v":""},{"$f":"IF(C25=\"\",\"\",VLOOKUP(C25,INDIRECT($C$65),4,0))","v":""},null,"Wert - Abzug",0]
["TN","",null,"","",null,"Wert - Abzug",0]
["TN","",null,"","",null,"Wert - Abzug",0]
[{"$f":"IF(H2>12,\"TN\",\"entfällt\")","v":"TN"},"",null,"","",null,{"$f":"IF(H2>12,\"Wert - Abzug\",\"entfällt\")","v":"Wert - Abzug"},0]
[{"$f":"IF(H2>16,\"TN\",\"entfällt\")","v":"TN"},"",null,"","",null,{"$f":"IF(H2>16,\"Wert - Abzug\",\"entfällt\")","v":"Wert - Abzug"},0]
[{"$f":"IF(H2>16,\"TN\",\"entfällt\")","v":"TN"},"",null,"","",null,{"$f":"IF(H2>16,\"Wert - Abzug\",\"entfällt\")","v":"Wert - Abzug"},{"$f":"IF(A30=\"entfällt\",0,IF(F30=\"\",0,D30-F30))","v":0}]
[{"$f":"IF($H$2>11,\"Verbindung Sprung 1\",\"entfällt\")","v":"Verbindung Sprung 1"},null,{"$f":"IF(A31<>\"entfällt\",VLOOKUP(1,INDIRECT($C$73),2,0),\"\")","v":"803<"},{"$f":"IF(A31<>\"entfällt\",VLOOKUP(1,INDIRECT($C$73),3,0),\"\")","v":15},{"$f":"IF(A31<>\"entfällt\",VLOOKUP(1,INDIRECT($C$73),4,0),\"\")","v":3},null,{"$f":"IF(H2>12,\"Wert - Abzug\",\"entfällt\")","v":"Wert - Abzug"},{"$f":"IF(A31=\"entfällt\",0,IF(F31=\"\",0,D31-F31))","v":0}]
[{"$f":"IF($H$2>11,\"Verbindung Sprung 2\",\"entfällt\")","v":"Verbindung Sprung 2"},null,{"$f":"IF(A32<>\"entfällt\",VLOOKUP(2,INDIRECT($C$73),2,0),\"\")","v":"40<"},{"$f":"IF(A32<>\"entfällt\",VLOOKUP(2,INDIRECT($C$73),3,0),\"\")","v":6},{"$f":"IF(A32<>\"entfällt\",VLOOKUP(2,INDIRECT($C$73),4,0),\"\")","v":3},null,{"$f":"IF(H2>12,\"Wert - Abzug\",\"entfällt\")","v":"Wert - Abzug"},{"$f":"IF(A32=\"entfällt\",0,IF(F32=\"\",0,D32-F32))","v":0}]
[{"$f":"IF($H$2>11,\"Verbindung Sprung 3\",\"entfällt\")","v":"Verbindung Sprung 3"},null,{"$f":"IF(A33<>\"entfällt\",VLOOKUP(3,INDIRECT($C$73),2,0),\"\")","v":"801<"},{"$f":"IF(A33<>\"entfällt\",VLOOKUP(3,INDIRECT($C$73),3,0),\"\")","v":13},{"$f":"IF(A33<>\"entfällt\",VLOOKUP(3,INDIRECT($C$73),4,0),\"\")","v":3},null,{"$f":"IF(H2>12,\"Wert - Abzug\",\"entfällt\")","v":"Wert - Abzug"},0]
[{"$f":"IF($H$2>11,\"Verbindung Sprung 4\",\"entfällt\")","v":"Verbindung Sprung 4"},null,{"$f":"IF(A34<>\"entfällt\",VLOOKUP(4,INDIRECT($C$73),2,0),\"\")","v":"40/"},{"$f":"IF(A34<>\"entfällt\",VLOOKUP(4,INDIRECT($C$73),3,0),\"\")","v":6},{"$f":"IF(A34<>\"entfällt\",VLOOKUP(4,INDIRECT($C$73),4,0),\"\")","v":3},null,{"$f":"IF(H2>12,\"Wert - Abzug\",\"entfällt\")","v":"Wert - Abzug"},0]
[{"$f":"IF($H$2>11,\"Verbindung Sprung 5\",\"entfällt\")","v":"Verbindung Sprung 5"},null,{"$f":"IF(A35<>\"entfällt\",VLOOKUP(5,INDIRECT($C$73),2,0),\"\")","v":"41/"},{"$f":"IF(A35<>\"entfällt\",VLOOKUP(5,INDIRECT($C$73),3,0),\"\")","v":6},{"$f":"IF(A35<>\"entfällt\",VLOOKUP(5,INDIRECT($C$73),4,0),\"\")","v":3},null,{"$f":"IF(H2>12,\"Wert - Abzug\",\"entfällt\")","v":"Wert - Abzug"},0]
[{"$f":"IF($H$2>11,\"Verbindung Sprung 6\",\"entfällt\")","v":"Verbindung Sprung 6"},null,{"$f":"IF(A36<>\"entfällt\",VLOOKUP(6,INDIRECT($C$73),2,0),\"\")","v":"811°"},{"$f":"IF(A36<>\"entfällt\",VLOOKUP(6,INDIRECT($C$73),3,0),\"\")","v":12},{"$f":"IF(A36<>\"entfällt\",VLOOKUP(6,INDIRECT($C$73),4,0),\"\")","v":3},null,{"$f":"IF(H2>12,\"Wert - Abzug\",\"entfällt\")","v":"Wert - Abzug"},{"$f":"IF(A36=\"entfällt\",0,IF(F36=\"\",0,D36-F36))","v":0}]
["Gesamtpunktzahl Trampolin",null,null,null,null,null,null,{"$f":"SUM(H21:H36)","v":0}]
["Element",null,null,null,"Wert","Abzug","Berechnung","Punkte"]
[{"$f":"VLOOKUP(1,INDIRECT($C$70),2,0)","v":"Salto vorwärts gehockt aus dem Stand"},null,null,null,{"$f":"VLOOKUP(1,INDIRECT($C$70),3,0)","v":5},null,"Wert - Abzug",{"$f":"IF(E39=\" \",\"\",IF(F39=\"\",0,E39-F39))","v":0}]
[{"$f":"VLOOKUP(2,INDIRECT($C$70),2,0)","v":"Vorspreizen, Bestellschritt, Strecksprung 3/2 Drehung"},null,null,null,{"$f":"VLOOKUP(2,INDIRECT($C$70),3,0)","v":3},null,"Wert - Abzug",{"$f":"IF(E40=\" \",\"\",IF(F40=\"\",0,E40-F40))","v":0}]
[{"$f":"VLOOKUP(3,INDIRECT($C$70),2,0)","v":"Rolle rückwärts durch Handstand mit 1/2 Drehung"},null,null,null,{"$f":"VLOOKUP(3,INDIRECT($C$70),3,0)","v":4},2,"Wert - Abzug",2]
[{"$f":"VLOOKUP(4,INDIRECT($C$70),2,0)","v":"--> Strecksprung --> Salto vorwärts gehockt"},null,null,null,{"$f":"VLOOKUP(4,INDIRECT($C$70),3,0)","v":4},null,"Wert - Abzug",0]
[{"$f":"VLOOKUP(5,INDIRECT($C$70),2,0)","v":"Wiener, 1/2 Drehung, absenken zum Stand"},null,null,null,{"$f":"VLOOKUP(5,INDIRECT($C$70),3,0)","v":4},null,"Wert - Abzug",0]
[{"$f":"VLOOKUP(6,INDIRECT($C$70),2,0)","v":"Handstand mit zwei Hüpfern, abrollen"},null,null,null,{"$f":"VLOOKUP(6,INDIRECT($C$70),3,0)","v":2},0,"Wert - Abzug",2]
[{"$f":"VLOOKUP(7,INDIRECT($C$70),2,0)","v":"--> aufstehen mit gestreckten Beinen"},null,null,null,{"$f":"VLOOKUP(7,INDIRECT($C$70),3,0)","v":3},0,"Wert - Abzug",3]
[{"$f":"VLOOKUP(8,INDIRECT($C$70),2,0)","v":"Salto rückwärts gebückt"},null,null,null,{"$f":"VLOOKUP(8,INDIRECT($C$70),3,0)","v":5},null,"Wert - Abzug",0]
[{"$f":"VLOOKUP(9,INDIRECT($C$70),2,0)","v":" "},null,null,null,{"$f":"VLOOKUP(9,INDIRECT($C$70),3,0)","v":" "},null,{"$f":"IF(H2>16,\"\",\"Wert - Abzug\")","v":""},""]
[{"$f":"VLOOKUP(10,INDIRECT($C$70),2,0)","v":" "},null,null,null,{"$f":"VLOOKUP(10,INDIRECT($C$70),3,0)","v":" "},null,{"$f":"IF(H2>16,\"\",\"Wert - Abzug\")","v":""},""]
[{"$f":"VLOOKUP(11,INDIRECT($C$70),2,0)","v":" "},null,null,null,{"$f":"VLOOKUP(11,INDIRECT($C$70),3,0)","v":" "},null,{"$f":"IF(H2>13,\"\",\"Wert - Abzug\")","v":""},""]
[{"$f":"VLOOKUP(12,INDIRECT($C$70),2,0)","v":" "},null,null,null,{"$f":"VLOOKUP(12,INDIRECT($C$70),3,0)","v":" "},null,{"$f":"IF(OR(H2=9,H2=12,H2=13),\"Wert - Abzug\",\"\")","v":""},""]
["Gesamtpunktzahl Bodenkomplexübung",null,null,null,null,null,null,{"$f":"SUM(H39:H50)","v":7}]
["Gesamtpunktzahl",null,null,null,null,null,null,{"$f":"SUM(H9,H19,H37,H51)","v":87}]
[]
[]
[null,"Shuttles",{"$f":"\"Shuttles_\"&F1&IF(H2=9,\"_9\",IF(H2<12,\"_10_11\",IF(H2<14,\"_12_13\",IF(H2<17,\"_14_16\",\"_17\"))))","v":"Shuttles_weiblich_17"}]
[null,null,{"$f":"\"Shuttles_\"&F1&IF(H2=9,\"_9\",IF(H2<12,\"_10_11\",IF(H2<14,\"_12_13\",IF(H2<17,\"_14_16\",\"_17\"))))&\"[Shuttle]\"","v":"Shuttles_weiblich_17[Shuttle]"}]
[null,null,{"$f":"\"Shuttles_\"&F1&IF(H2=9,\"_9\",IF(H2<12,\"_10_11\",IF(H2<14,\"_12_13\",IF(H2<17,\"_14_16\",\"_17\"))))&\"[Punkte]\"","v":"Shuttles_weiblich_17[Punkte]"}]
[]
[null,"G_TBN TN BKÜ",{"$f":"IF(H2<13,\"beide\",F1)","v":"weiblich"}]
[null,"AK",{"$f":"IF(OR(H2=9,H2=12),H2,IF(H2<12,\"10_11\",IF(H2<15,\"13_14\",IF(H2<17,\"15_16\",IF(H2<19,\"17_18\",19)))))","v":"17_18"}]
[]
[null,"TBN",{"$f":"\"TBN_\"&C59&\"_\"&C60","v":"TBN_weiblich_17_18"}]
[null,null,{"$f":"C62&\"[Beschreibung]\"","v":"TBN_weiblich_17_18[Beschreibung]"}]
[]
[null,"TN",{"$f":"\"TN_\"&C59&\"_\"&C60","v":"TN_weiblich_17_18"}]
[null,null,{"$f":"C65&\"[Beschreibung]\"","v":"TN_weiblich_17_18[Beschreibung]"}]
[]
[null,"TV",{"$f":"\"TV_\"&F1&\"_\"&C60","v":"TV_weiblich_17_18"}]
[]
[null,"BKÜ",{"$f":"\"BKÜ\"&IF(H2=9,\"_9\",IF(H2<12,\"_10_11\",IF(H2<14,\"_12_13\",IF(H2<17,\"_14_16\",\"_17\"))))","v":"BKÜ_17"}]
[]
[null,"G_TV",{"$f":"IF(H2<17,\"beide\",F1)","v":"weiblich"}]
[null,"TV",{"$f":"\"TV_\"&C72&\"_\"&C60","v":"TV_weiblich_17_18"}]
[]
[null,{"$f":"SUM(H19,H9,H51)","v":87},"Vergleichspunktzahl aus Kraft, Beweglichkeit, Grundlagenausdauer, Bodenübung"]
[null,{"$f":"IF(B75>95,\"Ja\",\"Nein\")","v":"Nein"},"Vergleichspunktzahl erfüllt?"]
[null,{"$f":"IF(F1=\"Weiblich\",VLOOKUP(H2,Punktetabellen!$D$43:$F$49,3,1),VLOOKUP(H2,Punktetabellen!$D$43:$F$49,2,1))","v":169},"Mindest-Gesamtwert"]
[null,{"$f":"IF(H52>=B77,\"Ja\",\"Nein\")","v":"Nein"},"Gesamtwert erfüllt?"]
[null,{"$f":"IF(AND(B76=\"Ja\",B78=\"Ja\"),\"Ja\",\"Nein\")","v":"Nein"},"Alles erfüllt?"]

{"sheet":"BraafLuisa","index":13,"n_rows":79,"n_cols":8,"rows_kept":79,"cut":false,"hidden":false,"merged":[[11,0,11,4],[0,1,0,4],[1,1,1,5],[2,0,2,4],[3,0,3,4],[4,0,4,4],[5,0,5,4],[6,0,6,4],[7,0,7,4],[8,0,8,6],[9,0,9,4],[10,0,10,4],[23,0,23,1],[12,0,12,4],[13,0,13,4],[14,0,14,4],[15,0,15,4],[16,0,16,1],[17,0,17,4],[18,0,18,6],[19,0,19,2],[20,0,20,2],[21,0,21,1],[22,0,22,1],[41,0,41,3],[30,0,30,1],[31,0,31,1],[32,0,32,1],[33,0,33,1],[34,0,34,1],[35,0,35,1],[36,0,36,6],[37,0,37,3],[38,0,38,3],[39,0,39,3],[40,0,40,3],[48,0,48,3],[49,0,49,3],[50,0,50,6],[51,0,51,6],[42,0,42,3],[43,0,43,3],[44,0,44,3],[45,0,45,3],[46,0,46,3],[47,0,47,3]]}
["Name","Braaf, Luisa",null,null,null,"weiblich","Jahrgang",2004]
["Verein","TV Blecher",null,null,null,null,"AK",{"$f":"2020-H1","v":16}]
["Übung",null,null,null,null,"Wert","Berechnung","Punkte"]
["Fußdehnung",null,null,null,null,10,"Bild",{"$f":"F4","v":10}]
["Briefmarke mit Armrumpfwinkel",null,null,null,null,10,"Bild",{"$f":"F5","v":10}]
["Bückbeweglichkeit",null,null,null,null,18,"Tabelle",{"$f":"IF(F6=\"\",0,VLOOKUP(F6,Punktetabellen!A10:B15,2,1))","v":8}]
["Querspagat links",null,null,null,null,0,"Tabelle",{"$f":"IF(F7=\"\",0,VLOOKUP(F7,Punktetabellen!A3:B6,2,0))","v":10}]
["Querspagat rechts",null,null,null,null,0,"Tabelle",{"$f":"IF(F8=\"\",0,VLOOKUP(F8,Punktetabellen!A3:B6,2,0))","v":10}]
["Gesamtpunktzahl Beweglichkeit",null,null,null,null,null,null,{"$f":"SUM(H4:H8)","v":48}]
["Übung",null,null,null,null,"Wert","Berechnung","Punktzahl"]
["Klimmzug",null,null,null,null,11,"Tabelle",{"$f":"IF(F11=\"\",0,IF(H2<12,VLOOKUP(F11,Punktetabellen!D4:F14,3,1),VLOOKUP(F11,Punktetabellen!E4:F14,2,1)))","v":6}]
["Beinheben",null,null,null,null,8,"Tabelle",{"$f":"IF(H2=9,VLOOKUP(F12,Punktetabellen!D19:F29,3,1),VLOOKUP(F12,Punktetabellen!E19:F29,2,1))","v":4}]
["Flieger",null,null,null,null,120,"Tabelle",{"$f":"IF(H2=9,VLOOKUP(F13,Punktetabellen!H4:K9,4,1),IF(H2<12,VLOOKUP(F13,Punktetabellen!I4:K9,3,1),VLOOKUP(F13,Punktetabellen!J4:K9,2,1)))","v":10}]
["Rollenverbindung",null,null,null,null,29,"Tabelle",{"$f":"IF(H2=9,VLOOKUP(F14,Punktetabellen!H14:K24,4,1),IF(H2<12,VLOOKUP(F14,Punktetabellen!I14:K24,3,1),VLOOKUP(F14,Punktetabellen!J14:K24,2,1)))","v":10}]
["Prellsprünge",null,null,null,null,10,"Tabelle",{"$f":"IF(H2=9,VLOOKUP(F15,Punktetabellen!M4:Q14,5,1),IF(H2<12,VLOOKUP(F15,Punktetabellen!N4:Q14,4,1),IF(H2<14,VLOOKUP(F15,Punktetabellen!O4:Q14,3,1),VLOOKUP(F15,Punktetabellen!P4:Q14,2,1))))","v":10}]
["Handstandstehen",null,null,null,null,30,"Tabelle",{"$f":"IF(F16=\"\",0,IF(H2<10,VLOOKUP(F16,Punktetabellen!D34:F40,3,1),VLOOKUP(F16,Punktetabellen!E34:F40,2,1)))","v":10}]
["Schweizer, Wiener",null,{"$f":"IF(H2<12,\"\",IF(AND(H2>13,H2<17),\"Schweizer: \",\"Wiener: \"))","v":"Schweizer: "},0,{"$f":"IF(H2<12,\"\",IF(AND(H2>13,H2<17),\"Wiener: \",\"Schweizer: \"))","v":"Wiener: "},2,"Tabelle",{"$f":"IF(H2<12,VLOOKUP(F17,Punktetabellen!A20:B25,2,1),((MIN(5,1*D17)*2)+MIN(MAX(0,5-(1*D17)),(1*F17))))","v":2}]
["Bleep-Test",null,null,null,null,"L9 S11","Tabelle",{"$f":"IF(F18=\"\",0,VLOOKUP(F18,INDIRECT(C55),2,0))","v":10}]
["Gesamtpunktzahl Kraft/Kondition",null,null,null,null,null,null,{"$f":"SUM(H11:H18)","v":62}]
["Übung",null,null,"Max / Soll","Max. Abzug","Abzug / Ist","Berechnung","Punkte"]
["Standsprunghöhe",null,null,{"$f":"IF(F1=\"männlich\",VLOOKUP(H2,Standsprünge!A3:C15,3,0),VLOOKUP(H2,Standsprünge!A3:B15,2,0))","v":16.3},null,16.579999999999998,"(Ist - Soll) x 10",{"$f":"IF(F21=\"\",0,(F21-D21)*10)","v":2.7999999999999758}]
[{"$f":"IF(H2>16,\"entfällt\",\"TBN\")","v":"TBN"},null,"7/4 Salto vw c zum Rücken, 1/1 aus",{"$f":"IF(C22=\"\",\"\",VLOOKUP(C22,INDIRECT($C$62),2,0))","v":10},{"$f":"IF(C22=\"\",\"\",VLOOKUP(C22,INDIRECT($C$62),3,0))","v":6},4,{"$f":"IF(H2>16,\"entfällt\",\"Wert - Abzug\")","v":"Wert - Abzug"},{"$f":"IF(A22=\"entfällt\",0,IF(F22=\"\",0,D22-F22))","v":6}]
[{"$f":"IF(H2>16,\"entfällt\",\"TBN\")","v":"TBN"},null,"7/4 Salto vw b zum Rücken, 1/1 aus",{"$f":"IF(C23=\"\",\"\",VLOOKUP(C23,INDIRECT($C$62),2,0))","v":10},{"$f":"IF(C23=\"\",\"\",VLOOKUP(C23,INDIRECT($C$62),3,0))","v":6},2,{"$f":"IF(H2>16,\"entfällt\",\"Wert - Abzug\")","v":"Wert - Abzug"},{"$f":"IF(A23=\"entfällt\",0,IF(F23=\"\",0,D23-F23))","v":8}]
[{"$f":"IF(H2>12,\"entfällt\",\"TBN\")","v":"entfällt"},null,null,{"$f":"IF(C24=\"\",\"\",VLOOKUP(C24,INDIRECT($C$62),2,0))","v":""},{"$f":"IF(C24=\"\",\"\",VLOOKUP(C24,INDIRECT($C$62),3,0))","v":""},null,{"$f":"IF(H2>16,\"entfällt\",\"Wert - Abzug\")","v":"Wert - Abzug"},0]
["TN",{"$f":"IF(C25=\"\",\"\",VLOOKUP(C25,INDIRECT($C$65),2,0))","v":"821°"},"1/1 ein 1/2 aus c",{"$f":"IF(C25=\"\",\"\",VLOOKUP(C25,INDIRECT($C$65),3,0))","v":13},{"$f":"IF(C25=\"\",\"\",VLOOKUP(C25,INDIRECT($C$65),4,0))","v":6},6,"Wert - Abzug",7]
["TN","811<","1/2 ein 1/2 aus b",14,6,6,"Wert - Abzug",8]
["TN","803<","Fliffisrudi b",15,6,4,"Wert - Abzug",11]
[{"$f":"IF(H2>12,\"TN\",\"entfällt\")","v":"TN"},"803°","Fliffisrudi c",13,6,4,{"$f":"IF(H2>12,\"Wert - Abzug\",\"entfällt\")","v":"Wert - Abzug"},9]
[{"$f":"IF(H2>16,\"TN\",\"entfällt\")","v":"entfällt"},"",null,"","",null,{"$f":"IF(H2>16,\"Wert - Abzug\",\"entfällt\")","v":"entfällt"},0]
[{"$f":"IF(H2>16,\"TN\",\"entfällt\")","v":"entfällt"},"",null,"","",null,{"$f":"IF(H2>16,\"Wert - Abzug\",\"entfällt\")","v":"entfällt"},{"$f":"IF(A30=\"entfällt\",0,IF(F30=\"\",0,D30-F30))","v":0}]
[{"$f":"IF($H$2>11,\"Verbindung Sprung 1\",\"entfällt\")","v":"Verbindung Sprung 1"},null,{"$f":"IF(A31<>\"entfällt\",VLOOKUP(1,INDIRECT($C$73),2,0),\"\")","v":"801<"},{"$f":"IF(A31<>\"entfällt\",VLOOKUP(1,INDIRECT($C$73),3,0),\"\")","v":13},{"$f":"IF(A31<>\"entfällt\",VLOOKUP(1,INDIRECT($C$73),4,0),\"\")","v":3},2,{"$f":"IF(H2>12,\"Wert - Abzug\",\"entfällt\")","v":"Wert - Abzug"},{"$f":"IF(A31=\"entfällt\",0,IF(F31=\"\",0,D31-F31))","v":11}]
[{"$f":"IF($H$2>11,\"Verbindung Sprung 2\",\"entfällt\")","v":"Verbindung Sprung 2"},null,{"$f":"IF(A32<>\"entfällt\",VLOOKUP(2,INDIRECT($C$73),2,0),\"\")","v":"40<"},{"$f":"IF(A32<>\"entfällt\",VLOOKUP(2,INDIRECT($C$73),3,0),\"\")","v":6},{"$f":"IF(A32<>\"entfällt\",VLOOKUP(2,INDIRECT($C$73),4,0),\"\")","v":3},1,{"$f":"IF(H2>12,\"Wert - Abzug\",\"entfällt\")","v":"Wert - Abzug"},{"$f":"IF(A32=\"entfällt\",0,IF(F32=\"\",0,D32-F32))","v":5}]
[{"$f":"IF($H$2>11,\"Verbindung Sprung 3\",\"entfällt\")","v":"Verbindung Sprung 3"},null,{"$f":"IF(A33<>\"entfällt\",VLOOKUP(3,INDIRECT($C$73),2,0),\"\")","v":"801°"},{"$f":"IF(A33<>\"entfällt\",VLOOKUP(3,INDIRECT($C$73),3,0),\"\")","v":11},{"$f":"IF(A33<>\"entfällt\",VLOOKUP(3,INDIRECT($C$73),4,0),\"\")","v":3},1,{"$f":"IF(H2>12,\"Wert - Abzug\",\"entfällt\")","v":"Wert - Abzug"},10]
[{"$f":"IF($H$2>11,\"Verbindung Sprung 4\",\"entfällt\")","v":"Verbindung Sprung 4"},null,{"$f":"IF(A34<>\"entfällt\",VLOOKUP(4,INDIRECT($C$73),2,0),\"\")","v":"40/"},{"$f":"IF(A34<>\"entfällt\",VLOOKUP(4,INDIRECT($C$73),3,0),\"\")","v":6},{"$f":"IF(A34<>\"entfällt\",VLOOKUP(4,INDIRECT($C$73),4,0),\"\")","v":3},2,{"$f":"IF(H2>12,\"Wert - Abzug\",\"entfällt\")","v":"Wert - Abzug"},4]
[{"$f":"IF($H$2>11,\"Verbindung Sprung 5\",\"entfällt\")","v":"Verbindung Sprung 5"},null,{"$f":"IF(A35<>\"entfällt\",VLOOKUP(5,INDIRECT($C$73),2,0),\"\")","v":"41/"},{"$f":"IF(A35<>\"entfällt\",VLOOKUP(5,INDIRECT($C$73),3,0),\"\")","v":6},{"$f":"IF(A35<>\"entfällt\",VLOOKUP(5,INDIRECT($C$73),4,0),\"\")","v":3},1,{"$f":"IF(H2>12,\"Wert - Abzug\",\"entfällt\")","v":"Wert - Abzug"},5]
[{"$f":"IF($H$2>11,\"Verbindung Sprung 6\",\"entfällt\")","v":"Verbindung Sprung 6"},null,{"$f":"IF(A36<>\"entfällt\",VLOOKUP(6,INDIRECT($C$73),2,0),\"\")","v":"800°"},{"$f":"IF(A36<>\"entfällt\",VLOOKUP(6,INDIRECT($C$73),3,0),\"\")","v":10},{"$f":"IF(A36<>\"entfällt\",VLOOKUP(6,INDIRECT($C$73),4,0),\"\")","v":3},1,{"$f":"IF(H2>12,\"Wert - Abzug\",\"entfällt\")","v":"Wert - Abzug"},{"$f":"IF(A36=\"entfällt\",0,IF(F36=\"\",0,D36-F36))","v":9}]
["Gesamtpunktzahl Trampolin",null,null,null,null,null,null,{"$f":"SUM(H21:H36)","v":95.799999999999983}]
["Element",null,null,null,"Wert","Abzug","Berechnung","Punkte"]
[{"$f":"VLOOKUP(1,INDIRECT($C$70),2,0)","v":"Flugrolle mit Überstrecken mit Anlauf"},null,null,null,{"$f":"VLOOKUP(1,INDIRECT($C$70),3,0)","v":3},0,"Wert - Abzug",{"$f":"IF(E39=\" \",\"\",IF(F39=\"\",0,E39-F39))","v":3}]
[{"$f":"VLOOKUP(2,INDIRECT($C$70),2,0)","v":"--> Strecksprung, Salto vorwärts gehockt"},null,null,null,{"$f":"VLOOKUP(2,INDIRECT($C$70),3,0)","v":4.5},0,"Wert - Abzug",{"$f":"IF(E40=\" \",\"\",IF(F40=\"\",0,E40-F40))","v":4.5}]
[{"$f":"VLOOKUP(3,INDIRECT($C$70),2,0)","v":"Vorspreizen, Handstand mit 1/1 Drehung, abrollen"},null,null,null,{"$f":"VLOOKUP(3,INDIRECT($C$70),3,0)","v":3},0,"Wert - Abzug",3]
[{"$f":"VLOOKUP(4,INDIRECT($C$70),2,0)","v":"--> Aufstehen mit gestreckten Beinen"},null,null,null,{"$f":"VLOOKUP(4,INDIRECT($C$70),3,0)","v":3},0,"Wert - Abzug",3]
[{"$f":"VLOOKUP(5,INDIRECT($C$70),2,0)","v":"Vorspreizen, Bestellschritt, Strecksprung 3/2 Drehung"},null,null,null,{"$f":"VLOOKUP(5,INDIRECT($C$70),3,0)","v":3},1,"Wert - Abzug",2]
[{"$f":"VLOOKUP(6,INDIRECT($C$70),2,0)","v":"Salto rückwärts gehockt"},null,null,null,{"$f":"VLOOKUP(6,INDIRECT($C$70),3,0)","v":3},0.5,"Wert - Abzug",2.5]
[{"$f":"VLOOKUP(7,INDIRECT($C$70),2,0)","v":"Handstützüberschlag"},null,null,null,{"$f":"VLOOKUP(7,INDIRECT($C$70),3,0)","v":3},0,"Wert - Abzug",3]
[{"$f":"VLOOKUP(8,INDIRECT($C$70),2,0)","v":"--> Ansprung Schrittstellung, Handstand mit zwei Hüpfern"},null,null,null,{"$f":"VLOOKUP(8,INDIRECT($C$70),3,0)","v":3},0,"Wert - Abzug",3]
[{"$f":"VLOOKUP(9,INDIRECT($C$70),2,0)","v":"Abrollen --> Strecksprung 1/2 Drehung"},null,null,null,{"$f":"VLOOKUP(9,INDIRECT($C$70),3,0)","v":1.5},0,{"$f":"IF(H2>16,\"\",\"Wert - Abzug\")","v":"Wert - Abzug"},1.5]
[{"$f":"VLOOKUP(10,INDIRECT($C$70),2,0)","v":"Salto vorwärts gebückt mit Anlauf"},null,null,null,{"$f":"VLOOKUP(10,INDIRECT($C$70),3,0)","v":3},0,{"$f":"IF(H2>16,\"\",\"Wert - Abzug\")","v":"Wert - Abzug"},3]
[{"$f":"VLOOKUP(11,INDIRECT($C$70),2,0)","v":" "},null,null,null,{"$f":"VLOOKUP(11,INDIRECT($C$70),3,0)","v":" "},null,{"$f":"IF(H2>13,\"\",\"Wert - Abzug\")","v":""},""]
[{"$f":"VLOOKUP(12,INDIRECT($C$70),2,0)","v":" "},null,null,null,{"$f":"VLOOKUP(12,INDIRECT($C$70),3,0)","v":" "},null,{"$f":"IF(OR(H2=9,H2=12,H2=13),\"Wert - Abzug\",\"\")","v":""},""]
["Gesamtpunktzahl Bodenkomplexübung",null,null,null,null,null,null,{"$f":"SUM(H39:H50)","v":28.5}]
["Gesamtpunktzahl",null,null,null,null,null,null,{"$f":"SUM(H9,H19,H37,H51)","v":234.29999999999998}]
[]
[]
[null,"Shuttles",{"$f":"\"Shuttles_\"&F1&IF(H2=9,\"_9\",IF(H2<12,\"_10_11\",IF(H2<14,\"_12_13\",IF(H2<17,\"_14_16\",\"_17\"))))","v":"Shuttles_weiblich_14_16"}]
[null,null,{"$f":"\"Shuttles_\"&F1&IF(H2=9,\"_9\",IF(H2<12,\"_10_11\",IF(H2<14,\"_12_13\",IF(H2<17,\"_14_16\",\"_17\"))))&\"[Shuttle]\"","v":"Shuttles_weiblich_14_16[Shuttle]"}]
[null,null,{"$f":"\"Shuttles_\"&F1&IF(H2=9,\"_9\",IF(H2<12,\"_10_11\",IF(H2<14,\"_12_13\",IF(H2<17,\"_14_16\",\"_17\"))))&\"[Punkte]\"","v":"Shuttles_weiblich_14_16[Punkte]"}]
[]
[null,"G_TBN TN BKÜ",{"$f":"IF(H2<13,\"beide\",F1)","v":"weiblich"}]
[null,"AK",{"$f":"IF(OR(H2=9,H2=12),H2,IF(H2<12,\"10_11\",IF(H2<15,\"13_14\",IF(H2<17,\"15_16\",IF(H2<19,\"17_18\",19)))))","v":"15_16"}]
[]
[null,"TBN",{"$f":"\"TBN_\"&C59&\"_\"&C60","v":"TBN_weiblich_15_16"}]
[null,null,{"$f":"C62&\"[Beschreibung]\"","v":"TBN_weiblich_15_16[Beschreibung]"}]
[]
[null,"TN",{"$f":"\"TN_\"&C59&\"_\"&C60","v":"TN_weiblich_15_16"}]
[null,null,{"$f":"C65&\"[Beschreibung]\"","v":"TN_weiblich_15_16[Beschreibung]"}]
[]
[null,"TV",{"$f":"\"TV_\"&F1&\"_\"&C60","v":"TV_weiblich_15_16"}]
[]
[null,"BKÜ",{"$f":"\"BKÜ\"&IF(H2=9,\"_9\",IF(H2<12,\"_10_11\",IF(H2<14,\"_12_13\",IF(H2<17,\"_14_16\",\"_17\"))))","v":"BKÜ_14_16"}]
[]
[null,"G_TV",{"$f":"IF(H2<17,\"beide\",F1)","v":"beide"}]
[null,"TV",{"$f":"\"TV_\"&C72&\"_\"&C60","v":"TV_beide_15_16"}]
[]
[null,{"$f":"SUM(H19,H9,H51)","v":138.5},"Vergleichspunktzahl aus Kraft, Beweglichkeit, Grundlagenausdauer, Bodenübung"]
[null,{"$f":"IF(B75>95,\"Ja\",\"Nein\")","v":"Ja"},"Vergleichspunktzahl erfüllt?"]
[null,{"$f":"IF(F1=\"Weiblich\",VLOOKUP(H2,Punktetabellen!$D$43:$F$49,3,1),VLOOKUP(H2,Punktetabellen!$D$43:$F$49,2,1))","v":159},"Mindest-Gesamtwert"]
[null,{"$f":"IF(H52>=B77,\"Ja\",\"Nein\")","v":"Ja"},"Gesamtwert erfüllt?"]
[null,{"$f":"IF(AND(B76=\"Ja\",B78=\"Ja\"),\"Ja\",\"Nein\")","v":"Ja"},"Alles erfüllt?"]

{"sheet":"ThomsonAdrian","index":14,"n_rows":79,"n_cols":8,"rows_kept":79,"cut":false,"hidden":false,"merged":[[11,0,11,4],[0,1,0,4],[1,1,1,5],[2,0,2,4],[3,0,3,4],[4,0,4,4],[5,0,5,4],[6,0,6,4],[7,0,7,4],[8,0,8,6],[9,0,9,4],[10,0,10,4],[23,0,23,1],[12,0,12,4],[13,0,13,4],[14,0,14,4],[15,0,15,4],[16,0,16,1],[17,0,17,4],[18,0,18,6],[19,0,19,2],[20,0,20,2],[21,0,21,1],[22,0,22,1],[41,0,41,3],[30,0,30,1],[31,0,31,1],[32,0,32,1],[33,0,33,1],[34,0,34,1],[35,0,35,1],[36,0,36,6],[37,0,37,3],[38,0,38,3],[39,0,39,3],[40,0,40,3],[48,0,48,3],[49,0,49,3],[50,0,50,6],[51,0,51,6],[42,0,42,3],[43,0,43,3],[44,0,44,3],[45,0,45,3],[46,0,46,3],[47,0,47,3]]}
["Name","Thomson, Adrian",null,null,null,"männlich","Jahrgang",2006]
["Verein","TG Münster",null,null,null,null,"AK",{"$f":"2020-H1","v":14}]
["Übung",null,null,null,null,"Wert","Berechnung","Punkte"]
["Fußdehnung",null,null,null,null,10,"Bild",{"$f":"F4","v":10}]
["Briefmarke mit Armrumpfwinkel",null,null,null,null,6,"Bild",{"$f":"F5","v":6}]
["Bückbeweglichkeit",null,null,null,null,20,"Tabelle",{"$f":"IF(F6=\"\",0,VLOOKUP(F6,Punktetabellen!A10:B15,2,1))","v":10}]
["Querspagat links",null,null,null,null,"<5 cm","Tabelle",{"$f":"IF(F7=\"\",0,VLOOKUP(F7,Punktetabellen!A3:B6,2,0))","v":6}]
["Querspagat rechts",null,null,null,null,"<5 cm","Tabelle",{"$f":"IF(F8=\"\",0,VLOOKUP(F8,Punktetabellen!A3:B6,2,0))","v":6}]
["Gesamtpunktzahl Beweglichkeit",null,null,null,null,null,null,{"$f":"SUM(H4:H8)","v":38}]
["Übung",null,null,null,null,"Wert","Berechnung","Punktzahl"]
["Klimmzug",null,null,null,null,12,"Tabelle",{"$f":"IF(F11=\"\",0,IF(H2<12,VLOOKUP(F11,Punktetabellen!D4:F14,3,1),VLOOKUP(F11,Punktetabellen!E4:F14,2,1)))","v":7}]
["Beinheben",null,null,null,null,8,"Tabelle",{"$f":"IF(H2=9,VLOOKUP(F12,Punktetabellen!D19:F29,3,1),VLOOKUP(F12,Punktetabellen!E19:F29,2,1))","v":4}]
["Flieger",null,null,null,null,80,"Tabelle",{"$f":"IF(H2=9,VLOOKUP(F13,Punktetabellen!H4:K9,4,1),IF(H2<12,VLOOKUP(F13,Punktetabellen!I4:K9,3,1),VLOOKUP(F13,Punktetabellen!J4:K9,2,1)))","v":2}]
["Rollenverbindung",null,null,null,null,29,"Tabelle",{"$f":"IF(H2=9,VLOOKUP(F14,Punktetabellen!H14:K24,4,1),IF(H2<12,VLOOKUP(F14,Punktetabellen!I14:K24,3,1),VLOOKUP(F14,Punktetabellen!J14:K24,2,1)))","v":10}]
["Prellsprünge",null,null,null,null,10,"Tabelle",{"$f":"IF(H2=9,VLOOKUP(F15,Punktetabellen!M4:Q14,5,1),IF(H2<12,VLOOKUP(F15,Punktetabellen!N4:Q14,4,1),IF(H2<14,VLOOKUP(F15,Punktetabellen!O4:Q14,3,1),VLOOKUP(F15,Punktetabellen!P4:Q14,2,1))))","v":10}]
["Handstandstehen",null,null,null,null,30,"Tabelle",{"$f":"IF(F16=\"\",0,IF(H2<10,VLOOKUP(F16,Punktetabellen!D34:F40,3,1),VLOOKUP(F16,Punktetabellen!E34:F40,2,1)))","v":10}]
["Schweizer, Wiener",null,{"$f":"IF(H2<12,\"\",IF(AND(H2>13,H2<17),\"Schweizer: \",\"Wiener: \"))","v":"Schweizer: "},null,{"$f":"IF(H2<12,\"\",IF(AND(H2>13,H2<17),\"Wiener: \",\"Schweizer: \"))","v":"Wiener: "},1,"Tabelle",{"$f":"IF(H2<12,VLOOKUP(F17,Punktetabellen!A20:B25,2,1),((MIN(5,1*D17)*2)+MIN(MAX(0,5-(1*D17)),(1*F17))))","v":1}]
["Bleep-Test",null,null,null,null,"L10 S11","Tabelle",{"$f":"IF(F18=\"\",0,VLOOKUP(F18,INDIRECT(C55),2,0))","v":8}]
["Gesamtpunktzahl Kraft/Kondition",null,null,null,null,null,null,{"$f":"SUM(H11:H18)","v":52}]
["Übung",null,null,"Max / Soll","Max. Abzug","Abzug / Ist","Berechnung","Punkte"]
["Standsprunghöhe",null,null,{"$f":"IF(F1=\"männlich\",VLOOKUP(H2,Standsprünge!A3:C15,3,0),VLOOKUP(H2,Standsprünge!A3:B15,2,0))","v":15.8},null,15.94,"(Ist - Soll) x 10",{"$f":"IF(F21=\"\",0,(F21-D21)*10)","v":1.3999999999999879}]
[{"$f":"IF(H2>16,\"entfällt\",\"TBN\")","v":"TBN"},null,"7/4 vw b zum Rücken, platt, Arme angelegt",{"$f":"IF(C22=\"\",\"\",VLOOKUP(C22,INDIRECT($C$62),2,0))","v":9},{"$f":"IF(C22=\"\",\"\",VLOOKUP(C22,INDIRECT($C$62),3,0))","v":6},4,{"$f":"IF(H2>16,\"entfällt\",\"Wert - Abzug\")","v":"Wert - Abzug"},{"$f":"IF(A22=\"entfällt\",0,IF(F22=\"\",0,D22-F22))","v":5}]
[{"$f":"IF(H2>16,\"entfällt\",\"TBN\")","v":"TBN"},null,"2/1 Salto vw c aus der Rückenlage",{"$f":"IF(C23=\"\",\"\",VLOOKUP(C23,INDIRECT($C$62),2,0))","v":10},{"$f":"IF(C23=\"\",\"\",VLOOKUP(C23,INDIRECT($C$62),3,0))","v":6},2,{"$f":"IF(H2>16,\"entfällt\",\"Wert - Abzug\")","v":"Wert - Abzug"},{"$f":"IF(A23=\"entfällt\",0,IF(F23=\"\",0,D23-F23))","v":8}]
[{"$f":"IF(H2>12,\"entfällt\",\"TBN\")","v":"entfällt"},null,null,{"$f":"IF(C24=\"\",\"\",VLOOKUP(C24,INDIRECT($C$62),2,0))","v":""},{"$f":"IF(C24=\"\",\"\",VLOOKUP(C24,INDIRECT($C$62),3,0))","v":""},null,{"$f":"IF(H2>16,\"entfällt\",\"Wert - Abzug\")","v":"Wert - Abzug"},0]
["TN",{"$f":"IF(C25=\"\",\"\",VLOOKUP(C25,INDIRECT($C$65),2,0))","v":"801<"},"Fliffis b",{"$f":"IF(C25=\"\",\"\",VLOOKUP(C25,INDIRECT($C$65),3,0))","v":13},{"$f":"IF(C25=\"\",\"\",VLOOKUP(C25,INDIRECT($C$65),4,0))","v":6},4,"Wert - Abzug",9]
["TN","801°","Fliffis c",11,6,4,"Wert - Abzug",7]
["TN","811°","1/2 ein 1/2 aus c",12,6,4,"Wert - Abzug",8]
[{"$f":"IF(H2>12,\"TN\",\"entfällt\")","v":"TN"},"800<","Doppelsalto rw b",12,6,4,{"$f":"IF(H2>12,\"Wert - Abzug\",\"entfällt\")","v":"Wert - Abzug"},8]
[{"$f":"IF(H2>16,\"TN\",\"entfällt\")","v":"entfällt"},"",null,"","",null,{"$f":"IF(H2>16,\"Wert - Abzug\",\"entfällt\")","v":"entfällt"},0]
[{"$f":"IF(H2>16,\"TN\",\"entfällt\")","v":"entfällt"},"",null,"","",null,{"$f":"IF(H2>16,\"Wert - Abzug\",\"entfällt\")","v":"entfällt"},{"$f":"IF(A30=\"entfällt\",0,IF(F30=\"\",0,D30-F30))","v":0}]
[{"$f":"IF($H$2>11,\"Verbindung Sprung 1\",\"entfällt\")","v":"Verbindung Sprung 1"},null,{"$f":"IF(A31<>\"entfällt\",VLOOKUP(1,INDIRECT($C$73),2,0),\"\")","v":"40/"},{"$f":"IF(A31<>\"entfällt\",VLOOKUP(1,INDIRECT($C$73),3,0),\"\")","v":6},{"$f":"IF(A31<>\"entfällt\",VLOOKUP(1,INDIRECT($C$73),4,0),\"\")","v":3},1,{"$f":"IF(H2>12,\"Wert - Abzug\",\"entfällt\")","v":"Wert - Abzug"},{"$f":"IF(A31=\"entfällt\",0,IF(F31=\"\",0,D31-F31))","v":5}]
[{"$f":"IF($H$2>11,\"Verbindung Sprung 2\",\"entfällt\")","v":"Verbindung Sprung 2"},null,{"$f":"IF(A32<>\"entfällt\",VLOOKUP(2,INDIRECT($C$73),2,0),\"\")","v":"41/"},{"$f":"IF(A32<>\"entfällt\",VLOOKUP(2,INDIRECT($C$73),3,0),\"\")","v":6},{"$f":"IF(A32<>\"entfällt\",VLOOKUP(2,INDIRECT($C$73),4,0),\"\")","v":3},2,{"$f":"IF(H2>12,\"Wert - Abzug\",\"entfällt\")","v":"Wert - Abzug"},{"$f":"IF(A32=\"entfällt\",0,IF(F32=\"\",0,D32-F32))","v":4}]
[{"$f":"IF($H$2>11,\"Verbindung Sprung 3\",\"entfällt\")","v":"Verbindung Sprung 3"},null,{"$f":"IF(A33<>\"entfällt\",VLOOKUP(3,INDIRECT($C$73),2,0),\"\")","v":"42/"},{"$f":"IF(A33<>\"entfällt\",VLOOKUP(3,INDIRECT($C$73),3,0),\"\")","v":7},{"$f":"IF(A33<>\"entfällt\",VLOOKUP(3,INDIRECT($C$73),4,0),\"\")","v":3},3,{"$f":"IF(H2>12,\"Wert - Abzug\",\"entfällt\")","v":"Wert - Abzug"},4]
[{"$f":"IF($H$2>11,\"Verbindung Sprung 4\",\"entfällt\")","v":"Verbindung Sprung 4"},null,{"$f":"IF(A34<>\"entfällt\",VLOOKUP(4,INDIRECT($C$73),2,0),\"\")","v":"40°"},{"$f":"IF(A34<>\"entfällt\",VLOOKUP(4,INDIRECT($C$73),3,0),\"\")","v":5},{"$f":"IF(A34<>\"entfällt\",VLOOKUP(4,INDIRECT($C$73),4,0),\"\")","v":3},2,{"$f":"IF(H2>12,\"Wert - Abzug\",\"entfällt\")","v":"Wert - Abzug"},3]
[{"$f":"IF($H$2>11,\"Verbindung Sprung 5\",\"entfällt\")","v":"Verbindung Sprung 5"},null,{"$f":"IF(A35<>\"entfällt\",VLOOKUP(5,INDIRECT($C$73),2,0),\"\")","v":"41°"},{"$f":"IF(A35<>\"entfällt\",VLOOKUP(5,INDIRECT($C$73),3,0),\"\")","v":6},{"$f":"IF(A35<>\"entfällt\",VLOOKUP(5,INDIRECT($C$73),4,0),\"\")","v":3},2,{"$f":"IF(H2>12,\"Wert - Abzug\",\"entfällt\")","v":"Wert - Abzug"},4]
[{"$f":"IF($H$2>11,\"Verbindung Sprung 6\",\"entfällt\")","v":"Verbindung Sprung 6"},null,{"$f":"IF(A36<>\"entfällt\",VLOOKUP(6,INDIRECT($C$73),2,0),\"\")","v":"800°"},{"$f":"IF(A36<>\"entfällt\",VLOOKUP(6,INDIRECT($C$73),3,0),\"\")","v":10},{"$f":"IF(A36<>\"entfällt\",VLOOKUP(6,INDIRECT($C$73),4,0),\"\")","v":3},2,{"$f":"IF(H2>12,\"Wert - Abzug\",\"entfällt\")","v":"Wert - Abzug"},{"$f":"IF(A36=\"entfällt\",0,IF(F36=\"\",0,D36-F36))","v":8}]
["Gesamtpunktzahl Trampolin",null,null,null,null,null,null,{"$f":"SUM(H21:H36)","v":74.399999999999991}]
["Element",null,null,null,"Wert","Abzug","Berechnung","Punkte"]
[{"$f":"VLOOKUP(1,INDIRECT($C$70),2,0)","v":"Flugrolle mit Überstrecken mit Anlauf"},null,null,null,{"$f":"VLOOKUP(1,INDIRECT($C$70),3,0)","v":3},0,"Wert - Abzug",{"$f":"IF(E39=\" \",\"\",IF(F39=\"\",0,E39-F39))","v":3}]
[{"$f":"VLOOKUP(2,INDIRECT($C$70),2,0)","v":"--> Strecksprung, Salto vorwärts gehockt"},null,null,null,{"$f":"VLOOKUP(2,INDIRECT($C$70),3,0)","v":4.5},1,"Wert - Abzug",{"$f":"IF(E40=\" \",\"\",IF(F40=\"\",0,E40-F40))","v":3.5}]
[{"$f":"VLOOKUP(3,INDIRECT($C$70),2,0)","v":"Vorspreizen, Handstand mit 1/1 Drehung, abrollen"},null,null,null,{"$f":"VLOOKUP(3,INDIRECT($C$70),3,0)","v":3},1,"Wert - Abzug",2]
[{"$f":"VLOOKUP(4,INDIRECT($C$70),2,0)","v":"--> Aufstehen mit gestreckten Beinen"},null,null,null,{"$f":"VLOOKUP(4,INDIRECT($C$70),3,0)","v":3},0,"Wert - Abzug",3]
[{"$f":"VLOOKUP(5,INDIRECT($C$70),2,0)","v":"Vorspreizen, Bestellschritt, Strecksprung 3/2 Drehung"},null,null,null,{"$f":"VLOOKUP(5,INDIRECT($C$70),3,0)","v":3},1,"Wert - Abzug",2]
[{"$f":"VLOOKUP(6,INDIRECT($C$70),2,0)","v":"Salto rückwärts gehockt"},null,null,null,{"$f":"VLOOKUP(6,INDIRECT($C$70),3,0)","v":3},1,"Wert - Abzug",2]
[{"$f":"VLOOKUP(7,INDIRECT($C$70),2,0)","v":"Handstützüberschlag"},null,null,null,{"$f":"VLOOKUP(7,INDIRECT($C$70),3,0)","v":3},1.5,"Wert - Abzug",1.5]
[{"$f":"VLOOKUP(8,INDIRECT($C$70),2,0)","v":"--> Ansprung Schrittstellung, Handstand mit zwei Hüpfern"},null,null,null,{"$f":"VLOOKUP(8,INDIRECT($C$70),3,0)","v":3},1,"Wert - Abzug",2]
[{"$f":"VLOOKUP(9,INDIRECT($C$70),2,0)","v":"Abrollen --> Strecksprung 1/2 Drehung"},null,null,null,{"$f":"VLOOKUP(9,INDIRECT($C$70),3,0)","v":1.5},0,{"$f":"IF(H2>16,\"\",\"Wert - Abzug\")","v":"Wert - Abzug"},1.5]
[{"$f":"VLOOKUP(10,INDIRECT($C$70),2,0)","v":"Salto vorwärts gebückt mit Anlauf"},null,null,null,{"$f":"VLOOKUP(10,INDIRECT($C$70),3,0)","v":3},0,{"$f":"IF(H2>16,\"\",\"Wert - Abzug\")","v":"Wert - Abzug"},3]
[{"$f":"VLOOKUP(11,INDIRECT($C$70),2,0)","v":" "},null,null,null,{"$f":"VLOOKUP(11,INDIRECT($C$70),3,0)","v":" "},null,{"$f":"IF(H2>13,\"\",\"Wert - Abzug\")","v":""},""]
[{"$f":"VLOOKUP(12,INDIRECT($C$70),2,0)","v":" "},null,null,null,{"$f":"VLOOKUP(12,INDIRECT($C$70),3,0)","v":" "},null,{"$f":"IF(OR(H2=9,H2=12,H2=13),\"Wert - Abzug\",\"\")","v":""},""]
["Gesamtpunktzahl Bodenkomplexübung",null,null,null,null,null,null,{"$f":"SUM(H39:H50)","v":23.5}]
["Gesamtpunktzahl",null,null,null,null,null,null,{"$f":"SUM(H9,H19,H37,H51)","v":187.89999999999998}]
[]
[]
[null,"Shuttles",{"$f":"\"Shuttles_\"&F1&IF(H2=9,\"_9\",IF(H2<12,\"_10_11\",IF(H2<14,\"_12_13\",IF(H2<17,\"_14_16\",\"_17\"))))","v":"Shuttles_männlich_14_16"}]
[null,null,{"$f":"\"Shuttles_\"&F1&IF(H2=9,\"_9\",IF(H2<12,\"_10_11\",IF(H2<14,\"_12_13\",IF(H2<17,\"_14_16\",\"_17\"))))&\"[Shuttle]\"","v":"Shuttles_männlich_14_16[Shuttle]"}]
[null,null,{"$f":"\"Shuttles_\"&F1&IF(H2=9,\"_9\",IF(H2<12,\"_10_11\",IF(H2<14,\"_12_13\",IF(H2<17,\"_14_16\",\"_17\"))))&\"[Punkte]\"","v":"Shuttles_männlich_14_16[Punkte]"}]
[]
[null,"G_TBN TN BKÜ",{"$f":"IF(H2<13,\"beide\",F1)","v":"männlich"}]
[null,"AK",{"$f":"IF(OR(H2=9,H2=12),H2,IF(H2<12,\"10_11\",IF(H2<15,\"13_14\",IF(H2<17,\"15_16\",IF(H2<19,\"17_18\",19)))))","v":"13_14"}]
[]
[null,"TBN",{"$f":"\"TBN_\"&C59&\"_\"&C60","v":"TBN_männlich_13_14"}]
[null,null,{"$f":"C62&\"[Beschreibung]\"","v":"TBN_männlich_13_14[Beschreibung]"}]
[]
[null,"TN",{"$f":"\"TN_\"&C59&\"_\"&C60","v":"TN_männlich_13_14"}]
[null,null,{"$f":"C65&\"[Beschreibung]\"","v":"TN_männlich_13_14[Beschreibung]"}]
[]
[null,"TV",{"$f":"\"TV_\"&F1&\"_\"&C60","v":"TV_männlich_13_14"}]
[]
[null,"BKÜ",{"$f":"\"BKÜ\"&IF(H2=9,\"_9\",IF(H2<12,\"_10_11\",IF(H2<14,\"_12_13\",IF(H2<17,\"_14_16\",\"_17\"))))","v":"BKÜ_14_16"}]
[]
[null,"G_TV",{"$f":"IF(H2<17,\"beide\",F1)","v":"beide"}]
[null,"TV",{"$f":"\"TV_\"&C72&\"_\"&C60","v":"TV_beide_13_14"}]
[]
[null,{"$f":"SUM(H19,H9,H51)","v":113.5},"Vergleichspunktzahl aus Kraft, Beweglichkeit, Grundlagenausdauer, Bodenübung"]
[null,{"$f":"IF(B75>95,\"Ja\",\"Nein\")","v":"Ja"},"Vergleichspunktzahl erfüllt?"]
[null,{"$f":"IF(F1=\"Weiblich\",VLOOKUP(H2,Punktetabellen!$D$43:$F$49,3,1),VLOOKUP(H2,Punktetabellen!$D$43:$F$49,2,1))","v":144},"Mindest-Gesamtwert"]
[null,{"$f":"IF(H52>=B77,\"Ja\",\"Nein\")","v":"Ja"},"Gesamtwert erfüllt?"]
[null,{"$f":"IF(AND(B76=\"Ja\",B78=\"Ja\"),\"Ja\",\"Nein\")","v":"Ja"},"Alles erfüllt?"]

{"sheet":"HofmannSimon","index":15,"n_rows":79,"n_cols":8,"rows_kept":79,"cut":false,"hidden":false,"merged":[[48,0,48,3],[49,0,49,3],[50,0,50,6],[51,0,51,6],[42,0,42,3],[43,0,43,3],[44,0,44,3],[45,0,45,3],[46,0,46,3],[47,0,47,3],[41,0,41,3],[30,0,30,1],[31,0,31,1],[32,0,32,1],[33,0,33,1],[34,0,34,1],[35,0,35,1],[36,0,36,6],[37,0,37,3],[38,0,38,3],[39,0,39,3],[40,0,40,3],[23,0,23,1],[12,0,12,4],[13,0,13,4],[14,0,14,4],[15,0,15,4],[16,0,16,1],[17,0,17,4],[18,0,18,6],[19,0,19,2],[20,0,20,2],[21,0,21,1],[22,0,22,1],[11,0,11,4],[0,1,0,4],[1,1,1,5],[2,0,2,4],[3,0,3,4],[4,0,4,4],[5,0,5,4],[6,0,6,4],[7,0,7,4],[8,0,8,6],[9,0,9,4],[10,0,10,4]]}
["Name","Hofmann, Simon",null,null,null,"männlich","Jahrgang",2003]
["Verein","TB Ruit",null,null,null,null,"AK",{"$f":"2020-H1","v":17}]
["Übung",null,null,null,null,"Wert","Berechnung","Punkte"]
["Fußdehnung",null,null,null,null,10,"Bild",{"$f":"F4","v":10}]
["Briefmarke mit Armrumpfwinkel",null,null,null,null,6,"Bild",{"$f":"F5","v":6}]
["Bückbeweglichkeit",null,null,null,null,19,"Tabelle",{"$f":"IF(F6=\"\",0,VLOOKUP(F6,Punktetabellen!A10:B15,2,1))","v":8}]
["Querspagat links",null,null,null,null,"<10 cm","Tabelle",{"$f":"IF(F7=\"\",0,VLOOKUP(F7,Punktetabellen!A3:B6,2,0))","v":2}]
["Querspagat rechts",null,null,null,null,"<10 cm","Tabelle",{"$f":"IF(F8=\"\",0,VLOOKUP(F8,Punktetabellen!A3:B6,2,0))","v":2}]
["Gesamtpunktzahl Beweglichkeit",null,null,null,null,null,null,{"$f":"SUM(H4:H8)","v":28}]
["Übung",null,null,null,null,"Wert","Berechnung","Punktzahl"]
["Klimmzug",null,null,null,null,11,"Tabelle",{"$f":"IF(F11=\"\",0,IF(H2<12,VLOOKUP(F11,Punktetabellen!D4:F14,3,1),VLOOKUP(F11,Punktetabellen!E4:F14,2,1)))","v":6}]
["Beinheben",null,null,null,null,5,"Tabelle",{"$f":"IF(H2=9,VLOOKUP(F12,Punktetabellen!D19:F29,3,1),VLOOKUP(F12,Punktetabellen!E19:F29,2,1))","v":2}]
["Flieger",null,null,null,null,95,"Tabelle",{"$f":"IF(H2=9,VLOOKUP(F13,Punktetabellen!H4:K9,4,1),IF(H2<12,VLOOKUP(F13,Punktetabellen!I4:K9,3,1),VLOOKUP(F13,Punktetabellen!J4:K9,2,1)))","v":4}]
["Rollenverbindung",null,null,null,null,26,"Tabelle",{"$f":"IF(H2=9,VLOOKUP(F14,Punktetabellen!H14:K24,4,1),IF(H2<12,VLOOKUP(F14,Punktetabellen!I14:K24,3,1),VLOOKUP(F14,Punktetabellen!J14:K24,2,1)))","v":8}]
["Prellsprünge",null,null,null,null,8,"Tabelle",{"$f":"IF(H2=9,VLOOKUP(F15,Punktetabellen!M4:Q14,5,1),IF(H2<12,VLOOKUP(F15,Punktetabellen!N4:Q14,4,1),IF(H2<14,VLOOKUP(F15,Punktetabellen!O4:Q14,3,1),VLOOKUP(F15,Punktetabellen!P4:Q14,2,1))))","v":8}]
["Handstandstehen",null,null,null,null,30,"Tabelle",{"$f":"IF(F16=\"\",0,IF(H2<10,VLOOKUP(F16,Punktetabellen!D34:F40,3,1),VLOOKUP(F16,Punktetabellen!E34:F40,2,1)))","v":10}]
["Schweizer, Wiener",null,{"$f":"IF(H2<12,\"\",IF(AND(H2>13,H2<17),\"Schweizer: \",\"Wiener: \"))","v":"Wiener: "},0,{"$f":"IF(H2<12,\"\",IF(AND(H2>13,H2<17),\"Wiener: \",\"Schweizer: \"))","v":"Schweizer: "},0,"Tabelle",{"$f":"IF(H2<12,VLOOKUP(F17,Punktetabellen!A20:B25,2,1),((MIN(5,1*D17)*2)+MIN(MAX(0,5-(1*D17)),(1*F17))))","v":0}]
["Bleep-Test",null,null,null,null,null,"Tabelle",{"$f":"IF(F18=\"\",0,VLOOKUP(F18,INDIRECT(C55),2,0))","v":0}]
["Gesamtpunktzahl Kraft/Kondition",null,null,null,null,null,null,{"$f":"SUM(H11:H18)","v":38}]
["Übung",null,null,"Max / Soll","Max. Abzug","Abzug / Ist","Berechnung","Punkte"]
["Standsprunghöhe",null,null,{"$f":"IF(F1=\"männlich\",VLOOKUP(H2,Standsprünge!A3:C15,3,0),VLOOKUP(H2,Standsprünge!A3:B15,2,0))","v":17.3},null,17.600000000000001,"(Ist - Soll) x 10",{"$f":"IF(F21=\"\",0,(F21-D21)*10)","v":3.0000000000000071}]
[{"$f":"IF(H2>16,\"entfällt\",\"TBN\")","v":"entfällt"},null,null,{"$f":"IF(C22=\"\",\"\",VLOOKUP(C22,INDIRECT($C$62),2,0))","v":""},{"$f":"IF(C22=\"\",\"\",VLOOKUP(C22,INDIRECT($C$62),3,0))","v":""},null,{"$f":"IF(H2>16,\"entfällt\",\"Wert - Abzug\")","v":"entfällt"},{"$f":"IF(A22=\"entfällt\",0,IF(F22=\"\",0,D22-F22))","v":0}]
[{"$f":"IF(H2>16,\"entfällt\",\"TBN\")","v":"entfällt"},null,null,{"$f":"IF(C23=\"\",\"\",VLOOKUP(C23,INDIRECT($C$62),2,0))","v":""},{"$f":"IF(C23=\"\",\"\",VLOOKUP(C23,INDIRECT($C$62),3,0))","v":""},null,{"$f":"IF(H2>16,\"entfällt\",\"Wert - Abzug\")","v":"entfällt"},{"$f":"IF(A23=\"entfällt\",0,IF(F23=\"\",0,D23-F23))","v":0}]
[{"$f":"IF(H2>12,\"entfällt\",\"TBN\")","v":"entfällt"},null,null,{"$f":"IF(C24=\"\",\"\",VLOOKUP(C24,INDIRECT($C$62),2,0))","v":""},{"$f":"IF(C24=\"\",\"\",VLOOKUP(C24,INDIRECT($C$62),3,0))","v":""},null,{"$f":"IF(H2>16,\"entfällt\",\"Wert - Abzug\")","v":"entfällt"},0]
["TN",{"$f":"IF(C25=\"\",\"\",VLOOKUP(C25,INDIRECT($C$65),2,0))","v":"12001°"},"Triffis c",{"$f":"IF(C25=\"\",\"\",VLOOKUP(C25,INDIRECT($C$65),3,0))","v":17},{"$f":"IF(C25=\"\",\"\",VLOOKUP(C25,INDIRECT($C$65),4,0))","v":6},6,"Wert - Abzug",11]
["TN","12001<","Triffis b",20,6,4,"Wert - Abzug",16]
["TN","821<","1/1 ein 1/2 aus b",15,6,6,"Wert - Abzug",9]
[{"$f":"IF(H2>12,\"TN\",\"entfällt\")","v":"TN"},"831<","3/2 ein 1/2 aus b",16,6,4,{"$f":"IF(H2>12,\"Wert - Abzug\",\"entfällt\")","v":"Wert - Abzug"},12]
[{"$f":"IF(H2>16,\"TN\",\"entfällt\")","v":"TN"},"",null,"","",null,{"$f":"IF(H2>16,\"Wert - Abzug\",\"entfällt\")","v":"Wert - Abzug"},0]
[{"$f":"IF(H2>16,\"TN\",\"entfällt\")","v":"TN"},"",null,"","",null,{"$f":"IF(H2>16,\"Wert - Abzug\",\"entfällt\")","v":"Wert - Abzug"},{"$f":"IF(A30=\"entfällt\",0,IF(F30=\"\",0,D30-F30))","v":0}]
[{"$f":"IF($H$2>11,\"Verbindung Sprung 1\",\"entfällt\")","v":"Verbindung Sprung 1"},null,{"$f":"IF(A31<>\"entfällt\",VLOOKUP(1,INDIRECT($C$73),2,0),\"\")","v":"803<"},{"$f":"IF(A31<>\"entfällt\",VLOOKUP(1,INDIRECT($C$73),3,0),\"\")","v":15},{"$f":"IF(A31<>\"entfällt\",VLOOKUP(1,INDIRECT($C$73),4,0),\"\")","v":3},3,{"$f":"IF(H2>12,\"Wert - Abzug\",\"entfällt\")","v":"Wert - Abzug"},{"$f":"IF(A31=\"entfällt\",0,IF(F31=\"\",0,D31-F31))","v":12}]
[{"$f":"IF($H$2>11,\"Verbindung Sprung 2\",\"entfällt\")","v":"Verbindung Sprung 2"},null,{"$f":"IF(A32<>\"entfällt\",VLOOKUP(2,INDIRECT($C$73),2,0),\"\")","v":"800°"},{"$f":"IF(A32<>\"entfällt\",VLOOKUP(2,INDIRECT($C$73),3,0),\"\")","v":10},{"$f":"IF(A32<>\"entfällt\",VLOOKUP(2,INDIRECT($C$73),4,0),\"\")","v":3},2,{"$f":"IF(H2>12,\"Wert - Abzug\",\"entfällt\")","v":"Wert - Abzug"},{"$f":"IF(A32=\"entfällt\",0,IF(F32=\"\",0,D32-F32))","v":8}]
[{"$f":"IF($H$2>11,\"Verbindung Sprung 3\",\"entfällt\")","v":"Verbindung Sprung 3"},null,{"$f":"IF(A33<>\"entfällt\",VLOOKUP(3,INDIRECT($C$73),2,0),\"\")","v":"801<"},{"$f":"IF(A33<>\"entfällt\",VLOOKUP(3,INDIRECT($C$73),3,0),\"\")","v":13},{"$f":"IF(A33<>\"entfällt\",VLOOKUP(3,INDIRECT($C$73),4,0),\"\")","v":3},2,{"$f":"IF(H2>12,\"Wert - Abzug\",\"entfällt\")","v":"Wert - Abzug"},11]
[{"$f":"IF($H$2>11,\"Verbindung Sprung 4\",\"entfällt\")","v":"Verbindung Sprung 4"},null,{"$f":"IF(A34<>\"entfällt\",VLOOKUP(4,INDIRECT($C$73),2,0),\"\")","v":"40/"},{"$f":"IF(A34<>\"entfällt\",VLOOKUP(4,INDIRECT($C$73),3,0),\"\")","v":6},{"$f":"IF(A34<>\"entfällt\",VLOOKUP(4,INDIRECT($C$73),4,0),\"\")","v":3},3,{"$f":"IF(H2>12,\"Wert - Abzug\",\"entfällt\")","v":"Wert - Abzug"},3]
[{"$f":"IF($H$2>11,\"Verbindung Sprung 5\",\"entfällt\")","v":"Verbindung Sprung 5"},null,{"$f":"IF(A35<>\"entfällt\",VLOOKUP(5,INDIRECT($C$73),2,0),\"\")","v":"801°"},{"$f":"IF(A35<>\"entfällt\",VLOOKUP(5,INDIRECT($C$73),3,0),\"\")","v":11},{"$f":"IF(A35<>\"entfällt\",VLOOKUP(5,INDIRECT($C$73),4,0),\"\")","v":3},3,{"$f":"IF(H2>12,\"Wert - Abzug\",\"entfällt\")","v":"Wert - Abzug"},8]
[{"$f":"IF($H$2>11,\"Verbindung Sprung 6\",\"entfällt\")","v":"Verbindung Sprung 6"},null,{"$f":"IF(A36<>\"entfällt\",VLOOKUP(6,INDIRECT($C$73),2,0),\"\")","v":"811°"},{"$f":"IF(A36<>\"entfällt\",VLOOKUP(6,INDIRECT($C$73),3,0),\"\")","v":12},{"$f":"IF(A36<>\"entfällt\",VLOOKUP(6,INDIRECT($C$73),4,0),\"\")","v":3},3,{"$f":"IF(H2>12,\"Wert - Abzug\",\"entfällt\")","v":"Wert - Abzug"},{"$f":"IF(A36=\"entfällt\",0,IF(F36=\"\",0,D36-F36))","v":9}]
["Gesamtpunktzahl Trampolin",null,null,null,null,null,null,{"$f":"SUM(H21:H36)","v":102}]
["Element",null,null,null,"Wert","Abzug","Berechnung","Punkte"]
[{"$f":"VLOOKUP(1,INDIRECT($C$70),2,0)","v":"Salto vorwärts gehockt aus dem Stand"},null,null,null,{"$f":"VLOOKUP(1,INDIRECT($C$70),3,0)","v":5},2,"Wert - Abzug",{"$f":"IF(E39=\" \",\"\",IF(F39=\"\",0,E39-F39))","v":3}]
[{"$f":"VLOOKUP(2,INDIRECT($C$70),2,0)","v":"Vorspreizen, Bestellschritt, Strecksprung 3/2 Drehung"},null,null,null,{"$f":"VLOOKUP(2,INDIRECT($C$70),3,0)","v":3},null,"Wert - Abzug",{"$f":"IF(E40=\" \",\"\",IF(F40=\"\",0,E40-F40))","v":0}]
[{"$f":"VLOOKUP(3,INDIRECT($C$70),2,0)","v":"Rolle rückwärts durch Handstand mit 1/2 Drehung"},null,null,null,{"$f":"VLOOKUP(3,INDIRECT($C$70),3,0)","v":4},2,"Wert - Abzug",2]
[{"$f":"VLOOKUP(4,INDIRECT($C$70),2,0)","v":"--> Strecksprung --> Salto vorwärts gehockt"},null,null,null,{"$f":"VLOOKUP(4,INDIRECT($C$70),3,0)","v":4},1,"Wert - Abzug",3]
[{"$f":"VLOOKUP(5,INDIRECT($C$70),2,0)","v":"Wiener, 1/2 Drehung, absenken zum Stand"},null,null,null,{"$f":"VLOOKUP(5,INDIRECT($C$70),3,0)","v":4},null,"Wert - Abzug",0]
[{"$f":"VLOOKUP(6,INDIRECT($C$70),2,0)","v":"Handstand mit zwei Hüpfern, abrollen"},null,null,null,{"$f":"VLOOKUP(6,INDIRECT($C$70),3,0)","v":2},0,"Wert - Abzug",2]
[{"$f":"VLOOKUP(7,INDIRECT($C$70),2,0)","v":"--> aufstehen mit gestreckten Beinen"},null,null,null,{"$f":"VLOOKUP(7,INDIRECT($C$70),3,0)","v":3},0,"Wert - Abzug",3]
[{"$f":"VLOOKUP(8,INDIRECT($C$70),2,0)","v":"Salto rückwärts gebückt"},null,null,null,{"$f":"VLOOKUP(8,INDIRECT($C$70),3,0)","v":5},4,"Wert - Abzug",1]
[{"$f":"VLOOKUP(9,INDIRECT($C$70),2,0)","v":" "},null,null,null,{"$f":"VLOOKUP(9,INDIRECT($C$70),3,0)","v":" "},null,{"$f":"IF(H2>16,\"\",\"Wert - Abzug\")","v":""},""]
[{"$f":"VLOOKUP(10,INDIRECT($C$70),2,0)","v":" "},null,null,null,{"$f":"VLOOKUP(10,INDIRECT($C$70),3,0)","v":" "},null,{"$f":"IF(H2>16,\"\",\"Wert - Abzug\")","v":""},""]
[{"$f":"VLOOKUP(11,INDIRECT($C$70),2,0)","v":" "},null,null,null,{"$f":"VLOOKUP(11,INDIRECT($C$70),3,0)","v":" "},null,{"$f":"IF(H2>13,\"\",\"Wert - Abzug\")","v":""},""]
[{"$f":"VLOOKUP(12,INDIRECT($C$70),2,0)","v":" "},null,null,null,{"$f":"VLOOKUP(12,INDIRECT($C$70),3,0)","v":" "},null,{"$f":"IF(OR(H2=9,H2=12,H2=13),\"Wert - Abzug\",\"\")","v":""},""]
["Gesamtpunktzahl Bodenkomplexübung",null,null,null,null,null,null,{"$f":"SUM(H39:H50)","v":14}]
["Gesamtpunktzahl",null,null,null,null,null,null,{"$f":"SUM(H9,H19,H37,H51)","v":182}]
[]
[]
[null,"Shuttles",{"$f":"\"Shuttles_\"&F1&IF(H2=9,\"_9\",IF(H2<12,\"_10_11\",IF(H2<14,\"_12_13\",IF(H2<17,\"_14_16\",\"_17\"))))","v":"Shuttles_männlich_17"}]
[null,null,{"$f":"\"Shuttles_\"&F1&IF(H2=9,\"_9\",IF(H2<12,\"_10_11\",IF(H2<14,\"_12_13\",IF(H2<17,\"_14_16\",\"_17\"))))&\"[Shuttle]\"","v":"Shuttles_männlich_17[Shuttle]"}]
[null,null,{"$f":"\"Shuttles_\"&F1&IF(H2=9,\"_9\",IF(H2<12,\"_10_11\",IF(H2<14,\"_12_13\",IF(H2<17,\"_14_16\",\"_17\"))))&\"[Punkte]\"","v":"Shuttles_männlich_17[Punkte]"}]
[]
[null,"G_TBN TN BKÜ",{"$f":"IF(H2<13,\"beide\",F1)","v":"männlich"}]
[null,"AK",{"$f":"IF(OR(H2=9,H2=12),H2,IF(H2<12,\"10_11\",IF(H2<15,\"13_14\",IF(H2<17,\"15_16\",IF(H2<19,\"17_18\",19)))))","v":"17_18"}]
[]
[null,"TBN",{"$f":"\"TBN_\"&C59&\"_\"&C60","v":"TBN_männlich_17_18"}]
[null,null,{"$f":"C62&\"[Beschreibung]\"","v":"TBN_männlich_17_18[Beschreibung]"}]
[]
[null,"TN",{"$f":"\"TN_\"&C59&\"_\"&C60","v":"TN_männlich_17_18"}]
[null,null,{"$f":"C65&\"[Beschreibung]\"","v":"TN_männlich_17_18[Beschreibung]"}]
[]
[null,"TV",{"$f":"\"TV_\"&F1&\"_\"&C60","v":"TV_männlich_17_18"}]
[]
[null,"BKÜ",{"$f":"\"BKÜ\"&IF(H2=9,\"_9\",IF(H2<12,\"_10_11\",IF(H2<14,\"_12_13\",IF(H2<17,\"_14_16\",\"_17\"))))","v":"BKÜ_17"}]
[]
[null,"G_TV",{"$f":"IF(H2<17,\"beide\",F1)","v":"männlich"}]
[null,"TV",{"$f":"\"TV_\"&C72&\"_\"&C60","v":"TV_männlich_17_18"}]
[]
[null,{"$f":"SUM(H19,H9,H51)","v":80},"Vergleichspunktzahl aus Kraft, Beweglichkeit, Grundlagenausdauer, Bodenübung"]
[null,{"$f":"IF(B75>95,\"Ja\",\"Nein\")","v":"Nein"},"Vergleichspunktzahl erfüllt?"]
[null,{"$f":"IF(F1=\"Weiblich\",VLOOKUP(H2,Punktetabellen!$D$43:$F$49,3,1),VLOOKUP(H2,Punktetabellen!$D$43:$F$49,2,1))","v":186},"Mindest-Gesamtwert"]
[null,{"$f":"IF(H52>=B77,\"Ja\",\"Nein\")","v":"Nein"},"Gesamtwert erfüllt?"]
[null,{"$f":"IF(AND(B76=\"Ja\",B78=\"Ja\"),\"Ja\",\"Nein\")","v":"Nein"},"Alles erfüllt?"]

{"sheet":"WöllBettina","index":16,"n_rows":79,"n_cols":8,"rows_kept":79,"cut":false,"hidden":false,"merged":[[11,0,11,4],[0,1,0,4],[1,1,1,5],[2,0,2,4],[3,0,3,4],[4,0,4,4],[5,0,5,4],[6,0,6,4],[7,0,7,4],[8,0,8,6],[9,0,9,4],[10,0,10,4],[23,0,23,1],[12,0,12,4],[13,0,13,4],[14,0,14,4],[15,0,15,4],[16,0,16,1],[17,0,17,4],[18,0,18,6],[19,0,19,2],[20,0,20,2],[21,0,21,1],[22,0,22,1],[41,0,41,3],[30,0,30,1],[31,0,31,1],[32,0,32,1],[33,0,33,1],[34,0,34,1],[35,0,35,1],[36,0,36,6],[37,0,37,3],[38,0,38,3],[39,0,39,3],[40,0,40,3],[48,0,48,3],[49,0,49,3],[50,0,50,6],[51,0,51,6],[42,0,42,3],[43,0,43,3],[44,0,44,3],[45,0,45,3],[46,0,46,3],[47,0,47,3]]}
["Name","Wöll, Bettina",null,null,null,"weiblich","Jahrgang",2006]
["Verein","Munich-Airriders",null,null,null,null,"AK",{"$f":"2020-H1","v":14}]
["Übung",null,null,null,null,"Wert","Berechnung","Punkte"]
["Fußdehnung",null,null,null,null,10,"Bild",{"$f":"F4","v":10}]
["Briefmarke mit Armrumpfwinkel",null,null,null,null,10,"Bild",{"$f":"F5","v":10}]
["Bückbeweglichkeit",null,null,null,null,17,"Tabelle",{"$f":"IF(F6=\"\",0,VLOOKUP(F6,Punktetabellen!A10:B15,2,1))","v":6}]
["Querspagat links",null,null,null,null,0,"Tabelle",{"$f":"IF(F7=\"\",0,VLOOKUP(F7,Punktetabellen!A3:B6,2,0))","v":10}]
["Querspagat rechts",null,null,null,null,0,"Tabelle",{"$f":"IF(F8=\"\",0,VLOOKUP(F8,Punktetabellen!A3:B6,2,0))","v":10}]
["Gesamtpunktzahl Beweglichkeit",null,null,null,null,null,null,{"$f":"SUM(H4:H8)","v":46}]
["Übung",null,null,null,null,"Wert","Berechnung","Punktzahl"]
["Klimmzug",null,null,null,null,6,"Tabelle",{"$f":"IF(F11=\"\",0,IF(H2<12,VLOOKUP(F11,Punktetabellen!D4:F14,3,1),VLOOKUP(F11,Punktetabellen!E4:F14,2,1)))","v":1}]
["Beinheben",null,null,null,null,3,"Tabelle",{"$f":"IF(H2=9,VLOOKUP(F12,Punktetabellen!D19:F29,3,1),VLOOKUP(F12,Punktetabellen!E19:F29,2,1))","v":1}]
["Flieger",null,null,null,null,95,"Tabelle",{"$f":"IF(H2=9,VLOOKUP(F13,Punktetabellen!H4:K9,4,1),IF(H2<12,VLOOKUP(F13,Punktetabellen!I4:K9,3,1),VLOOKUP(F13,Punktetabellen!J4:K9,2,1)))","v":4}]
["Rollenverbindung",null,null,null,null,29,"Tabelle",{"$f":"IF(H2=9,VLOOKUP(F14,Punktetabellen!H14:K24,4,1),IF(H2<12,VLOOKUP(F14,Punktetabellen!I14:K24,3,1),VLOOKUP(F14,Punktetabellen!J14:K24,2,1)))","v":10}]
["Prellsprünge",null,null,null,null,7,"Tabelle",{"$f":"IF(H2=9,VLOOKUP(F15,Punktetabellen!M4:Q14,5,1),IF(H2<12,VLOOKUP(F15,Punktetabellen!N4:Q14,4,1),IF(H2<14,VLOOKUP(F15,Punktetabellen!O4:Q14,3,1),VLOOKUP(F15,Punktetabellen!P4:Q14,2,1))))","v":7}]
["Handstandstehen",null,null,null,null,21,"Tabelle",{"$f":"IF(F16=\"\",0,IF(H2<10,VLOOKUP(F16,Punktetabellen!D34:F40,3,1),VLOOKUP(F16,Punktetabellen!E34:F40,2,1)))","v":6}]
["Schweizer, Wiener",null,{"$f":"IF(H2<12,\"\",IF(AND(H2>13,H2<17),\"Schweizer: \",\"Wiener: \"))","v":"Schweizer: "},0,{"$f":"IF(H2<12,\"\",IF(AND(H2>13,H2<17),\"Wiener: \",\"Schweizer: \"))","v":"Wiener: "},0,"Tabelle",{"$f":"IF(H2<12,VLOOKUP(F17,Punktetabellen!A20:B25,2,1),((MIN(5,1*D17)*2)+MIN(MAX(0,5-(1*D17)),(1*F17))))","v":0}]
["Bleep-Test",null,null,null,null,"L7 S5","Tabelle",{"$f":"IF(F18=\"\",0,VLOOKUP(F18,INDIRECT(C55),2,0))","v":5}]
["Gesamtpunktzahl Kraft/Kondition",null,null,null,null,null,null,{"$f":"SUM(H11:H18)","v":34}]
["Übung",null,null,"Max / Soll","Max. Abzug","Abzug / Ist","Berechnung","Punkte"]
["Standsprunghöhe",null,null,{"$f":"IF(F1=\"männlich\",VLOOKUP(H2,Standsprünge!A3:C15,3,0),VLOOKUP(H2,Standsprünge!A3:B15,2,0))","v":15.5},null,15.76,"(Ist - Soll) x 10",{"$f":"IF(F21=\"\",0,(F21-D21)*10)","v":2.5999999999999979}]
[{"$f":"IF(H2>16,\"entfällt\",\"TBN\")","v":"TBN"},null,"7/4 vw b zum Rücken, platt, Arme angelegt",{"$f":"IF(C22=\"\",\"\",VLOOKUP(C22,INDIRECT($C$62),2,0))","v":9},{"$f":"IF(C22=\"\",\"\",VLOOKUP(C22,INDIRECT($C$62),3,0))","v":6},4,{"$f":"IF(H2>16,\"entfällt\",\"Wert - Abzug\")","v":"Wert - Abzug"},{"$f":"IF(A22=\"entfällt\",0,IF(F22=\"\",0,D22-F22))","v":5}]
[{"$f":"IF(H2>16,\"entfällt\",\"TBN\")","v":"TBN"},null,"7/4 rw c zum Rücken, 1/2 Schraube ein",{"$f":"IF(C23=\"\",\"\",VLOOKUP(C23,INDIRECT($C$62),2,0))","v":9},{"$f":"IF(C23=\"\",\"\",VLOOKUP(C23,INDIRECT($C$62),3,0))","v":6},2,{"$f":"IF(H2>16,\"entfällt\",\"Wert - Abzug\")","v":"Wert - Abzug"},{"$f":"IF(A23=\"entfällt\",0,IF(F23=\"\",0,D23-F23))","v":7}]
[{"$f":"IF(H2>12,\"entfällt\",\"TBN\")","v":"entfällt"},null,null,{"$f":"IF(C24=\"\",\"\",VLOOKUP(C24,INDIRECT($C$62),2,0))","v":""},{"$f":"IF(C24=\"\",\"\",VLOOKUP(C24,INDIRECT($C$62),3,0))","v":""},null,{"$f":"IF(H2>16,\"entfällt\",\"Wert - Abzug\")","v":"Wert - Abzug"},0]
["TN",{"$f":"IF(C25=\"\",\"\",VLOOKUP(C25,INDIRECT($C$65),2,0))","v":"43/"},"Rudolf",{"$f":"IF(C25=\"\",\"\",VLOOKUP(C25,INDIRECT($C$65),3,0))","v":8},{"$f":"IF(C25=\"\",\"\",VLOOKUP(C25,INDIRECT($C$65),4,0))","v":6},4,"Wert - Abzug",4]
["TN","801<","Fliffis b",13,6,4,"Wert - Abzug",9]
["TN","801°","Fliffis c",11,6,4,"Wert - Abzug",7]
[{"$f":"IF(H2>12,\"TN\",\"entfällt\")","v":"TN"},"800<","Doppelsalto rw b",12,6,4,{"$f":"IF(H2>12,\"Wert - Abzug\",\"entfällt\")","v":"Wert - Abzug"},8]
[{"$f":"IF(H2>16,\"TN\",\"entfällt\")","v":"entfällt"},"",null,"","",null,{"$f":"IF(H2>16,\"Wert - Abzug\",\"entfällt\")","v":"entfällt"},0]
[{"$f":"IF(H2>16,\"TN\",\"entfällt\")","v":"entfällt"},"",null,"","",null,{"$f":"IF(H2>16,\"Wert - Abzug\",\"entfällt\")","v":"entfällt"},{"$f":"IF(A30=\"entfällt\",0,IF(F30=\"\",0,D30-F30))","v":0}]
[{"$f":"IF($H$2>11,\"Verbindung Sprung 1\",\"entfällt\")","v":"Verbindung Sprung 1"},null,{"$f":"IF(A31<>\"entfällt\",VLOOKUP(1,INDIRECT($C$73),2,0),\"\")","v":"40/"},{"$f":"IF(A31<>\"entfällt\",VLOOKUP(1,INDIRECT($C$73),3,0),\"\")","v":6},{"$f":"IF(A31<>\"entfällt\",VLOOKUP(1,INDIRECT($C$73),4,0),\"\")","v":3},1,{"$f":"IF(H2>12,\"Wert - Abzug\",\"entfällt\")","v":"Wert - Abzug"},{"$f":"IF(A31=\"entfällt\",0,IF(F31=\"\",0,D31-F31))","v":5}]
[{"$f":"IF($H$2>11,\"Verbindung Sprung 2\",\"entfällt\")","v":"Verbindung Sprung 2"},null,{"$f":"IF(A32<>\"entfällt\",VLOOKUP(2,INDIRECT($C$73),2,0),\"\")","v":"41/"},{"$f":"IF(A32<>\"entfällt\",VLOOKUP(2,INDIRECT($C$73),3,0),\"\")","v":6},{"$f":"IF(A32<>\"entfällt\",VLOOKUP(2,INDIRECT($C$73),4,0),\"\")","v":3},0,{"$f":"IF(H2>12,\"Wert - Abzug\",\"entfällt\")","v":"Wert - Abzug"},{"$f":"IF(A32=\"entfällt\",0,IF(F32=\"\",0,D32-F32))","v":6}]
[{"$f":"IF($H$2>11,\"Verbindung Sprung 3\",\"entfällt\")","v":"Verbindung Sprung 3"},null,{"$f":"IF(A33<>\"entfällt\",VLOOKUP(3,INDIRECT($C$73),2,0),\"\")","v":"42/"},{"$f":"IF(A33<>\"entfällt\",VLOOKUP(3,INDIRECT($C$73),3,0),\"\")","v":7},{"$f":"IF(A33<>\"entfällt\",VLOOKUP(3,INDIRECT($C$73),4,0),\"\")","v":3},1,{"$f":"IF(H2>12,\"Wert - Abzug\",\"entfällt\")","v":"Wert - Abzug"},6]
[{"$f":"IF($H$2>11,\"Verbindung Sprung 4\",\"entfällt\")","v":"Verbindung Sprung 4"},null,{"$f":"IF(A34<>\"entfällt\",VLOOKUP(4,INDIRECT($C$73),2,0),\"\")","v":"40°"},{"$f":"IF(A34<>\"entfällt\",VLOOKUP(4,INDIRECT($C$73),3,0),\"\")","v":5},{"$f":"IF(A34<>\"entfällt\",VLOOKUP(4,INDIRECT($C$73),4,0),\"\")","v":3},2,{"$f":"IF(H2>12,\"Wert - Abzug\",\"entfällt\")","v":"Wert - Abzug"},3]
[{"$f":"IF($H$2>11,\"Verbindung Sprung 5\",\"entfällt\")","v":"Verbindung Sprung 5"},null,{"$f":"IF(A35<>\"entfällt\",VLOOKUP(5,INDIRECT($C$73),2,0),\"\")","v":"41°"},{"$f":"IF(A35<>\"entfällt\",VLOOKUP(5,INDIRECT($C$73),3,0),\"\")","v":6},{"$f":"IF(A35<>\"entfällt\",VLOOKUP(5,INDIRECT($C$73),4,0),\"\")","v":3},2,{"$f":"IF(H2>12,\"Wert - Abzug\",\"entfällt\")","v":"Wert - Abzug"},4]
[{"$f":"IF($H$2>11,\"Verbindung Sprung 6\",\"entfällt\")","v":"Verbindung Sprung 6"},null,{"$f":"IF(A36<>\"entfällt\",VLOOKUP(6,INDIRECT($C$73),2,0),\"\")","v":"800°"},{"$f":"IF(A36<>\"entfällt\",VLOOKUP(6,INDIRECT($C$73),3,0),\"\")","v":10},{"$f":"IF(A36<>\"entfällt\",VLOOKUP(6,INDIRECT($C$73),4,0),\"\")","v":3},3,{"$f":"IF(H2>12,\"Wert - Abzug\",\"entfällt\")","v":"Wert - Abzug"},{"$f":"IF(A36=\"entfällt\",0,IF(F36=\"\",0,D36-F36))","v":7}]
["Gesamtpunktzahl Trampolin",null,null,null,null,null,null,{"$f":"SUM(H21:H36)","v":73.599999999999994}]
["Element",null,null,null,"Wert","Abzug","Berechnung","Punkte"]
[{"$f":"VLOOKUP(1,INDIRECT($C$70),2,0)","v":"Flugrolle mit Überstrecken mit Anlauf"},null,null,null,{"$f":"VLOOKUP(1,INDIRECT($C$70),3,0)","v":3},0,"Wert - Abzug",{"$f":"IF(E39=\" \",\"\",IF(F39=\"\",0,E39-F39))","v":3}]
[{"$f":"VLOOKUP(2,INDIRECT($C$70),2,0)","v":"--> Strecksprung, Salto vorwärts gehockt"},null,null,null,{"$f":"VLOOKUP(2,INDIRECT($C$70),3,0)","v":4.5},0.5,"Wert - Abzug",{"$f":"IF(E40=\" \",\"\",IF(F40=\"\",0,E40-F40))","v":4}]
[{"$f":"VLOOKUP(3,INDIRECT($C$70),2,0)","v":"Vorspreizen, Handstand mit 1/1 Drehung, abrollen"},null,null,null,{"$f":"VLOOKUP(3,INDIRECT($C$70),3,0)","v":3},0.5,"Wert - Abzug",2.5]
[{"$f":"VLOOKUP(4,INDIRECT($C$70),2,0)","v":"--> Aufstehen mit gestreckten Beinen"},null,null,null,{"$f":"VLOOKUP(4,INDIRECT($C$70),3,0)","v":3},0.5,"Wert - Abzug",2.5]
[{"$f":"VLOOKUP(5,INDIRECT($C$70),2,0)","v":"Vorspreizen, Bestellschritt, Strecksprung 3/2 Drehung"},null,null,null,{"$f":"VLOOKUP(5,INDIRECT($C$70),3,0)","v":3},1,"Wert - Abzug",2]
[{"$f":"VLOOKUP(6,INDIRECT($C$70),2,0)","v":"Salto rückwärts gehockt"},null,null,null,{"$f":"VLOOKUP(6,INDIRECT($C$70),3,0)","v":3},null,"Wert - Abzug",0]
[{"$f":"VLOOKUP(7,INDIRECT($C$70),2,0)","v":"Handstützüberschlag"},null,null,null,{"$f":"VLOOKUP(7,INDIRECT($C$70),3,0)","v":3},2,"Wert - Abzug",1]
[{"$f":"VLOOKUP(8,INDIRECT($C$70),2,0)","v":"--> Ansprung Schrittstellung, Handstand mit zwei Hüpfern"},null,null,null,{"$f":"VLOOKUP(8,INDIRECT($C$70),3,0)","v":3},0.5,"Wert - Abzug",2.5]
[{"$f":"VLOOKUP(9,INDIRECT($C$70),2,0)","v":"Abrollen --> Strecksprung 1/2 Drehung"},null,null,null,{"$f":"VLOOKUP(9,INDIRECT($C$70),3,0)","v":1.5},0,{"$f":"IF(H2>16,\"\",\"Wert - Abzug\")","v":"Wert - Abzug"},1.5]
[{"$f":"VLOOKUP(10,INDIRECT($C$70),2,0)","v":"Salto vorwärts gebückt mit Anlauf"},null,null,null,{"$f":"VLOOKUP(10,INDIRECT($C$70),3,0)","v":3},0.5,{"$f":"IF(H2>16,\"\",\"Wert - Abzug\")","v":"Wert - Abzug"},2.5]
[{"$f":"VLOOKUP(11,INDIRECT($C$70),2,0)","v":" "},null,null,null,{"$f":"VLOOKUP(11,INDIRECT($C$70),3,0)","v":" "},null,{"$f":"IF(H2>13,\"\",\"Wert - Abzug\")","v":""},""]
[{"$f":"VLOOKUP(12,INDIRECT($C$70),2,0)","v":" "},null,null,null,{"$f":"VLOOKUP(12,INDIRECT($C$70),3,0)","v":" "},null,{"$f":"IF(OR(H2=9,H2=12,H2=13),\"Wert - Abzug\",\"\")","v":""},""]
["Gesamtpunktzahl Bodenkomplexübung",null,null,null,null,null,null,{"$f":"SUM(H39:H50)","v":21.5}]
["Gesamtpunktzahl",null,null,null,null,null,null,{"$f":"SUM(H9,H19,H37,H51)","v":175.1}]
[]
[]
[null,"Shuttles",{"$f":"\"Shuttles_\"&F1&IF(H2=9,\"_9\",IF(H2<12,\"_10_11\",IF(H2<14,\"_12_13\",IF(H2<17,\"_14_16\",\"_17\"))))","v":"Shuttles_weiblich_14_16"}]
[null,null,{"$f":"\"Shuttles_\"&F1&IF(H2=9,\"_9\",IF(H2<12,\"_10_11\",IF(H2<14,\"_12_13\",IF(H2<17,\"_14_16\",\"_17\"))))&\"[Shuttle]\"","v":"Shuttles_weiblich_14_16[Shuttle]"}]
[null,null,{"$f":"\"Shuttles_\"&F1&IF(H2=9,\"_9\",IF(H2<12,\"_10_11\",IF(H2<14,\"_12_13\",IF(H2<17,\"_14_16\",\"_17\"))))&\"[Punkte]\"","v":"Shuttles_weiblich_14_16[Punkte]"}]
[]
[null,"G_TBN TN BKÜ",{"$f":"IF(H2<13,\"beide\",F1)","v":"weiblich"}]
[null,"AK",{"$f":"IF(OR(H2=9,H2=12),H2,IF(H2<12,\"10_11\",IF(H2<15,\"13_14\",IF(H2<17,\"15_16\",IF(H2<19,\"17_18\",19)))))","v":"13_14"}]
[]
[null,"TBN",{"$f":"\"TBN_\"&C59&\"_\"&C60","v":"TBN_weiblich_13_14"}]
[null,null,{"$f":"C62&\"[Beschreibung]\"","v":"TBN_weiblich_13_14[Beschreibung]"}]
[]
[null,"TN",{"$f":"\"TN_\"&C59&\"_\"&C60","v":"TN_weiblich_13_14"}]
[null,null,{"$f":"C65&\"[Beschreibung]\"","v":"TN_weiblich_13_14[Beschreibung]"}]
[]
[null,"TV",{"$f":"\"TV_\"&F1&\"_\"&C60","v":"TV_weiblich_13_14"}]
[]
[null,"BKÜ",{"$f":"\"BKÜ\"&IF(H2=9,\"_9\",IF(H2<12,\"_10_11\",IF(H2<14,\"_12_13\",IF(H2<17,\"_14_16\",\"_17\"))))","v":"BKÜ_14_16"}]
[]
[null,"G_TV",{"$f":"IF(H2<17,\"beide\",F1)","v":"beide"}]
[null,"TV",{"$f":"\"TV_\"&C72&\"_\"&C60","v":"TV_beide_13_14"}]
[]
[null,{"$f":"SUM(H19,H9,H51)","v":101.5},"Vergleichspunktzahl aus Kraft, Beweglichkeit, Grundlagenausdauer, Bodenübung"]
[null,{"$f":"IF(B75>95,\"Ja\",\"Nein\")","v":"Ja"},"Vergleichspunktzahl erfüllt?"]
[null,{"$f":"IF(F1=\"Weiblich\",VLOOKUP(H2,Punktetabellen!$D$43:$F$49,3,1),VLOOKUP(H2,Punktetabellen!$D$43:$F$49,2,1))","v":143},"Mindest-Gesamtwert"]
[null,{"$f":"IF(H52>=B77,\"Ja\",\"Nein\")","v":"Ja"},"Gesamtwert erfüllt?"]
[null,{"$f":"IF(AND(B76=\"Ja\",B78=\"Ja\"),\"Ja\",\"Nein\")","v":"Ja"},"Alles erfüllt?"]

{"sheet":"WolfrumPhilipp","index":17,"n_rows":79,"n_cols":8,"rows_kept":79,"cut":false,"hidden":false,"merged":[[11,0,11,4],[0,1,0,4],[1,1,1,5],[2,0,2,4],[3,0,3,4],[4,0,4,4],[5,0,5,4],[6,0,6,4],[7,0,7,4],[8,0,8,6],[9,0,9,4],[10,0,10,4],[23,0,23,1],[12,0,12,4],[13,0,13,4],[14,0,14,4],[15,0,15,4],[16,0,16,1],[17,0,17,4],[18,0,18,6],[19,0,19,2],[20,0,20,2],[21,0,21,1],[22,0,22,1],[41,0,41,3],[30,0,30,1],[31,0,31,1],[32,0,32,1],[33,0,33,1],[34,0,34,1],[35,0,35,1],[36,0,36,6],[37,0,37,3],[38,0,38,3],[39,0,39,3],[40,0,40,3],[48,0,48,3],[49,0,49,3],[50,0,50,6],[51,0,51,6],[42,0,42,3],[43,0,43,3],[44,0,44,3],[45,0,45,3],[46,0,46,3],[47,0,47,3]]}
["Name","Wolfrum, Philipp",null,null,null,"männlich","Jahrgang",2007]
["Verein","Munich-Airriders",null,null,null,null,"AK",{"$f":"2020-H1","v":13}]
["Übung",null,null,null,null,"Wert","Berechnung","Punkte"]
["Fußdehnung",null,null,null,null,10,"Bild",{"$f":"F4","v":10}]
["Briefmarke mit Armrumpfwinkel",null,null,null,null,10,"Bild",{"$f":"F5","v":10}]
["Bückbeweglichkeit",null,null,null,null,24,"Tabelle",{"$f":"IF(F6=\"\",0,VLOOKUP(F6,Punktetabellen!A10:B15,2,1))","v":10}]
["Querspagat links",null,null,null,null,0,"Tabelle",{"$f":"IF(F7=\"\",0,VLOOKUP(F7,Punktetabellen!A3:B6,2,0))","v":10}]
["Querspagat rechts",null,null,null,null,0,"Tabelle",{"$f":"IF(F8=\"\",0,VLOOKUP(F8,Punktetabellen!A3:B6,2,0))","v":10}]
["Gesamtpunktzahl Beweglichkeit",null,null,null,null,null,null,{"$f":"SUM(H4:H8)","v":50}]
["Übung",null,null,null,null,"Wert","Berechnung","Punktzahl"]
["Klimmzug",null,null,null,null,15,"Tabelle",{"$f":"IF(F11=\"\",0,IF(H2<12,VLOOKUP(F11,Punktetabellen!D4:F14,3,1),VLOOKUP(F11,Punktetabellen!E4:F14,2,1)))","v":10}]
["Beinheben",null,null,null,null,4,"Tabelle",{"$f":"IF(H2=9,VLOOKUP(F12,Punktetabellen!D19:F29,3,1),VLOOKUP(F12,Punktetabellen!E19:F29,2,1))","v":1}]
["Flieger",null,null,null,null,110,"Tabelle",{"$f":"IF(H2=9,VLOOKUP(F13,Punktetabellen!H4:K9,4,1),IF(H2<12,VLOOKUP(F13,Punktetabellen!I4:K9,3,1),VLOOKUP(F13,Punktetabellen!J4:K9,2,1)))","v":8}]
["Rollenverbindung",null,null,null,null,29,"Tabelle",{"$f":"IF(H2=9,VLOOKUP(F14,Punktetabellen!H14:K24,4,1),IF(H2<12,VLOOKUP(F14,Punktetabellen!I14:K24,3,1),VLOOKUP(F14,Punktetabellen!J14:K24,2,1)))","v":10}]
["Prellsprünge",null,null,null,null,40,"Tabelle",{"$f":"IF(H2=9,VLOOKUP(F15,Punktetabellen!M4:Q14,5,1),IF(H2<12,VLOOKUP(F15,Punktetabellen!N4:Q14,4,1),IF(H2<14,VLOOKUP(F15,Punktetabellen!O4:Q14,3,1),VLOOKUP(F15,Punktetabellen!P4:Q14,2,1))))","v":10}]
["Handstandstehen",null,null,null,null,30,"Tabelle",{"$f":"IF(F16=\"\",0,IF(H2<10,VLOOKUP(F16,Punktetabellen!D34:F40,3,1),VLOOKUP(F16,Punktetabellen!E34:F40,2,1)))","v":10}]
["Schweizer, Wiener",null,{"$f":"IF(H2<12,\"\",IF(AND(H2>13,H2<17),\"Schweizer: \",\"Wiener: \"))","v":"Wiener: "},6,{"$f":"IF(H2<12,\"\",IF(AND(H2>13,H2<17),\"Wiener: \",\"Schweizer: \"))","v":"Schweizer: "},null,"Tabelle",{"$f":"IF(H2<12,VLOOKUP(F17,Punktetabellen!A20:B25,2,1),((MIN(5,1*D17)*2)+MIN(MAX(0,5-(1*D17)),(1*F17))))","v":10}]
["Bleep-Test",null,null,null,null,"L10 S11","Tabelle",{"$f":"IF(F18=\"\",0,VLOOKUP(F18,INDIRECT(C55),2,0))","v":10}]
["Gesamtpunktzahl Kraft/Kondition",null,null,null,null,null,null,{"$f":"SUM(H11:H18)","v":69}]
["Übung",null,null,"Max / Soll","Max. Abzug","Abzug / Ist","Berechnung","Punkte"]
["Standsprunghöhe",null,null,{"$f":"IF(F1=\"männlich\",VLOOKUP(H2,Standsprünge!A3:C15,3,0),VLOOKUP(H2,Standsprünge!A3:B15,2,0))","v":15.3},null,16.059999999999999,"(Ist - Soll) x 10",{"$f":"IF(F21=\"\",0,(F21-D21)*10)","v":7.5999999999999801}]
[{"$f":"IF(H2>16,\"entfällt\",\"TBN\")","v":"TBN"},null,"2/1 Salto vw c aus der Rückenlage",{"$f":"IF(C22=\"\",\"\",VLOOKUP(C22,INDIRECT($C$62),2,0))","v":10},{"$f":"IF(C22=\"\",\"\",VLOOKUP(C22,INDIRECT($C$62),3,0))","v":6},2,{"$f":"IF(H2>16,\"entfällt\",\"Wert - Abzug\")","v":"Wert - Abzug"},{"$f":"IF(A22=\"entfällt\",0,IF(F22=\"\",0,D22-F22))","v":8}]
[{"$f":"IF(H2>16,\"entfällt\",\"TBN\")","v":"TBN"},null,"7/4 Salto vw c zum Rücken, 1/1 aus",{"$f":"IF(C23=\"\",\"\",VLOOKUP(C23,INDIRECT($C$62),2,0))","v":10},{"$f":"IF(C23=\"\",\"\",VLOOKUP(C23,INDIRECT($C$62),3,0))","v":6},0,{"$f":"IF(H2>16,\"entfällt\",\"Wert - Abzug\")","v":"Wert - Abzug"},{"$f":"IF(A23=\"entfällt\",0,IF(F23=\"\",0,D23-F23))","v":10}]
[{"$f":"IF(H2>12,\"entfällt\",\"TBN\")","v":"entfällt"},null,null,{"$f":"IF(C24=\"\",\"\",VLOOKUP(C24,INDIRECT($C$62),2,0))","v":""},{"$f":"IF(C24=\"\",\"\",VLOOKUP(C24,INDIRECT($C$62),3,0))","v":""},null,{"$f":"IF(H2>16,\"entfällt\",\"Wert - Abzug\")","v":"Wert - Abzug"},0]
["TN",{"$f":"IF(C25=\"\",\"\",VLOOKUP(C25,INDIRECT($C$65),2,0))","v":"801°"},"Fliffis c",{"$f":"IF(C25=\"\",\"\",VLOOKUP(C25,INDIRECT($C$65),3,0))","v":11},{"$f":"IF(C25=\"\",\"\",VLOOKUP(C25,INDIRECT($C$65),4,0))","v":6},2,"Wert - Abzug",9]
["TN","801<","Fliffis b",13,6,2,"Wert - Abzug",11]
["TN","811°","1/2 ein 1/2 aus c",12,6,4,"Wert - Abzug",8]
[{"$f":"IF(H2>12,\"TN\",\"entfällt\")","v":"TN"},"803°","Fliffisrudi c",13,6,4,{"$f":"IF(H2>12,\"Wert - Abzug\",\"entfällt\")","v":"Wert - Abzug"},9]
[{"$f":"IF(H2>16,\"TN\",\"entfällt\")","v":"entfällt"},"",null,"","",null,{"$f":"IF(H2>16,\"Wert - Abzug\",\"entfällt\")","v":"entfällt"},0]
[{"$f":"IF(H2>16,\"TN\",\"entfällt\")","v":"entfällt"},"",null,"","",null,{"$f":"IF(H2>16,\"Wert - Abzug\",\"entfällt\")","v":"entfällt"},{"$f":"IF(A30=\"entfällt\",0,IF(F30=\"\",0,D30-F30))","v":0}]
[{"$f":"IF($H$2>11,\"Verbindung Sprung 1\",\"entfällt\")","v":"Verbindung Sprung 1"},null,{"$f":"IF(A31<>\"entfällt\",VLOOKUP(1,INDIRECT($C$73),2,0),\"\")","v":"40/"},{"$f":"IF(A31<>\"entfällt\",VLOOKUP(1,INDIRECT($C$73),3,0),\"\")","v":6},{"$f":"IF(A31<>\"entfällt\",VLOOKUP(1,INDIRECT($C$73),4,0),\"\")","v":3},1,{"$f":"IF(H2>12,\"Wert - Abzug\",\"entfällt\")","v":"Wert - Abzug"},{"$f":"IF(A31=\"entfällt\",0,IF(F31=\"\",0,D31-F31))","v":5}]
[{"$f":"IF($H$2>11,\"Verbindung Sprung 2\",\"entfällt\")","v":"Verbindung Sprung 2"},null,{"$f":"IF(A32<>\"entfällt\",VLOOKUP(2,INDIRECT($C$73),2,0),\"\")","v":"41/"},{"$f":"IF(A32<>\"entfällt\",VLOOKUP(2,INDIRECT($C$73),3,0),\"\")","v":6},{"$f":"IF(A32<>\"entfällt\",VLOOKUP(2,INDIRECT($C$73),4,0),\"\")","v":3},1,{"$f":"IF(H2>12,\"Wert - Abzug\",\"entfällt\")","v":"Wert - Abzug"},{"$f":"IF(A32=\"entfällt\",0,IF(F32=\"\",0,D32-F32))","v":5}]
[{"$f":"IF($H$2>11,\"Verbindung Sprung 3\",\"entfällt\")","v":"Verbindung Sprung 3"},null,{"$f":"IF(A33<>\"entfällt\",VLOOKUP(3,INDIRECT($C$73),2,0),\"\")","v":"42/"},{"$f":"IF(A33<>\"entfällt\",VLOOKUP(3,INDIRECT($C$73),3,0),\"\")","v":7},{"$f":"IF(A33<>\"entfällt\",VLOOKUP(3,INDIRECT($C$73),4,0),\"\")","v":3},2,{"$f":"IF(H2>12,\"Wert - Abzug\",\"entfällt\")","v":"Wert - Abzug"},5]
[{"$f":"IF($H$2>11,\"Verbindung Sprung 4\",\"entfällt\")","v":"Verbindung Sprung 4"},null,{"$f":"IF(A34<>\"entfällt\",VLOOKUP(4,INDIRECT($C$73),2,0),\"\")","v":"40°"},{"$f":"IF(A34<>\"entfällt\",VLOOKUP(4,INDIRECT($C$73),3,0),\"\")","v":5},{"$f":"IF(A34<>\"entfällt\",VLOOKUP(4,INDIRECT($C$73),4,0),\"\")","v":3},1,{"$f":"IF(H2>12,\"Wert - Abzug\",\"entfällt\")","v":"Wert - Abzug"},4]
[{"$f":"IF($H$2>11,\"Verbindung Sprung 5\",\"entfällt\")","v":"Verbindung Sprung 5"},null,{"$f":"IF(A35<>\"entfällt\",VLOOKUP(5,INDIRECT($C$73),2,0),\"\")","v":"41°"},{"$f":"IF(A35<>\"entfällt\",VLOOKUP(5,INDIRECT($C$73),3,0),\"\")","v":6},{"$f":"IF(A35<>\"entfällt\",VLOOKUP(5,INDIRECT($C$73),4,0),\"\")","v":3},2,{"$f":"IF(H2>12,\"Wert - Abzug\",\"entfällt\")","v":"Wert - Abzug"},4]
[{"$f":"IF($H$2>11,\"Verbindung Sprung 6\",\"entfällt\")","v":"Verbindung Sprung 6"},null,{"$f":"IF(A36<>\"entfällt\",VLOOKUP(6,INDIRECT($C$73),2,0),\"\")","v":"800°"},{"$f":"IF(A36<>\"entfällt\",VLOOKUP(6,INDIRECT($C$73),3,0),\"\")","v":10},{"$f":"IF(A36<>\"entfällt\",VLOOKUP(6,INDIRECT($C$73),4,0),\"\")","v":3},3,{"$f":"IF(H2>12,\"Wert - Abzug\",\"entfällt\")","v":"Wert - Abzug"},{"$f":"IF(A36=\"entfällt\",0,IF(F36=\"\",0,D36-F36))","v":7}]
["Gesamtpunktzahl Trampolin",null,null,null,null,null,null,{"$f":"SUM(H21:H36)","v":92.59999999999998}]
["Element",null,null,null,"Wert","Abzug","Berechnung","Punkte"]
[{"$f":"VLOOKUP(1,INDIRECT($C$70),2,0)","v":"Salto vorwärts mit Anlauf"},null,null,null,{"$f":"VLOOKUP(1,INDIRECT($C$70),3,0)","v":3},0,"Wert - Abzug",{"$f":"IF(E39=\" \",\"\",IF(F39=\"\",0,E39-F39))","v":3}]
[{"$f":"VLOOKUP(2,INDIRECT($C$70),2,0)","v":"Handstand, 1/1 Drehung, Abrollen"},null,null,null,{"$f":"VLOOKUP(2,INDIRECT($C$70),3,0)","v":3},0.5,"Wert - Abzug",{"$f":"IF(E40=\" \",\"\",IF(F40=\"\",0,E40-F40))","v":2.5}]
[{"$f":"VLOOKUP(3,INDIRECT($C$70),2,0)","v":"Strecksprung 1/2 Drehung"},null,null,null,{"$f":"VLOOKUP(3,INDIRECT($C$70),3,0)","v":1.5},0,"Wert - Abzug",1.5]
[{"$f":"VLOOKUP(4,INDIRECT($C$70),2,0)","v":"Vorspreizen, Handstandhüpfer, Abrollen Grätschsitz"},null,null,null,{"$f":"VLOOKUP(4,INDIRECT($C$70),3,0)","v":1.5},0.5,"Wert - Abzug",1]
[{"$f":"VLOOKUP(5,INDIRECT($C$70),2,0)","v":"Briefmarke, Rückgrätschen --> Bauchlage"},null,null,null,{"$f":"VLOOKUP(5,INDIRECT($C$70),3,0)","v":3},0,"Wert - Abzug",3]
[{"$f":"VLOOKUP(6,INDIRECT($C$70),2,0)","v":"Kniestand, Abdrücken gebückt --> Handstand, abrollen"},null,null,null,{"$f":"VLOOKUP(6,INDIRECT($C$70),3,0)","v":3},0,"Wert - Abzug",3]
[{"$f":"VLOOKUP(7,INDIRECT($C$70),2,0)","v":"Vorspreizen, Standwaage --> abrollen, einbeinig rechts auf"},null,null,null,{"$f":"VLOOKUP(7,INDIRECT($C$70),3,0)","v":3.5},0,"Wert - Abzug",3.5]
[{"$f":"VLOOKUP(8,INDIRECT($C$70),2,0)","v":"Vorspreizen, Standwaage --> abrollen, einbeinig links auf"},null,null,null,{"$f":"VLOOKUP(8,INDIRECT($C$70),3,0)","v":3.5},1,"Wert - Abzug",2.5]
[{"$f":"VLOOKUP(9,INDIRECT($C$70),2,0)","v":"Rolle rückwärts durch Handstand"},null,null,null,{"$f":"VLOOKUP(9,INDIRECT($C$70),3,0)","v":3},0,{"$f":"IF(H2>16,\"\",\"Wert - Abzug\")","v":"Wert - Abzug"},3]
[{"$f":"VLOOKUP(10,INDIRECT($C$70),2,0)","v":"Strecksprung 1/2 Drehung"},null,null,null,{"$f":"VLOOKUP(10,INDIRECT($C$70),3,0)","v":1},0,{"$f":"IF(H2>16,\"\",\"Wert - Abzug\")","v":"Wert - Abzug"},1]
[{"$f":"VLOOKUP(11,INDIRECT($C$70),2,0)","v":"Sprungrolle mit Anlauf"},null,null,null,{"$f":"VLOOKUP(11,INDIRECT($C$70),3,0)","v":2},0,{"$f":"IF(H2>13,\"\",\"Wert - Abzug\")","v":"Wert - Abzug"},2]
[{"$f":"VLOOKUP(12,INDIRECT($C$70),2,0)","v":"Strecksprung 1/1 Drehung"},null,null,null,{"$f":"VLOOKUP(12,INDIRECT($C$70),3,0)","v":2},0,{"$f":"IF(OR(H2=9,H2=12,H2=13),\"Wert - Abzug\",\"\")","v":"Wert - Abzug"},2]
["Gesamtpunktzahl Bodenkomplexübung",null,null,null,null,null,null,{"$f":"SUM(H39:H50)","v":28}]
["Gesamtpunktzahl",null,null,null,null,null,null,{"$f":"SUM(H9,H19,H37,H51)","v":239.59999999999997}]
[]
[]
[null,"Shuttles",{"$f":"\"Shuttles_\"&F1&IF(H2=9,\"_9\",IF(H2<12,\"_10_11\",IF(H2<14,\"_12_13\",IF(H2<17,\"_14_16\",\"_17\"))))","v":"Shuttles_männlich_12_13"}]
[null,null,{"$f":"\"Shuttles_\"&F1&IF(H2=9,\"_9\",IF(H2<12,\"_10_11\",IF(H2<14,\"_12_13\",IF(H2<17,\"_14_16\",\"_17\"))))&\"[Shuttle]\"","v":"Shuttles_männlich_12_13[Shuttle]"}]
[null,null,{"$f":"\"Shuttles_\"&F1&IF(H2=9,\"_9\",IF(H2<12,\"_10_11\",IF(H2<14,\"_12_13\",IF(H2<17,\"_14_16\",\"_17\"))))&\"[Punkte]\"","v":"Shuttles_männlich_12_13[Punkte]"}]
[]
[null,"G_TBN TN BKÜ",{"$f":"IF(H2<13,\"beide\",F1)","v":"männlich"}]
[null,"AK",{"$f":"IF(OR(H2=9,H2=12),H2,IF(H2<12,\"10_11\",IF(H2<15,\"13_14\",IF(H2<17,\"15_16\",IF(H2<19,\"17_18\",19)))))","v":"13_14"}]
[]
[null,"TBN",{"$f":"\"TBN_\"&C59&\"_\"&C60","v":"TBN_männlich_13_14"}]
[null,null,{"$f":"C62&\"[Beschreibung]\"","v":"TBN_männlich_13_14[Beschreibung]"}]
[]
[null,"TN",{"$f":"\"TN_\"&C59&\"_\"&C60","v":"TN_männlich_13_14"}]
[null,null,{"$f":"C65&\"[Beschreibung]\"","v":"TN_männlich_13_14[Beschreibung]"}]
[]
[null,"TV",{"$f":"\"TV_\"&F1&\"_\"&C60","v":"TV_männlich_13_14"}]
[]
[null,"BKÜ",{"$f":"\"BKÜ\"&IF(H2=9,\"_9\",IF(H2<12,\"_10_11\",IF(H2<14,\"_12_13\",IF(H2<17,\"_14_16\",\"_17\"))))","v":"BKÜ_12_13"}]
[]
[null,"G_TV",{"$f":"IF(H2<17,\"beide\",F1)","v":"beide"}]
[null,"TV",{"$f":"\"TV_\"&C72&\"_\"&C60","v":"TV_beide_13_14"}]
[]
[null,{"$f":"SUM(H19,H9,H51)","v":147},"Vergleichspunktzahl aus Kraft, Beweglichkeit, Grundlagenausdauer, Bodenübung"]
[null,{"$f":"IF(B75>95,\"Ja\",\"Nein\")","v":"Ja"},"Vergleichspunktzahl erfüllt?"]
[null,{"$f":"IF(F1=\"Weiblich\",VLOOKUP(H2,Punktetabellen!$D$43:$F$49,3,1),VLOOKUP(H2,Punktetabellen!$D$43:$F$49,2,1))","v":144},"Mindest-Gesamtwert"]
[null,{"$f":"IF(H52>=B77,\"Ja\",\"Nein\")","v":"Ja"},"Gesamtwert erfüllt?"]
[null,{"$f":"IF(AND(B76=\"Ja\",B78=\"Ja\"),\"Ja\",\"Nein\")","v":"Ja"},"Alles erfüllt?"]

{"sheet":"EschkeRyan","index":18,"n_rows":79,"n_cols":8,"rows_kept":79,"cut":false,"hidden":false,"merged":[[11,0,11,4],[0,1,0,4],[1,1,1,5],[2,0,2,4],[3,0,3,4],[4,0,4,4],[5,0,5,4],[6,0,6,4],[7,0,7,4],[8,0,8,6],[9,0,9,4],[10,0,10,4],[23,0,23,1],[12,0,12,4],[13,0,13,4],[14,0,14,4],[15,0,15,4],[16,0,16,1],[17,0,17,4],[18,0,18,6],[19,0,19,2],[20,0,20,2],[21,0,21,1],[22,0,22,1],[41,0,41,3],[30,0,30,1],[31,0,31,1],[32,0,32,1],[33,0,33,1],[34,0,34,1],[35,0,35,1],[36,0,36,6],[37,0,37,3],[38,0,38,3],[39,0,39,3],[40,0,40,3],[48,0,48,3],[49,0,49,3],[50,0,50,6],[51,0,51,6],[42,0,42,3],[43,0,43,3],[44,0,44,3],[45,0,45,3],[46,0,46,3],[47,0,47,3]]}
["Name","Eschke, Ryan",null,null,null,"männlich","Jahrgang",2007]
["Verein","TB Ruit",null,null,null,null,"AK",{"$f":"2020-H1","v":13}]
["Übung",null,null,null,null,"Wert","Berechnung","Punkte"]
["Fußdehnung",null,null,null,null,6,"Bild",{"$f":"F4","v":6}]
["Briefmarke mit Armrumpfwinkel",null,null,null,null,2,"Bild",{"$f":"F5","v":2}]
["Bückbeweglichkeit",null,null,null,null,4,"Tabelle",{"$f":"IF(F6=\"\",0,VLOOKUP(F6,Punktetabellen!A10:B15,2,1))","v":0}]
["Querspagat links",null,null,null,null,"<5 cm","Tabelle",{"$f":"IF(F7=\"\",0,VLOOKUP(F7,Punktetabellen!A3:B6,2,0))","v":6}]
["Querspagat rechts",null,null,null,null,"10 cm oder mehr","Tabelle",{"$f":"IF(F8=\"\",0,VLOOKUP(F8,Punktetabellen!A3:B6,2,0))","v":0}]
["Gesamtpunktzahl Beweglichkeit",null,null,null,null,null,null,{"$f":"SUM(H4:H8)","v":14}]
["Übung",null,null,null,null,"Wert","Berechnung","Punktzahl"]
["Klimmzug",null,null,null,null,5,"Tabelle",{"$f":"IF(F11=\"\",0,IF(H2<12,VLOOKUP(F11,Punktetabellen!D4:F14,3,1),VLOOKUP(F11,Punktetabellen!E4:F14,2,1)))","v":0}]
["Beinheben",null,null,null,null,0,"Tabelle",{"$f":"IF(H2=9,VLOOKUP(F12,Punktetabellen!D19:F29,3,1),VLOOKUP(F12,Punktetabellen!E19:F29,2,1))","v":0}]
["Flieger",null,null,null,null,120,"Tabelle",{"$f":"IF(H2=9,VLOOKUP(F13,Punktetabellen!H4:K9,4,1),IF(H2<12,VLOOKUP(F13,Punktetabellen!I4:K9,3,1),VLOOKUP(F13,Punktetabellen!J4:K9,2,1)))","v":10}]
["Rollenverbindung",null,null,null,null,19,"Tabelle",{"$f":"IF(H2=9,VLOOKUP(F14,Punktetabellen!H14:K24,4,1),IF(H2<12,VLOOKUP(F14,Punktetabellen!I14:K24,3,1),VLOOKUP(F14,Punktetabellen!J14:K24,2,1)))","v":5}]
["Prellsprünge",null,null,null,null,34,"Tabelle",{"$f":"IF(H2=9,VLOOKUP(F15,Punktetabellen!M4:Q14,5,1),IF(H2<12,VLOOKUP(F15,Punktetabellen!N4:Q14,4,1),IF(H2<14,VLOOKUP(F15,Punktetabellen!O4:Q14,3,1),VLOOKUP(F15,Punktetabellen!P4:Q14,2,1))))","v":7}]
["Handstandstehen",null,null,null,null,29,"Tabelle",{"$f":"IF(F16=\"\",0,IF(H2<10,VLOOKUP(F16,Punktetabellen!D34:F40,3,1),VLOOKUP(F16,Punktetabellen!E34:F40,2,1)))","v":8}]
["Schweizer, Wiener",null,{"$f":"IF(H2<12,\"\",IF(AND(H2>13,H2<17),\"Schweizer: \",\"Wiener: \"))","v":"Wiener: "},0,{"$f":"IF(H2<12,\"\",IF(AND(H2>13,H2<17),\"Wiener: \",\"Schweizer: \"))","v":"Schweizer: "},0,"Tabelle",{"$f":"IF(H2<12,VLOOKUP(F17,Punktetabellen!A20:B25,2,1),((MIN(5,1*D17)*2)+MIN(MAX(0,5-(1*D17)),(1*F17))))","v":0}]
["Bleep-Test",null,null,null,null,"L9 S5","Tabelle",{"$f":"IF(F18=\"\",0,VLOOKUP(F18,INDIRECT(C55),2,0))","v":7}]
["Gesamtpunktzahl Kraft/Kondition",null,null,null,null,null,null,{"$f":"SUM(H11:H18)","v":37}]
["Übung",null,null,"Max / Soll","Max. Abzug","Abzug / Ist","Berechnung","Punkte"]
["Standsprunghöhe",null,null,{"$f":"IF(F1=\"männlich\",VLOOKUP(H2,Standsprünge!A3:C15,3,0),VLOOKUP(H2,Standsprünge!A3:B15,2,0))","v":15.3},null,14.42,"(Ist - Soll) x 10",{"$f":"IF(F21=\"\",0,(F21-D21)*10)","v":-8.8000000000000078}]
[{"$f":"IF(H2>16,\"entfällt\",\"TBN\")","v":"TBN"},null,"7/4 Salto vw c zum Rücken, 1/1 aus",{"$f":"IF(C22=\"\",\"\",VLOOKUP(C22,INDIRECT($C$62),2,0))","v":10},{"$f":"IF(C22=\"\",\"\",VLOOKUP(C22,INDIRECT($C$62),3,0))","v":6},2,{"$f":"IF(H2>16,\"entfällt\",\"Wert - Abzug\")","v":"Wert - Abzug"},{"$f":"IF(A22=\"entfällt\",0,IF(F22=\"\",0,D22-F22))","v":8}]
[{"$f":"IF(H2>16,\"entfällt\",\"TBN\")","v":"TBN"},null,"2/1 Salto vw c aus der Rückenlage",{"$f":"IF(C23=\"\",\"\",VLOOKUP(C23,INDIRECT($C$62),2,0))","v":10},{"$f":"IF(C23=\"\",\"\",VLOOKUP(C23,INDIRECT($C$62),3,0))","v":6},2,{"$f":"IF(H2>16,\"entfällt\",\"Wert - Abzug\")","v":"Wert - Abzug"},{"$f":"IF(A23=\"entfällt\",0,IF(F23=\"\",0,D23-F23))","v":8}]
[{"$f":"IF(H2>12,\"entfällt\",\"TBN\")","v":"entfällt"},null,null,{"$f":"IF(C24=\"\",\"\",VLOOKUP(C24,INDIRECT($C$62),2,0))","v":""},{"$f":"IF(C24=\"\",\"\",VLOOKUP(C24,INDIRECT($C$62),3,0))","v":""},null,{"$f":"IF(H2>16,\"entfällt\",\"Wert - Abzug\")","v":"Wert - Abzug"},0]
["TN",{"$f":"IF(C25=\"\",\"\",VLOOKUP(C25,INDIRECT($C$65),2,0))","v":"801°"},"Fliffis c",{"$f":"IF(C25=\"\",\"\",VLOOKUP(C25,INDIRECT($C$65),3,0))","v":11},{"$f":"IF(C25=\"\",\"\",VLOOKUP(C25,INDIRECT($C$65),4,0))","v":6},2,"Wert - Abzug",9]
["TN","801<","Fliffis b",13,6,4,"Wert - Abzug",9]
["TN","803°","Fliffisrudi c",13,6,4,"Wert - Abzug",9]
[{"$f":"IF(H2>12,\"TN\",\"entfällt\")","v":"TN"},"811°","1/2 ein 1/2 aus c",12,6,4,{"$f":"IF(H2>12,\"Wert - Abzug\",\"entfällt\")","v":"Wert - Abzug"},8]
[{"$f":"IF(H2>16,\"TN\",\"entfällt\")","v":"entfällt"},"",null,"","",null,{"$f":"IF(H2>16,\"Wert - Abzug\",\"entfällt\")","v":"entfällt"},0]
[{"$f":"IF(H2>16,\"TN\",\"entfällt\")","v":"entfällt"},"",null,"","",null,{"$f":"IF(H2>16,\"Wert - Abzug\",\"entfällt\")","v":"entfällt"},{"$f":"IF(A30=\"entfällt\",0,IF(F30=\"\",0,D30-F30))","v":0}]
[{"$f":"IF($H$2>11,\"Verbindung Sprung 1\",\"entfällt\")","v":"Verbindung Sprung 1"},null,{"$f":"IF(A31<>\"entfällt\",VLOOKUP(1,INDIRECT($C$73),2,0),\"\")","v":"40/"},{"$f":"IF(A31<>\"entfällt\",VLOOKUP(1,INDIRECT($C$73),3,0),\"\")","v":6},{"$f":"IF(A31<>\"entfällt\",VLOOKUP(1,INDIRECT($C$73),4,0),\"\")","v":3},2,{"$f":"IF(H2>12,\"Wert - Abzug\",\"entfällt\")","v":"Wert - Abzug"},{"$f":"IF(A31=\"entfällt\",0,IF(F31=\"\",0,D31-F31))","v":4}]
[{"$f":"IF($H$2>11,\"Verbindung Sprung 2\",\"entfällt\")","v":"Verbindung Sprung 2"},null,{"$f":"IF(A32<>\"entfällt\",VLOOKUP(2,INDIRECT($C$73),2,0),\"\")","v":"41/"},{"$f":"IF(A32<>\"entfällt\",VLOOKUP(2,INDIRECT($C$73),3,0),\"\")","v":6},{"$f":"IF(A32<>\"entfällt\",VLOOKUP(2,INDIRECT($C$73),4,0),\"\")","v":3},1,{"$f":"IF(H2>12,\"Wert - Abzug\",\"entfällt\")","v":"Wert - Abzug"},{"$f":"IF(A32=\"entfällt\",0,IF(F32=\"\",0,D32-F32))","v":5}]
[{"$f":"IF($H$2>11,\"Verbindung Sprung 3\",\"entfällt\")","v":"Verbindung Sprung 3"},null,{"$f":"IF(A33<>\"entfällt\",VLOOKUP(3,INDIRECT($C$73),2,0),\"\")","v":"42/"},{"$f":"IF(A33<>\"entfällt\",VLOOKUP(3,INDIRECT($C$73),3,0),\"\")","v":7},{"$f":"IF(A33<>\"entfällt\",VLOOKUP(3,INDIRECT($C$73),4,0),\"\")","v":3},2,{"$f":"IF(H2>12,\"Wert - Abzug\",\"entfällt\")","v":"Wert - Abzug"},5]
[{"$f":"IF($H$2>11,\"Verbindung Sprung 4\",\"entfällt\")","v":"Verbindung Sprung 4"},null,{"$f":"IF(A34<>\"entfällt\",VLOOKUP(4,INDIRECT($C$73),2,0),\"\")","v":"40°"},{"$f":"IF(A34<>\"entfällt\",VLOOKUP(4,INDIRECT($C$73),3,0),\"\")","v":5},{"$f":"IF(A34<>\"entfällt\",VLOOKUP(4,INDIRECT($C$73),4,0),\"\")","v":3},2,{"$f":"IF(H2>12,\"Wert - Abzug\",\"entfällt\")","v":"Wert - Abzug"},3]
[{"$f":"IF($H$2>11,\"Verbindung Sprung 5\",\"entfällt\")","v":"Verbindung Sprung 5"},null,{"$f":"IF(A35<>\"entfällt\",VLOOKUP(5,INDIRECT($C$73),2,0),\"\")","v":"41°"},{"$f":"IF(A35<>\"entfällt\",VLOOKUP(5,INDIRECT($C$73),3,0),\"\")","v":6},{"$f":"IF(A35<>\"entfällt\",VLOOKUP(5,INDIRECT($C$73),4,0),\"\")","v":3},2,{"$f":"IF(H2>12,\"Wert - Abzug\",\"entfällt\")","v":"Wert - Abzug"},4]
[{"$f":"IF($H$2>11,\"Verbindung Sprung 6\",\"entfällt\")","v":"Verbindung Sprung 6"},null,{"$f":"IF(A36<>\"entfällt\",VLOOKUP(6,INDIRECT($C$73),2,0),\"\")","v":"800°"},{"$f":"IF(A36<>\"entfällt\",VLOOKUP(6,INDIRECT($C$73),3,0),\"\")","v":10},{"$f":"IF(A36<>\"entfällt\",VLOOKUP(6,INDIRECT($C$73),4,0),\"\")","v":3},2,{"$f":"IF(H2>12,\"Wert - Abzug\",\"entfällt\")","v":"Wert - Abzug"},{"$f":"IF(A36=\"entfällt\",0,IF(F36=\"\",0,D36-F36))","v":8}]
["Gesamtpunktzahl Trampolin",null,null,null,null,null,null,{"$f":"SUM(H21:H36)","v":71.199999999999989}]
["Element",null,null,null,"Wert","Abzug","Berechnung","Punkte"]
[{"$f":"VLOOKUP(1,INDIRECT($C$70),2,0)","v":"Salto vorwärts mit Anlauf"},null,null,null,{"$f":"VLOOKUP(1,INDIRECT($C$70),3,0)","v":3},0.5,"Wert - Abzug",{"$f":"IF(E39=\" \",\"\",IF(F39=\"\",0,E39-F39))","v":2.5}]
[{"$f":"VLOOKUP(2,INDIRECT($C$70),2,0)","v":"Handstand, 1/1 Drehung, Abrollen"},null,null,null,{"$f":"VLOOKUP(2,INDIRECT($C$70),3,0)","v":3},0.5,"Wert - Abzug",{"$f":"IF(E40=\" \",\"\",IF(F40=\"\",0,E40-F40))","v":2.5}]
[{"$f":"VLOOKUP(3,INDIRECT($C$70),2,0)","v":"Strecksprung 1/2 Drehung"},null,null,null,{"$f":"VLOOKUP(3,INDIRECT($C$70),3,0)","v":1.5},0,"Wert - Abzug",1.5]
[{"$f":"VLOOKUP(4,INDIRECT($C$70),2,0)","v":"Vorspreizen, Handstandhüpfer, Abrollen Grätschsitz"},null,null,null,{"$f":"VLOOKUP(4,INDIRECT($C$70),3,0)","v":1.5},0.5,"Wert - Abzug",1]
[{"$f":"VLOOKUP(5,INDIRECT($C$70),2,0)","v":"Briefmarke, Rückgrätschen --> Bauchlage"},null,null,null,{"$f":"VLOOKUP(5,INDIRECT($C$70),3,0)","v":3},null,"Wert - Abzug",0]
[{"$f":"VLOOKUP(6,INDIRECT($C$70),2,0)","v":"Kniestand, Abdrücken gebückt --> Handstand, abrollen"},null,null,null,{"$f":"VLOOKUP(6,INDIRECT($C$70),3,0)","v":3},1.5,"Wert - Abzug",1.5]
[{"$f":"VLOOKUP(7,INDIRECT($C$70),2,0)","v":"Vorspreizen, Standwaage --> abrollen, einbeinig rechts auf"},null,null,null,{"$f":"VLOOKUP(7,INDIRECT($C$70),3,0)","v":3.5},2,"Wert - Abzug",1.5]
[{"$f":"VLOOKUP(8,INDIRECT($C$70),2,0)","v":"Vorspreizen, Standwaage --> abrollen, einbeinig links auf"},null,null,null,{"$f":"VLOOKUP(8,INDIRECT($C$70),3,0)","v":3.5},2,"Wert - Abzug",1.5]
[{"$f":"VLOOKUP(9,INDIRECT($C$70),2,0)","v":"Rolle rückwärts durch Handstand"},null,null,null,{"$f":"VLOOKUP(9,INDIRECT($C$70),3,0)","v":3},1,{"$f":"IF(H2>16,\"\",\"Wert - Abzug\")","v":"Wert - Abzug"},2]
[{"$f":"VLOOKUP(10,INDIRECT($C$70),2,0)","v":"Strecksprung 1/2 Drehung"},null,null,null,{"$f":"VLOOKUP(10,INDIRECT($C$70),3,0)","v":1},0,{"$f":"IF(H2>16,\"\",\"Wert - Abzug\")","v":"Wert - Abzug"},1]
[{"$f":"VLOOKUP(11,INDIRECT($C$70),2,0)","v":"Sprungrolle mit Anlauf"},null,null,null,{"$f":"VLOOKUP(11,INDIRECT($C$70),3,0)","v":2},0,{"$f":"IF(H2>13,\"\",\"Wert - Abzug\")","v":"Wert - Abzug"},2]
[{"$f":"VLOOKUP(12,INDIRECT($C$70),2,0)","v":"Strecksprung 1/1 Drehung"},null,null,null,{"$f":"VLOOKUP(12,INDIRECT($C$70),3,0)","v":2},1.5,{"$f":"IF(OR(H2=9,H2=12,H2=13),\"Wert - Abzug\",\"\")","v":"Wert - Abzug"},0.5]
["Gesamtpunktzahl Bodenkomplexübung",null,null,null,null,null,null,{"$f":"SUM(H39:H50)","v":17.5}]
["Gesamtpunktzahl",null,null,null,null,null,null,{"$f":"SUM(H9,H19,H37,H51)","v":139.69999999999999}]
[]
[]
[null,"Shuttles",{"$f":"\"Shuttles_\"&F1&IF(H2=9,\"_9\",IF(H2<12,\"_10_11\",IF(H2<14,\"_12_13\",IF(H2<17,\"_14_16\",\"_17\"))))","v":"Shuttles_männlich_12_13"}]
[null,null,{"$f":"\"Shuttles_\"&F1&IF(H2=9,\"_9\",IF(H2<12,\"_10_11\",IF(H2<14,\"_12_13\",IF(H2<17,\"_14_16\",\"_17\"))))&\"[Shuttle]\"","v":"Shuttles_männlich_12_13[Shuttle]"}]
[null,null,{"$f":"\"Shuttles_\"&F1&IF(H2=9,\"_9\",IF(H2<12,\"_10_11\",IF(H2<14,\"_12_13\",IF(H2<17,\"_14_16\",\"_17\"))))&\"[Punkte]\"","v":"Shuttles_männlich_12_13[Punkte]"}]
[]
[null,"G_TBN TN BKÜ",{"$f":"IF(H2<13,\"beide\",F1)","v":"männlich"}]
[null,"AK",{"$f":"IF(OR(H2=9,H2=12),H2,IF(H2<12,\"10_11\",IF(H2<15,\"13_14\",IF(H2<17,\"15_16\",IF(H2<19,\"17_18\",19)))))","v":"13_14"}]
[]
[null,"TBN",{"$f":"\"TBN_\"&C59&\"_\"&C60","v":"TBN_männlich_13_14"}]
[null,null,{"$f":"C62&\"[Beschreibung]\"","v":"TBN_männlich_13_14[Beschreibung]"}]
[]
[null,"TN",{"$f":"\"TN_\"&C59&\"_\"&C60","v":"TN_männlich_13_14"}]
[null,null,{"$f":"C65&\"[Beschreibung]\"","v":"TN_männlich_13_14[Beschreibung]"}]
[]
[null,"TV",{"$f":"\"TV_\"&F1&\"_\"&C60","v":"TV_männlich_13_14"}]
[]
[null,"BKÜ",{"$f":"\"BKÜ\"&IF(H2=9,\"_9\",IF(H2<12,\"_10_11\",IF(H2<14,\"_12_13\",IF(H2<17,\"_14_16\",\"_17\"))))","v":"BKÜ_12_13"}]
[]
[null,"G_TV",{"$f":"IF(H2<17,\"beide\",F1)","v":"beide"}]
[null,"TV",{"$f":"\"TV_\"&C72&\"_\"&C60","v":"TV_beide_13_14"}]
[]
[null,{"$f":"SUM(H19,H9,H51)","v":68.5},"Vergleichspunktzahl aus Kraft, Beweglichkeit, Grundlagenausdauer, Bodenübung"]
[null,{"$f":"IF(B75>95,\"Ja\",\"Nein\")","v":"Nein"},"Vergleichspunktzahl erfüllt?"]
[null,{"$f":"IF(F1=\"Weiblich\",VLOOKUP(H2,Punktetabellen!$D$43:$F$49,3,1),VLOOKUP(H2,Punktetabellen!$D$43:$F$49,2,1))","v":144},"Mindest-Gesamtwert"]
[null,{"$f":"IF(H52>=B77,\"Ja\",\"Nein\")","v":"Nein"},"Gesamtwert erfüllt?"]
[null,{"$f":"IF(AND(B76=\"Ja\",B78=\"Ja\"),\"Ja\",\"Nein\")","v":"Nein"},"Alles erfüllt?"]

{"sheet":"HenseleitNele","index":19,"n_rows":79,"n_cols":8,"rows_kept":79,"cut":false,"hidden":false,"merged":[[11,0,11,4],[0,1,0,4],[1,1,1,5],[2,0,2,4],[3,0,3,4],[4,0,4,4],[5,0,5,4],[6,0,6,4],[7,0,7,4],[8,0,8,6],[9,0,9,4],[10,0,10,4],[23,0,23,1],[12,0,12,4],[13,0,13,4],[14,0,14,4],[15,0,15,4],[16,0,16,1],[17,0,17,4],[18,0,18,6],[19,0,19,2],[20,0,20,2],[21,0,21,1],[22,0,22,1],[41,0,41,3],[30,0,30,1],[31,0,31,1],[32,0,32,1],[33,0,33,1],[34,0,34,1],[35,0,35,1],[36,0,36,6],[37,0,37,3],[38,0,38,3],[39,0,39,3],[40,0,40,3],[48,0,48,3],[49,0,49,3],[50,0,50,6],[51,0,51,6],[42,0,42,3],[43,0,43,3],[44,0,44,3],[45,0,45,3],[46,0,46,3],[47,0,47,3]]}
["Name","Henseleit, Nele",null,null,null,"weiblich","Jahrgang",2002]
["Verein","Geestemünder TV",null,null,null,null,"AK",{"$f":"2020-H1","v":18}]
["Übung",null,null,null,null,"Wert","Berechnung","Punkte"]
["Fußdehnung",null,null,null,null,6,"Bild",{"$f":"F4","v":6}]
["Briefmarke mit Armrumpfwinkel",null,null,null,null,10,"Bild",{"$f":"F5","v":10}]
["Bückbeweglichkeit",null,null,null,null,16,"Tabelle",{"$f":"IF(F6=\"\",0,VLOOKUP(F6,Punktetabellen!A10:B15,2,1))","v":6}]
["Querspagat links",null,null,null,null,0,"Tabelle",{"$f":"IF(F7=\"\",0,VLOOKUP(F7,Punktetabellen!A3:B6,2,0))","v":10}]
["Querspagat rechts",null,null,null,null,"<5 cm","Tabelle",{"$f":"IF(F8=\"\",0,VLOOKUP(F8,Punktetabellen!A3:B6,2,0))","v":6}]
["Gesamtpunktzahl Beweglichkeit",null,null,null,null,null,null,{"$f":"SUM(H4:H8)","v":38}]
["Übung",null,null,null,null,"Wert","Berechnung","Punktzahl"]
["Klimmzug",null,null,null,null,0,"Tabelle",{"$f":"IF(F11=\"\",0,IF(H2<12,VLOOKUP(F11,Punktetabellen!D4:F14,3,1),VLOOKUP(F11,Punktetabellen!E4:F14,2,1)))","v":0}]
["Beinheben",null,null,null,null,0,"Tabelle",{"$f":"IF(H2=9,VLOOKUP(F12,Punktetabellen!D19:F29,3,1),VLOOKUP(F12,Punktetabellen!E19:F29,2,1))","v":0}]
["Flieger",null,null,null,null,120,"Tabelle",{"$f":"IF(H2=9,VLOOKUP(F13,Punktetabellen!H4:K9,4,1),IF(H2<12,VLOOKUP(F13,Punktetabellen!I4:K9,3,1),VLOOKUP(F13,Punktetabellen!J4:K9,2,1)))","v":10}]
["Rollenverbindung",null,null,null,null,13,"Tabelle",{"$f":"IF(H2=9,VLOOKUP(F14,Punktetabellen!H14:K24,4,1),IF(H2<12,VLOOKUP(F14,Punktetabellen!I14:K24,3,1),VLOOKUP(F14,Punktetabellen!J14:K24,2,1)))","v":2}]
["Prellsprünge",null,null,null,null,4,"Tabelle",{"$f":"IF(H2=9,VLOOKUP(F15,Punktetabellen!M4:Q14,5,1),IF(H2<12,VLOOKUP(F15,Punktetabellen!N4:Q14,4,1),IF(H2<14,VLOOKUP(F15,Punktetabellen!O4:Q14,3,1),VLOOKUP(F15,Punktetabellen!P4:Q14,2,1))))","v":4}]
["Handstandstehen",null,null,null,null,5,"Tabelle",{"$f":"IF(F16=\"\",0,IF(H2<10,VLOOKUP(F16,Punktetabellen!D34:F40,3,1),VLOOKUP(F16,Punktetabellen!E34:F40,2,1)))","v":0}]
["Schweizer, Wiener",null,{"$f":"IF(H2<12,\"\",IF(AND(H2>13,H2<17),\"Schweizer: \",\"Wiener: \"))","v":"Wiener: "},0,{"$f":"IF(H2<12,\"\",IF(AND(H2>13,H2<17),\"Wiener: \",\"Schweizer: \"))","v":"Schweizer: "},0,"Tabelle",{"$f":"IF(H2<12,VLOOKUP(F17,Punktetabellen!A20:B25,2,1),((MIN(5,1*D17)*2)+MIN(MAX(0,5-(1*D17)),(1*F17))))","v":0}]
["Bleep-Test",null,null,null,null,"L7 S5","Tabelle",{"$f":"IF(F18=\"\",0,VLOOKUP(F18,INDIRECT(C55),2,0))","v":3}]
["Gesamtpunktzahl Kraft/Kondition",null,null,null,null,null,null,{"$f":"SUM(H11:H18)","v":19}]
["Übung",null,null,"Max / Soll","Max. Abzug","Abzug / Ist","Berechnung","Punkte"]
["Standsprunghöhe",null,null,{"$f":"IF(F1=\"männlich\",VLOOKUP(H2,Standsprünge!A3:C15,3,0),VLOOKUP(H2,Standsprünge!A3:B15,2,0))","v":16.399999999999999},null,15.67,"(Ist - Soll) x 10",{"$f":"IF(F21=\"\",0,(F21-D21)*10)","v":-7.2999999999999865}]
[{"$f":"IF(H2>16,\"entfällt\",\"TBN\")","v":"entfällt"},null,null,{"$f":"IF(C22=\"\",\"\",VLOOKUP(C22,INDIRECT($C$62),2,0))","v":""},{"$f":"IF(C22=\"\",\"\",VLOOKUP(C22,INDIRECT($C$62),3,0))","v":""},null,{"$f":"IF(H2>16,\"entfällt\",\"Wert - Abzug\")","v":"entfällt"},{"$f":"IF(A22=\"entfällt\",0,IF(F22=\"\",0,D22-F22))","v":0}]
[{"$f":"IF(H2>16,\"entfällt\",\"TBN\")","v":"entfällt"},null,null,{"$f":"IF(C23=\"\",\"\",VLOOKUP(C23,INDIRECT($C$62),2,0))","v":""},{"$f":"IF(C23=\"\",\"\",VLOOKUP(C23,INDIRECT($C$62),3,0))","v":""},null,{"$f":"IF(H2>16,\"entfällt\",\"Wert - Abzug\")","v":"entfällt"},{"$f":"IF(A23=\"entfällt\",0,IF(F23=\"\",0,D23-F23))","v":0}]
[{"$f":"IF(H2>12,\"entfällt\",\"TBN\")","v":"entfällt"},null,null,{"$f":"IF(C24=\"\",\"\",VLOOKUP(C24,INDIRECT($C$62),2,0))","v":""},{"$f":"IF(C24=\"\",\"\",VLOOKUP(C24,INDIRECT($C$62),3,0))","v":""},null,{"$f":"IF(H2>16,\"entfällt\",\"Wert - Abzug\")","v":"entfällt"},0]
["TN",{"$f":"IF(C25=\"\",\"\",VLOOKUP(C25,INDIRECT($C$65),2,0))","v":"803<"},"Fliffisrudi b",{"$f":"IF(C25=\"\",\"\",VLOOKUP(C25,INDIRECT($C$65),3,0))","v":15},{"$f":"IF(C25=\"\",\"\",VLOOKUP(C25,INDIRECT($C$65),4,0))","v":6},4,"Wert - Abzug",11]
["TN","901°","Fliffis c aus der Rückenlage",12,6,null,"Wert - Abzug",0]
["TN","",null,"","",null,"Wert - Abzug",0]
[{"$f":"IF(H2>12,\"TN\",\"entfällt\")","v":"TN"},"",null,"","",null,{"$f":"IF(H2>12,\"Wert - Abzug\",\"entfällt\")","v":"Wert - Abzug"},0]
[{"$f":"IF(H2>16,\"TN\",\"entfällt\")","v":"TN"},"",null,"","",null,{"$f":"IF(H2>16,\"Wert - Abzug\",\"entfällt\")","v":"Wert - Abzug"},0]
[{"$f":"IF(H2>16,\"TN\",\"entfällt\")","v":"TN"},"",null,"","",null,{"$f":"IF(H2>16,\"Wert - Abzug\",\"entfällt\")","v":"Wert - Abzug"},{"$f":"IF(A30=\"entfällt\",0,IF(F30=\"\",0,D30-F30))","v":0}]
[{"$f":"IF($H$2>11,\"Verbindung Sprung 1\",\"entfällt\")","v":"Verbindung Sprung 1"},null,{"$f":"IF(A31<>\"entfällt\",VLOOKUP(1,INDIRECT($C$73),2,0),\"\")","v":"803<"},{"$f":"IF(A31<>\"entfällt\",VLOOKUP(1,INDIRECT($C$73),3,0),\"\")","v":15},{"$f":"IF(A31<>\"entfällt\",VLOOKUP(1,INDIRECT($C$73),4,0),\"\")","v":3},3,{"$f":"IF(H2>12,\"Wert - Abzug\",\"entfällt\")","v":"Wert - Abzug"},{"$f":"IF(A31=\"entfällt\",0,IF(F31=\"\",0,D31-F31))","v":12}]
[{"$f":"IF($H$2>11,\"Verbindung Sprung 2\",\"entfällt\")","v":"Verbindung Sprung 2"},null,{"$f":"IF(A32<>\"entfällt\",VLOOKUP(2,INDIRECT($C$73),2,0),\"\")","v":"40<"},{"$f":"IF(A32<>\"entfällt\",VLOOKUP(2,INDIRECT($C$73),3,0),\"\")","v":6},{"$f":"IF(A32<>\"entfällt\",VLOOKUP(2,INDIRECT($C$73),4,0),\"\")","v":3},2,{"$f":"IF(H2>12,\"Wert - Abzug\",\"entfällt\")","v":"Wert - Abzug"},{"$f":"IF(A32=\"entfällt\",0,IF(F32=\"\",0,D32-F32))","v":4}]
[{"$f":"IF($H$2>11,\"Verbindung Sprung 3\",\"entfällt\")","v":"Verbindung Sprung 3"},null,{"$f":"IF(A33<>\"entfällt\",VLOOKUP(3,INDIRECT($C$73),2,0),\"\")","v":"801<"},{"$f":"IF(A33<>\"entfällt\",VLOOKUP(3,INDIRECT($C$73),3,0),\"\")","v":13},{"$f":"IF(A33<>\"entfällt\",VLOOKUP(3,INDIRECT($C$73),4,0),\"\")","v":3},3,{"$f":"IF(H2>12,\"Wert - Abzug\",\"entfällt\")","v":"Wert - Abzug"},10]
[{"$f":"IF($H$2>11,\"Verbindung Sprung 4\",\"entfällt\")","v":"Verbindung Sprung 4"},null,{"$f":"IF(A34<>\"entfällt\",VLOOKUP(4,INDIRECT($C$73),2,0),\"\")","v":"40/"},{"$f":"IF(A34<>\"entfällt\",VLOOKUP(4,INDIRECT($C$73),3,0),\"\")","v":6},{"$f":"IF(A34<>\"entfällt\",VLOOKUP(4,INDIRECT($C$73),4,0),\"\")","v":3},3,{"$f":"IF(H2>12,\"Wert - Abzug\",\"entfällt\")","v":"Wert - Abzug"},3]
[{"$f":"IF($H$2>11,\"Verbindung Sprung 5\",\"entfällt\")","v":"Verbindung Sprung 5"},null,{"$f":"IF(A35<>\"entfällt\",VLOOKUP(5,INDIRECT($C$73),2,0),\"\")","v":"41/"},{"$f":"IF(A35<>\"entfällt\",VLOOKUP(5,INDIRECT($C$73),3,0),\"\")","v":6},{"$f":"IF(A35<>\"entfällt\",VLOOKUP(5,INDIRECT($C$73),4,0),\"\")","v":3},3,{"$f":"IF(H2>12,\"Wert - Abzug\",\"entfällt\")","v":"Wert - Abzug"},3]
[{"$f":"IF($H$2>11,\"Verbindung Sprung 6\",\"entfällt\")","v":"Verbindung Sprung 6"},null,{"$f":"IF(A36<>\"entfällt\",VLOOKUP(6,INDIRECT($C$73),2,0),\"\")","v":"811°"},{"$f":"IF(A36<>\"entfällt\",VLOOKUP(6,INDIRECT($C$73),3,0),\"\")","v":12},{"$f":"IF(A36<>\"entfällt\",VLOOKUP(6,INDIRECT($C$73),4,0),\"\")","v":3},null,{"$f":"IF(H2>12,\"Wert - Abzug\",\"entfällt\")","v":"Wert - Abzug"},{"$f":"IF(A36=\"entfällt\",0,IF(F36=\"\",0,D36-F36))","v":0}]
["Gesamtpunktzahl Trampolin",null,null,null,null,null,null,{"$f":"SUM(H21:H36)","v":35.700000000000017}]
["Element",null,null,null,"Wert","Abzug","Berechnung","Punkte"]
[{"$f":"VLOOKUP(1,INDIRECT($C$70),2,0)","v":"Salto vorwärts gehockt aus dem Stand"},null,null,null,{"$f":"VLOOKUP(1,INDIRECT($C$70),3,0)","v":5},null,"Wert - Abzug",{"$f":"IF(E39=\" \",\"\",IF(F39=\"\",0,E39-F39))","v":0}]
[{"$f":"VLOOKUP(2,INDIRECT($C$70),2,0)","v":"Vorspreizen, Bestellschritt, Strecksprung 3/2 Drehung"},null,null,null,{"$f":"VLOOKUP(2,INDIRECT($C$70),3,0)","v":3},null,"Wert - Abzug",{"$f":"IF(E40=\" \",\"\",IF(F40=\"\",0,E40-F40))","v":0}]
[{"$f":"VLOOKUP(3,INDIRECT($C$70),2,0)","v":"Rolle rückwärts durch Handstand mit 1/2 Drehung"},null,null,null,{"$f":"VLOOKUP(3,INDIRECT($C$70),3,0)","v":4},null,"Wert - Abzug",0]
[{"$f":"VLOOKUP(4,INDIRECT($C$70),2,0)","v":"--> Strecksprung --> Salto vorwärts gehockt"},null,null,null,{"$f":"VLOOKUP(4,INDIRECT($C$70),3,0)","v":4},2,"Wert - Abzug",2]
[{"$f":"VLOOKUP(5,INDIRECT($C$70),2,0)","v":"Wiener, 1/2 Drehung, absenken zum Stand"},null,null,null,{"$f":"VLOOKUP(5,INDIRECT($C$70),3,0)","v":4},null,"Wert - Abzug",0]
[{"$f":"VLOOKUP(6,INDIRECT($C$70),2,0)","v":"Handstand mit zwei Hüpfern, abrollen"},null,null,null,{"$f":"VLOOKUP(6,INDIRECT($C$70),3,0)","v":2},1,"Wert - Abzug",1]
[{"$f":"VLOOKUP(7,INDIRECT($C$70),2,0)","v":"--> aufstehen mit gestreckten Beinen"},null,null,null,{"$f":"VLOOKUP(7,INDIRECT($C$70),3,0)","v":3},null,"Wert - Abzug",0]
[{"$f":"VLOOKUP(8,INDIRECT($C$70),2,0)","v":"Salto rückwärts gebückt"},null,null,null,{"$f":"VLOOKUP(8,INDIRECT($C$70),3,0)","v":5},null,"Wert - Abzug",0]
[{"$f":"VLOOKUP(9,INDIRECT($C$70),2,0)","v":" "},null,null,null,{"$f":"VLOOKUP(9,INDIRECT($C$70),3,0)","v":" "},null,{"$f":"IF(H2>16,\"\",\"Wert - Abzug\")","v":""},""]
[{"$f":"VLOOKUP(10,INDIRECT($C$70),2,0)","v":" "},null,null,null,{"$f":"VLOOKUP(10,INDIRECT($C$70),3,0)","v":" "},null,{"$f":"IF(H2>16,\"\",\"Wert - Abzug\")","v":""},""]
[{"$f":"VLOOKUP(11,INDIRECT($C$70),2,0)","v":" "},null,null,null,{"$f":"VLOOKUP(11,INDIRECT($C$70),3,0)","v":" "},null,{"$f":"IF(H2>13,\"\",\"Wert - Abzug\")","v":""},""]
[{"$f":"VLOOKUP(12,INDIRECT($C$70),2,0)","v":" "},null,null,null,{"$f":"VLOOKUP(12,INDIRECT($C$70),3,0)","v":" "},null,{"$f":"IF(OR(H2=9,H2=12,H2=13),\"Wert - Abzug\",\"\")","v":""},""]
["Gesamtpunktzahl Bodenkomplexübung",null,null,null,null,null,null,{"$f":"SUM(H39:H50)","v":3}]
["Gesamtpunktzahl",null,null,null,null,null,null,{"$f":"SUM(H9,H19,H37,H51)","v":95.700000000000017}]
[]
[]
[null,"Shuttles",{"$f":"\"Shuttles_\"&F1&IF(H2=9,\"_9\",IF(H2<12,\"_10_11\",IF(H2<14,\"_12_13\",IF(H2<17,\"_14_16\",\"_17\"))))","v":"Shuttles_weiblich_17"}]
[null,null,{"$f":"\"Shuttles_\"&F1&IF(H2=9,\"_9\",IF(H2<12,\"_10_11\",IF(H2<14,\"_12_13\",IF(H2<17,\"_14_16\",\"_17\"))))&\"[Shuttle]\"","v":"Shuttles_weiblich_17[Shuttle]"}]
[null,null,{"$f":"\"Shuttles_\"&F1&IF(H2=9,\"_9\",IF(H2<12,\"_10_11\",IF(H2<14,\"_12_13\",IF(H2<17,\"_14_16\",\"_17\"))))&\"[Punkte]\"","v":"Shuttles_weiblich_17[Punkte]"}]
[]
[null,"G_TBN TN BKÜ",{"$f":"IF(H2<13,\"beide\",F1)","v":"weiblich"}]
[null,"AK",{"$f":"IF(OR(H2=9,H2=12),H2,IF(H2<12,\"10_11\",IF(H2<15,\"13_14\",IF(H2<17,\"15_16\",IF(H2<19,\"17_18\",19)))))","v":"17_18"}]
[]
[null,"TBN",{"$f":"\"TBN_\"&C59&\"_\"&C60","v":"TBN_weiblich_17_18"}]
[null,null,{"$f":"C62&\"[Beschreibung]\"","v":"TBN_weiblich_17_18[Beschreibung]"}]
[]
[null,"TN",{"$f":"\"TN_\"&C59&\"_\"&C60","v":"TN_weiblich_17_18"}]
[null,null,{"$f":"C65&\"[Beschreibung]\"","v":"TN_weiblich_17_18[Beschreibung]"}]
[]
[null,"TV",{"$f":"\"TV_\"&F1&\"_\"&C60","v":"TV_weiblich_17_18"}]
[]
[null,"BKÜ",{"$f":"\"BKÜ\"&IF(H2=9,\"_9\",IF(H2<12,\"_10_11\",IF(H2<14,\"_12_13\",IF(H2<17,\"_14_16\",\"_17\"))))","v":"BKÜ_17"}]
[]
[null,"G_TV",{"$f":"IF(H2<17,\"beide\",F1)","v":"weiblich"}]
[null,"TV",{"$f":"\"TV_\"&C72&\"_\"&C60","v":"TV_weiblich_17_18"}]
[]
[null,{"$f":"SUM(H19,H9,H51)","v":60},"Vergleichspunktzahl aus Kraft, Beweglichkeit, Grundlagenausdauer, Bodenübung"]
[null,{"$f":"IF(B75>95,\"Ja\",\"Nein\")","v":"Nein"},"Vergleichspunktzahl erfüllt?"]
[null,{"$f":"IF(F1=\"Weiblich\",VLOOKUP(H2,Punktetabellen!$D$43:$F$49,3,1),VLOOKUP(H2,Punktetabellen!$D$43:$F$49,2,1))","v":169},"Mindest-Gesamtwert"]
[null,{"$f":"IF(H52>=B77,\"Ja\",\"Nein\")","v":"Nein"},"Gesamtwert erfüllt?"]
[null,{"$f":"IF(AND(B76=\"Ja\",B78=\"Ja\"),\"Ja\",\"Nein\")","v":"Nein"},"Alles erfüllt?"]

{"sheet":"RadfelderHenningMirja","index":20,"n_rows":79,"n_cols":8,"rows_kept":79,"cut":false,"hidden":false,"merged":[[11,0,11,4],[0,1,0,4],[1,1,1,5],[2,0,2,4],[3,0,3,4],[4,0,4,4],[5,0,5,4],[6,0,6,4],[7,0,7,4],[8,0,8,6],[9,0,9,4],[10,0,10,4],[23,0,23,1],[12,0,12,4],[13,0,13,4],[14,0,14,4],[15,0,15,4],[16,0,16,1],[17,0,17,4],[18,0,18,6],[19,0,19,2],[20,0,20,2],[21,0,21,1],[22,0,22,1],[41,0,41,3],[30,0,30,1],[31,0,31,1],[32,0,32,1],[33,0,33,1],[34,0,34,1],[35,0,35,1],[36,0,36,6],[37,0,37,3],[38,0,38,3],[39,0,39,3],[40,0,40,3],[48,0,48,3],[49,0,49,3],[50,0,50,6],[51,0,51,6],[42,0,42,3],[43,0,43,3],[44,0,44,3],[45,0,45,3],[46,0,46,3],[47,0,47,3]]}
["Name","Radfelder-Henning, Mirja",null,null,null,"weiblich","Jahrgang",2005]
["Verein","OSC Bremerhafen",null,null,null,null,"AK",{"$f":"2020-H1","v":15}]
["Übung",null,null,null,null,"Wert","Berechnung","Punkte"]
["Fußdehnung",null,null,null,null,10,"Bild",{"$f":"F4","v":10}]
["Briefmarke mit Armrumpfwinkel",null,null,null,null,10,"Bild",{"$f":"F5","v":10}]
["Bückbeweglichkeit",null,null,null,null,18,"Tabelle",{"$f":"IF(F6=\"\",0,VLOOKUP(F6,Punktetabellen!A10:B15,2,1))","v":8}]
["Querspagat links",null,null,null,null,"<5 cm","Tabelle",{"$f":"IF(F7=\"\",0,VLOOKUP(F7,Punktetabellen!A3:B6,2,0))","v":6}]
["Querspagat rechts",null,null,null,null,0,"Tabelle",{"$f":"IF(F8=\"\",0,VLOOKUP(F8,Punktetabellen!A3:B6,2,0))","v":10}]
["Gesamtpunktzahl Beweglichkeit",null,null,null,null,null,null,{"$f":"SUM(H4:H8)","v":44}]
["Übung",null,null,null,null,"Wert","Berechnung","Punktzahl"]
["Klimmzug",null,null,null,null,1,"Tabelle",{"$f":"IF(F11=\"\",0,IF(H2<12,VLOOKUP(F11,Punktetabellen!D4:F14,3,1),VLOOKUP(F11,Punktetabellen!E4:F14,2,1)))","v":0}]
["Beinheben",null,null,null,null,5,"Tabelle",{"$f":"IF(H2=9,VLOOKUP(F12,Punktetabellen!D19:F29,3,1),VLOOKUP(F12,Punktetabellen!E19:F29,2,1))","v":2}]
["Flieger",null,null,null,null,75,"Tabelle",{"$f":"IF(H2=9,VLOOKUP(F13,Punktetabellen!H4:K9,4,1),IF(H2<12,VLOOKUP(F13,Punktetabellen!I4:K9,3,1),VLOOKUP(F13,Punktetabellen!J4:K9,2,1)))","v":0}]
["Rollenverbindung",null,null,null,null,9,"Tabelle",{"$f":"IF(H2=9,VLOOKUP(F14,Punktetabellen!H14:K24,4,1),IF(H2<12,VLOOKUP(F14,Punktetabellen!I14:K24,3,1),VLOOKUP(F14,Punktetabellen!J14:K24,2,1)))","v":0}]
["Prellsprünge",null,null,null,null,7,"Tabelle",{"$f":"IF(H2=9,VLOOKUP(F15,Punktetabellen!M4:Q14,5,1),IF(H2<12,VLOOKUP(F15,Punktetabellen!N4:Q14,4,1),IF(H2<14,VLOOKUP(F15,Punktetabellen!O4:Q14,3,1),VLOOKUP(F15,Punktetabellen!P4:Q14,2,1))))","v":7}]
["Handstandstehen",null,null,null,null,0,"Tabelle",{"$f":"IF(F16=\"\",0,IF(H2<10,VLOOKUP(F16,Punktetabellen!D34:F40,3,1),VLOOKUP(F16,Punktetabellen!E34:F40,2,1)))","v":0}]
["Schweizer, Wiener",null,{"$f":"IF(H2<12,\"\",IF(AND(H2>13,H2<17),\"Schweizer: \",\"Wiener: \"))","v":"Schweizer: "},0,{"$f":"IF(H2<12,\"\",IF(AND(H2>13,H2<17),\"Wiener: \",\"Schweizer: \"))","v":"Wiener: "},0,"Tabelle",{"$f":"IF(H2<12,VLOOKUP(F17,Punktetabellen!A20:B25,2,1),((MIN(5,1*D17)*2)+MIN(MAX(0,5-(1*D17)),(1*F17))))","v":0}]
["Bleep-Test",null,null,null,null,"L7 S5","Tabelle",{"$f":"IF(F18=\"\",0,VLOOKUP(F18,INDIRECT(C55),2,0))","v":5}]
["Gesamtpunktzahl Kraft/Kondition",null,null,null,null,null,null,{"$f":"SUM(H11:H18)","v":14}]
["Übung",null,null,"Max / Soll","Max. Abzug","Abzug / Ist","Berechnung","Punkte"]
["Standsprunghöhe",null,null,{"$f":"IF(F1=\"männlich\",VLOOKUP(H2,Standsprünge!A3:C15,3,0),VLOOKUP(H2,Standsprünge!A3:B15,2,0))","v":16},null,15.46,"(Ist - Soll) x 10",{"$f":"IF(F21=\"\",0,(F21-D21)*10)","v":-5.3999999999999915}]
[{"$f":"IF(H2>16,\"entfällt\",\"TBN\")","v":"TBN"},null,"7/4 Salto vw c zum Rücken, 1/1 aus",{"$f":"IF(C22=\"\",\"\",VLOOKUP(C22,INDIRECT($C$62),2,0))","v":10},{"$f":"IF(C22=\"\",\"\",VLOOKUP(C22,INDIRECT($C$62),3,0))","v":6},4,{"$f":"IF(H2>16,\"entfällt\",\"Wert - Abzug\")","v":"Wert - Abzug"},{"$f":"IF(A22=\"entfällt\",0,IF(F22=\"\",0,D22-F22))","v":6}]
[{"$f":"IF(H2>16,\"entfällt\",\"TBN\")","v":"TBN"},null,"7/4 Salto vw b zum Rücken, 1/1 aus",{"$f":"IF(C23=\"\",\"\",VLOOKUP(C23,INDIRECT($C$62),2,0))","v":10},{"$f":"IF(C23=\"\",\"\",VLOOKUP(C23,INDIRECT($C$62),3,0))","v":6},null,{"$f":"IF(H2>16,\"entfällt\",\"Wert - Abzug\")","v":"Wert - Abzug"},{"$f":"IF(A23=\"entfällt\",0,IF(F23=\"\",0,D23-F23))","v":0}]
[{"$f":"IF(H2>12,\"entfällt\",\"TBN\")","v":"entfällt"},null,null,{"$f":"IF(C24=\"\",\"\",VLOOKUP(C24,INDIRECT($C$62),2,0))","v":""},{"$f":"IF(C24=\"\",\"\",VLOOKUP(C24,INDIRECT($C$62),3,0))","v":""},null,{"$f":"IF(H2>16,\"entfällt\",\"Wert - Abzug\")","v":"Wert - Abzug"},0]
["TN",{"$f":"IF(C25=\"\",\"\",VLOOKUP(C25,INDIRECT($C$65),2,0))","v":"803°"},"Fliffisrudi c",{"$f":"IF(C25=\"\",\"\",VLOOKUP(C25,INDIRECT($C$65),3,0))","v":13},{"$f":"IF(C25=\"\",\"\",VLOOKUP(C25,INDIRECT($C$65),4,0))","v":6},4,"Wert - Abzug",9]
["TN","803<","Fliffisrudi b",15,6,6,"Wert - Abzug",9]
["TN","",null,"","",null,"Wert - Abzug",0]
[{"$f":"IF(H2>12,\"TN\",\"entfällt\")","v":"TN"},"",null,"","",null,{"$f":"IF(H2>12,\"Wert - Abzug\",\"entfällt\")","v":"Wert - Abzug"},0]
[{"$f":"IF(H2>16,\"TN\",\"entfällt\")","v":"entfällt"},"",null,"","",null,{"$f":"IF(H2>16,\"Wert - Abzug\",\"entfällt\")","v":"entfällt"},0]
[{"$f":"IF(H2>16,\"TN\",\"entfällt\")","v":"entfällt"},"",null,"","",null,{"$f":"IF(H2>16,\"Wert - Abzug\",\"entfällt\")","v":"entfällt"},{"$f":"IF(A30=\"entfällt\",0,IF(F30=\"\",0,D30-F30))","v":0}]
[{"$f":"IF($H$2>11,\"Verbindung Sprung 1\",\"entfällt\")","v":"Verbindung Sprung 1"},null,{"$f":"IF(A31<>\"entfällt\",VLOOKUP(1,INDIRECT($C$73),2,0),\"\")","v":"801<"},{"$f":"IF(A31<>\"entfällt\",VLOOKUP(1,INDIRECT($C$73),3,0),\"\")","v":13},{"$f":"IF(A31<>\"entfällt\",VLOOKUP(1,INDIRECT($C$73),4,0),\"\")","v":3},1,{"$f":"IF(H2>12,\"Wert - Abzug\",\"entfällt\")","v":"Wert - Abzug"},{"$f":"IF(A31=\"entfällt\",0,IF(F31=\"\",0,D31-F31))","v":12}]
[{"$f":"IF($H$2>11,\"Verbindung Sprung 2\",\"entfällt\")","v":"Verbindung Sprung 2"},null,{"$f":"IF(A32<>\"entfällt\",VLOOKUP(2,INDIRECT($C$73),2,0),\"\")","v":"40<"},{"$f":"IF(A32<>\"entfällt\",VLOOKUP(2,INDIRECT($C$73),3,0),\"\")","v":6},{"$f":"IF(A32<>\"entfällt\",VLOOKUP(2,INDIRECT($C$73),4,0),\"\")","v":3},2,{"$f":"IF(H2>12,\"Wert - Abzug\",\"entfällt\")","v":"Wert - Abzug"},{"$f":"IF(A32=\"entfällt\",0,IF(F32=\"\",0,D32-F32))","v":4}]
[{"$f":"IF($H$2>11,\"Verbindung Sprung 3\",\"entfällt\")","v":"Verbindung Sprung 3"},null,{"$f":"IF(A33<>\"entfällt\",VLOOKUP(3,INDIRECT($C$73),2,0),\"\")","v":"801°"},{"$f":"IF(A33<>\"entfällt\",VLOOKUP(3,INDIRECT($C$73),3,0),\"\")","v":11},{"$f":"IF(A33<>\"entfällt\",VLOOKUP(3,INDIRECT($C$73),4,0),\"\")","v":3},2,{"$f":"IF(H2>12,\"Wert - Abzug\",\"entfällt\")","v":"Wert - Abzug"},9]
[{"$f":"IF($H$2>11,\"Verbindung Sprung 4\",\"entfällt\")","v":"Verbindung Sprung 4"},null,{"$f":"IF(A34<>\"entfällt\",VLOOKUP(4,INDIRECT($C$73),2,0),\"\")","v":"40/"},{"$f":"IF(A34<>\"entfällt\",VLOOKUP(4,INDIRECT($C$73),3,0),\"\")","v":6},{"$f":"IF(A34<>\"entfällt\",VLOOKUP(4,INDIRECT($C$73),4,0),\"\")","v":3},3,{"$f":"IF(H2>12,\"Wert - Abzug\",\"entfällt\")","v":"Wert - Abzug"},3]
[{"$f":"IF($H$2>11,\"Verbindung Sprung 5\",\"entfällt\")","v":"Verbindung Sprung 5"},null,{"$f":"IF(A35<>\"entfällt\",VLOOKUP(5,INDIRECT($C$73),2,0),\"\")","v":"41/"},{"$f":"IF(A35<>\"entfällt\",VLOOKUP(5,INDIRECT($C$73),3,0),\"\")","v":6},{"$f":"IF(A35<>\"entfällt\",VLOOKUP(5,INDIRECT($C$73),4,0),\"\")","v":3},3,{"$f":"IF(H2>12,\"Wert - Abzug\",\"entfällt\")","v":"Wert - Abzug"},3]
[{"$f":"IF($H$2>11,\"Verbindung Sprung 6\",\"entfällt\")","v":"Verbindung Sprung 6"},null,{"$f":"IF(A36<>\"entfällt\",VLOOKUP(6,INDIRECT($C$73),2,0),\"\")","v":"800°"},{"$f":"IF(A36<>\"entfällt\",VLOOKUP(6,INDIRECT($C$73),3,0),\"\")","v":10},{"$f":"IF(A36<>\"entfällt\",VLOOKUP(6,INDIRECT($C$73),4,0),\"\")","v":3},3,{"$f":"IF(H2>12,\"Wert - Abzug\",\"entfällt\")","v":"Wert - Abzug"},{"$f":"IF(A36=\"entfällt\",0,IF(F36=\"\",0,D36-F36))","v":7}]
["Gesamtpunktzahl Trampolin",null,null,null,null,null,null,{"$f":"SUM(H21:H36)","v":56.600000000000009}]
["Element",null,null,null,"Wert","Abzug","Berechnung","Punkte"]
[{"$f":"VLOOKUP(1,INDIRECT($C$70),2,0)","v":"Flugrolle mit Überstrecken mit Anlauf"},null,null,null,{"$f":"VLOOKUP(1,INDIRECT($C$70),3,0)","v":3},0,"Wert - Abzug",{"$f":"IF(E39=\" \",\"\",IF(F39=\"\",0,E39-F39))","v":3}]
[{"$f":"VLOOKUP(2,INDIRECT($C$70),2,0)","v":"--> Strecksprung, Salto vorwärts gehockt"},null,null,null,{"$f":"VLOOKUP(2,INDIRECT($C$70),3,0)","v":4.5},1,"Wert - Abzug",{"$f":"IF(E40=\" \",\"\",IF(F40=\"\",0,E40-F40))","v":3.5}]
[{"$f":"VLOOKUP(3,INDIRECT($C$70),2,0)","v":"Vorspreizen, Handstand mit 1/1 Drehung, abrollen"},null,null,null,{"$f":"VLOOKUP(3,INDIRECT($C$70),3,0)","v":3},1,"Wert - Abzug",2]
[{"$f":"VLOOKUP(4,INDIRECT($C$70),2,0)","v":"--> Aufstehen mit gestreckten Beinen"},null,null,null,{"$f":"VLOOKUP(4,INDIRECT($C$70),3,0)","v":3},0,"Wert - Abzug",3]
[{"$f":"VLOOKUP(5,INDIRECT($C$70),2,0)","v":"Vorspreizen, Bestellschritt, Strecksprung 3/2 Drehung"},null,null,null,{"$f":"VLOOKUP(5,INDIRECT($C$70),3,0)","v":3},null,"Wert - Abzug",0]
[{"$f":"VLOOKUP(6,INDIRECT($C$70),2,0)","v":"Salto rückwärts gehockt"},null,null,null,{"$f":"VLOOKUP(6,INDIRECT($C$70),3,0)","v":3},0,"Wert - Abzug",3]
[{"$f":"VLOOKUP(7,INDIRECT($C$70),2,0)","v":"Handstützüberschlag"},null,null,null,{"$f":"VLOOKUP(7,INDIRECT($C$70),3,0)","v":3},1,"Wert - Abzug",2]
[{"$f":"VLOOKUP(8,INDIRECT($C$70),2,0)","v":"--> Ansprung Schrittstellung, Handstand mit zwei Hüpfern"},null,null,null,{"$f":"VLOOKUP(8,INDIRECT($C$70),3,0)","v":3},2,"Wert - Abzug",1]
[{"$f":"VLOOKUP(9,INDIRECT($C$70),2,0)","v":"Abrollen --> Strecksprung 1/2 Drehung"},null,null,null,{"$f":"VLOOKUP(9,INDIRECT($C$70),3,0)","v":1.5},1,{"$f":"IF(H2>16,\"\",\"Wert - Abzug\")","v":"Wert - Abzug"},0.5]
[{"$f":"VLOOKUP(10,INDIRECT($C$70),2,0)","v":"Salto vorwärts gebückt mit Anlauf"},null,null,null,{"$f":"VLOOKUP(10,INDIRECT($C$70),3,0)","v":3},0.5,{"$f":"IF(H2>16,\"\",\"Wert - Abzug\")","v":"Wert - Abzug"},2.5]
[{"$f":"VLOOKUP(11,INDIRECT($C$70),2,0)","v":" "},null,null,null,{"$f":"VLOOKUP(11,INDIRECT($C$70),3,0)","v":" "},null,{"$f":"IF(H2>13,\"\",\"Wert - Abzug\")","v":""},""]
[{"$f":"VLOOKUP(12,INDIRECT($C$70),2,0)","v":" "},null,null,null,{"$f":"VLOOKUP(12,INDIRECT($C$70),3,0)","v":" "},null,{"$f":"IF(OR(H2=9,H2=12,H2=13),\"Wert - Abzug\",\"\")","v":""},""]
["Gesamtpunktzahl Bodenkomplexübung",null,null,null,null,null,null,{"$f":"SUM(H39:H50)","v":20.5}]
["Gesamtpunktzahl",null,null,null,null,null,null,{"$f":"SUM(H9,H19,H37,H51)","v":135.10000000000002}]
[]
[]
[null,"Shuttles",{"$f":"\"Shuttles_\"&F1&IF(H2=9,\"_9\",IF(H2<12,\"_10_11\",IF(H2<14,\"_12_13\",IF(H2<17,\"_14_16\",\"_17\"))))","v":"Shuttles_weiblich_14_16"}]
[null,null,{"$f":"\"Shuttles_\"&F1&IF(H2=9,\"_9\",IF(H2<12,\"_10_11\",IF(H2<14,\"_12_13\",IF(H2<17,\"_14_16\",\"_17\"))))&\"[Shuttle]\"","v":"Shuttles_weiblich_14_16[Shuttle]"}]
[null,null,{"$f":"\"Shuttles_\"&F1&IF(H2=9,\"_9\",IF(H2<12,\"_10_11\",IF(H2<14,\"_12_13\",IF(H2<17,\"_14_16\",\"_17\"))))&\"[Punkte]\"","v":"Shuttles_weiblich_14_16[Punkte]"}]
[]
[null,"G_TBN TN BKÜ",{"$f":"IF(H2<13,\"beide\",F1)","v":"weiblich"}]
[null,"AK",{"$f":"IF(OR(H2=9,H2=12),H2,IF(H2<12,\"10_11\",IF(H2<15,\"13_14\",IF(H2<17,\"15_16\",IF(H2<19,\"17_18\",19)))))","v":"15_16"}]
[]
[null,"TBN",{"$f":"\"TBN_\"&C59&\"_\"&C60","v":"TBN_weiblich_15_16"}]
[null,null,{"$f":"C62&\"[Beschreibung]\"","v":"TBN_weiblich_15_16[Beschreibung]"}]
[]
[null,"TN",{"$f":"\"TN_\"&C59&\"_\"&C60","v":"TN_weiblich_15_16"}]
[null,null,{"$f":"C65&\"[Beschreibung]\"","v":"TN_weiblich_15_16[Beschreibung]"}]
[]
[null,"TV",{"$f":"\"TV_\"&F1&\"_\"&C60","v":"TV_weiblich_15_16"}]
[]
[null,"BKÜ",{"$f":"\"BKÜ\"&IF(H2=9,\"_9\",IF(H2<12,\"_10_11\",IF(H2<14,\"_12_13\",IF(H2<17,\"_14_16\",\"_17\"))))","v":"BKÜ_14_16"}]
[]
[null,"G_TV",{"$f":"IF(H2<17,\"beide\",F1)","v":"beide"}]
[null,"TV",{"$f":"\"TV_\"&C72&\"_\"&C60","v":"TV_beide_15_16"}]
[]
[null,{"$f":"SUM(H19,H9,H51)","v":78.5},"Vergleichspunktzahl aus Kraft, Beweglichkeit, Grundlagenausdauer, Bodenübung"]
[null,{"$f":"IF(B75>95,\"Ja\",\"Nein\")","v":"Nein"},"Vergleichspunktzahl erfüllt?"]
[null,{"$f":"IF(F1=\"Weiblich\",VLOOKUP(H2,Punktetabellen!$D$43:$F$49,3,1),VLOOKUP(H2,Punktetabellen!$D$43:$F$49,2,1))","v":159},"Mindest-Gesamtwert"]
[null,{"$f":"IF(H52>=B77,\"Ja\",\"Nein\")","v":"Nein"},"Gesamtwert erfüllt?"]
[null,{"$f":"IF(AND(B76=\"Ja\",B78=\"Ja\"),\"Ja\",\"Nein\")","v":"Nein"},"Alles erfüllt?"]

{"sheet":"LangnerSabrina","index":21,"n_rows":79,"n_cols":8,"rows_kept":79,"cut":false,"hidden":false,"merged":[[11,0,11,4],[0,1,0,4],[1,1,1,5],[2,0,2,4],[3,0,3,4],[4,0,4,4],[5,0,5,4],[6,0,6,4],[7,0,7,4],[8,0,8,6],[9,0,9,4],[10,0,10,4],[23,0,23,1],[12,0,12,4],[13,0,13,4],[14,0,14,4],[15,0,15,4],[16,0,16,1],[17,0,17,4],[18,0,18,6],[19,0,19,2],[20,0,20,2],[21,0,21,1],[22,0,22,1],[41,0,41,3],[30,0,30,1],[31,0,31,1],[32,0,32,1],[33,0,33,1],[34,0,34,1],[35,0,35,1],[36,0,36,6],[37,0,37,3],[38,0,38,3],[39,0,39,3],[40,0,40,3],[48,0,48,3],[49,0,49,3],[50,0,50,6],[51,0,51,6],[42,0,42,3],[43,0,43,3],[44,0,44,3],[45,0,45,3],[46,0,46,3],[47,0,47,3]]}
["Name","Langner, Sabrina",null,null,null,"weiblich","Jahrgang",2004]
["Verein","TSV Ganderkesee",null,null,null,null,"AK",{"$f":"2020-H1","v":16}]
["Übung",null,null,null,null,"Wert","Berechnung","Punkte"]
["Fußdehnung",null,null,null,null,10,"Bild",{"$f":"F4","v":10}]
["Briefmarke mit Armrumpfwinkel",null,null,null,null,10,"Bild",{"$f":"F5","v":10}]
["Bückbeweglichkeit",null,null,null,null,17,"Tabelle",{"$f":"IF(F6=\"\",0,VLOOKUP(F6,Punktetabellen!A10:B15,2,1))","v":6}]
["Querspagat links",null,null,null,null,0,"Tabelle",{"$f":"IF(F7=\"\",0,VLOOKUP(F7,Punktetabellen!A3:B6,2,0))","v":10}]
["Querspagat rechts",null,null,null,null,0,"Tabelle",{"$f":"IF(F8=\"\",0,VLOOKUP(F8,Punktetabellen!A3:B6,2,0))","v":10}]
["Gesamtpunktzahl Beweglichkeit",null,null,null,null,null,null,{"$f":"SUM(H4:H8)","v":46}]
["Übung",null,null,null,null,"Wert","Berechnung","Punktzahl"]
["Klimmzug",null,null,null,null,5,"Tabelle",{"$f":"IF(F11=\"\",0,IF(H2<12,VLOOKUP(F11,Punktetabellen!D4:F14,3,1),VLOOKUP(F11,Punktetabellen!E4:F14,2,1)))","v":0}]
["Beinheben",null,null,null,null,2,"Tabelle",{"$f":"IF(H2=9,VLOOKUP(F12,Punktetabellen!D19:F29,3,1),VLOOKUP(F12,Punktetabellen!E19:F29,2,1))","v":0}]
["Flieger",null,null,null,null,90,"Tabelle",{"$f":"IF(H2=9,VLOOKUP(F13,Punktetabellen!H4:K9,4,1),IF(H2<12,VLOOKUP(F13,Punktetabellen!I4:K9,3,1),VLOOKUP(F13,Punktetabellen!J4:K9,2,1)))","v":4}]
["Rollenverbindung",null,null,null,null,29,"Tabelle",{"$f":"IF(H2=9,VLOOKUP(F14,Punktetabellen!H14:K24,4,1),IF(H2<12,VLOOKUP(F14,Punktetabellen!I14:K24,3,1),VLOOKUP(F14,Punktetabellen!J14:K24,2,1)))","v":10}]
["Prellsprünge",null,null,null,null,7,"Tabelle",{"$f":"IF(H2=9,VLOOKUP(F15,Punktetabellen!M4:Q14,5,1),IF(H2<12,VLOOKUP(F15,Punktetabellen!N4:Q14,4,1),IF(H2<14,VLOOKUP(F15,Punktetabellen!O4:Q14,3,1),VLOOKUP(F15,Punktetabellen!P4:Q14,2,1))))","v":7}]
["Handstandstehen",null,null,null,null,30,"Tabelle",{"$f":"IF(F16=\"\",0,IF(H2<10,VLOOKUP(F16,Punktetabellen!D34:F40,3,1),VLOOKUP(F16,Punktetabellen!E34:F40,2,1)))","v":10}]
["Schweizer, Wiener",null,{"$f":"IF(H2<12,\"\",IF(AND(H2>13,H2<17),\"Schweizer: \",\"Wiener: \"))","v":"Schweizer: "},0,{"$f":"IF(H2<12,\"\",IF(AND(H2>13,H2<17),\"Wiener: \",\"Schweizer: \"))","v":"Wiener: "},0,"Tabelle",{"$f":"IF(H2<12,VLOOKUP(F17,Punktetabellen!A20:B25,2,1),((MIN(5,1*D17)*2)+MIN(MAX(0,5-(1*D17)),(1*F17))))","v":0}]
["Bleep-Test",null,null,null,null,"L7 S5","Tabelle",{"$f":"IF(F18=\"\",0,VLOOKUP(F18,INDIRECT(C55),2,0))","v":5}]
["Gesamtpunktzahl Kraft/Kondition",null,null,null,null,null,null,{"$f":"SUM(H11:H18)","v":36}]
["Übung",null,null,"Max / Soll","Max. Abzug","Abzug / Ist","Berechnung","Punkte"]
["Standsprunghöhe",null,null,{"$f":"IF(F1=\"männlich\",VLOOKUP(H2,Standsprünge!A3:C15,3,0),VLOOKUP(H2,Standsprünge!A3:B15,2,0))","v":16.3},null,16.03,"(Ist - Soll) x 10",{"$f":"IF(F21=\"\",0,(F21-D21)*10)","v":-2.6999999999999957}]
[{"$f":"IF(H2>16,\"entfällt\",\"TBN\")","v":"TBN"},null,"7/4 Salto vw b zum Rücken, 1/1 aus",{"$f":"IF(C22=\"\",\"\",VLOOKUP(C22,INDIRECT($C$62),2,0))","v":10},{"$f":"IF(C22=\"\",\"\",VLOOKUP(C22,INDIRECT($C$62),3,0))","v":6},4,{"$f":"IF(H2>16,\"entfällt\",\"Wert - Abzug\")","v":"Wert - Abzug"},{"$f":"IF(A22=\"entfällt\",0,IF(F22=\"\",0,D22-F22))","v":6}]
[{"$f":"IF(H2>16,\"entfällt\",\"TBN\")","v":"TBN"},null,null,{"$f":"IF(C23=\"\",\"\",VLOOKUP(C23,INDIRECT($C$62),2,0))","v":""},{"$f":"IF(C23=\"\",\"\",VLOOKUP(C23,INDIRECT($C$62),3,0))","v":""},null,{"$f":"IF(H2>16,\"entfällt\",\"Wert - Abzug\")","v":"Wert - Abzug"},{"$f":"IF(A23=\"entfällt\",0,IF(F23=\"\",0,D23-F23))","v":0}]
[{"$f":"IF(H2>12,\"entfällt\",\"TBN\")","v":"entfällt"},null,null,{"$f":"IF(C24=\"\",\"\",VLOOKUP(C24,INDIRECT($C$62),2,0))","v":""},{"$f":"IF(C24=\"\",\"\",VLOOKUP(C24,INDIRECT($C$62),3,0))","v":""},null,{"$f":"IF(H2>16,\"entfällt\",\"Wert - Abzug\")","v":"Wert - Abzug"},0]
["TN",{"$f":"IF(C25=\"\",\"\",VLOOKUP(C25,INDIRECT($C$65),2,0))","v":"803°"},"Fliffisrudi c",{"$f":"IF(C25=\"\",\"\",VLOOKUP(C25,INDIRECT($C$65),3,0))","v":13},{"$f":"IF(C25=\"\",\"\",VLOOKUP(C25,INDIRECT($C$65),4,0))","v":6},6,"Wert - Abzug",7]
["TN","803<","Fliffisrudi b",15,6,6,"Wert - Abzug",9]
["TN","",null,"","",null,"Wert - Abzug",0]
[{"$f":"IF(H2>12,\"TN\",\"entfällt\")","v":"TN"},"",null,"","",null,{"$f":"IF(H2>12,\"Wert - Abzug\",\"entfällt\")","v":"Wert - Abzug"},0]
[{"$f":"IF(H2>16,\"TN\",\"entfällt\")","v":"entfällt"},"",null,"","",null,{"$f":"IF(H2>16,\"Wert - Abzug\",\"entfällt\")","v":"entfällt"},0]
[{"$f":"IF(H2>16,\"TN\",\"entfällt\")","v":"entfällt"},"",null,"","",null,{"$f":"IF(H2>16,\"Wert - Abzug\",\"entfällt\")","v":"entfällt"},{"$f":"IF(A30=\"entfällt\",0,IF(F30=\"\",0,D30-F30))","v":0}]
[{"$f":"IF($H$2>11,\"Verbindung Sprung 1\",\"entfällt\")","v":"Verbindung Sprung 1"},null,{"$f":"IF(A31<>\"entfällt\",VLOOKUP(1,INDIRECT($C$73),2,0),\"\")","v":"801<"},{"$f":"IF(A31<>\"entfällt\",VLOOKUP(1,INDIRECT($C$73),3,0),\"\")","v":13},{"$f":"IF(A31<>\"entfällt\",VLOOKUP(1,INDIRECT($C$73),4,0),\"\")","v":3},2,{"$f":"IF(H2>12,\"Wert - Abzug\",\"entfällt\")","v":"Wert - Abzug"},{"$f":"IF(A31=\"entfällt\",0,IF(F31=\"\",0,D31-F31))","v":11}]
[{"$f":"IF($H$2>11,\"Verbindung Sprung 2\",\"entfällt\")","v":"Verbindung Sprung 2"},null,{"$f":"IF(A32<>\"entfällt\",VLOOKUP(2,INDIRECT($C$73),2,0),\"\")","v":"40<"},{"$f":"IF(A32<>\"entfällt\",VLOOKUP(2,INDIRECT($C$73),3,0),\"\")","v":6},{"$f":"IF(A32<>\"entfällt\",VLOOKUP(2,INDIRECT($C$73),4,0),\"\")","v":3},2,{"$f":"IF(H2>12,\"Wert - Abzug\",\"entfällt\")","v":"Wert - Abzug"},{"$f":"IF(A32=\"entfällt\",0,IF(F32=\"\",0,D32-F32))","v":4}]
[{"$f":"IF($H$2>11,\"Verbindung Sprung 3\",\"entfällt\")","v":"Verbindung Sprung 3"},null,{"$f":"IF(A33<>\"entfällt\",VLOOKUP(3,INDIRECT($C$73),2,0),\"\")","v":"801°"},{"$f":"IF(A33<>\"entfällt\",VLOOKUP(3,INDIRECT($C$73),3,0),\"\")","v":11},{"$f":"IF(A33<>\"entfällt\",VLOOKUP(3,INDIRECT($C$73),4,0),\"\")","v":3},2,{"$f":"IF(H2>12,\"Wert - Abzug\",\"entfällt\")","v":"Wert - Abzug"},9]
[{"$f":"IF($H$2>11,\"Verbindung Sprung 4\",\"entfällt\")","v":"Verbindung Sprung 4"},null,{"$f":"IF(A34<>\"entfällt\",VLOOKUP(4,INDIRECT($C$73),2,0),\"\")","v":"40/"},{"$f":"IF(A34<>\"entfällt\",VLOOKUP(4,INDIRECT($C$73),3,0),\"\")","v":6},{"$f":"IF(A34<>\"entfällt\",VLOOKUP(4,INDIRECT($C$73),4,0),\"\")","v":3},2,{"$f":"IF(H2>12,\"Wert - Abzug\",\"entfällt\")","v":"Wert - Abzug"},4]
[{"$f":"IF($H$2>11,\"Verbindung Sprung 5\",\"entfällt\")","v":"Verbindung Sprung 5"},null,{"$f":"IF(A35<>\"entfällt\",VLOOKUP(5,INDIRECT($C$73),2,0),\"\")","v":"41/"},{"$f":"IF(A35<>\"entfällt\",VLOOKUP(5,INDIRECT($C$73),3,0),\"\")","v":6},{"$f":"IF(A35<>\"entfällt\",VLOOKUP(5,INDIRECT($C$73),4,0),\"\")","v":3},3,{"$f":"IF(H2>12,\"Wert - Abzug\",\"entfällt\")","v":"Wert - Abzug"},3]
[{"$f":"IF($H$2>11,\"Verbindung Sprung 6\",\"entfällt\")","v":"Verbindung Sprung 6"},null,{"$f":"IF(A36<>\"entfällt\",VLOOKUP(6,INDIRECT($C$73),2,0),\"\")","v":"800°"},{"$f":"IF(A36<>\"entfällt\",VLOOKUP(6,INDIRECT($C$73),3,0),\"\")","v":10},{"$f":"IF(A36<>\"entfällt\",VLOOKUP(6,INDIRECT($C$73),4,0),\"\")","v":3},3,{"$f":"IF(H2>12,\"Wert - Abzug\",\"entfällt\")","v":"Wert - Abzug"},{"$f":"IF(A36=\"entfällt\",0,IF(F36=\"\",0,D36-F36))","v":7}]
["Gesamtpunktzahl Trampolin",null,null,null,null,null,null,{"$f":"SUM(H21:H36)","v":57.300000000000004}]
["Element",null,null,null,"Wert","Abzug","Berechnung","Punkte"]
[{"$f":"VLOOKUP(1,INDIRECT($C$70),2,0)","v":"Flugrolle mit Überstrecken mit Anlauf"},null,null,null,{"$f":"VLOOKUP(1,INDIRECT($C$70),3,0)","v":3},0,"Wert - Abzug",{"$f":"IF(E39=\" \",\"\",IF(F39=\"\",0,E39-F39))","v":3}]
[{"$f":"VLOOKUP(2,INDIRECT($C$70),2,0)","v":"--> Strecksprung, Salto vorwärts gehockt"},null,null,null,{"$f":"VLOOKUP(2,INDIRECT($C$70),3,0)","v":4.5},1.5,"Wert - Abzug",{"$f":"IF(E40=\" \",\"\",IF(F40=\"\",0,E40-F40))","v":3}]
[{"$f":"VLOOKUP(3,INDIRECT($C$70),2,0)","v":"Vorspreizen, Handstand mit 1/1 Drehung, abrollen"},null,null,null,{"$f":"VLOOKUP(3,INDIRECT($C$70),3,0)","v":3},0.5,"Wert - Abzug",2.5]
[{"$f":"VLOOKUP(4,INDIRECT($C$70),2,0)","v":"--> Aufstehen mit gestreckten Beinen"},null,null,null,{"$f":"VLOOKUP(4,INDIRECT($C$70),3,0)","v":3},2.5,"Wert - Abzug",0.5]
[{"$f":"VLOOKUP(5,INDIRECT($C$70),2,0)","v":"Vorspreizen, Bestellschritt, Strecksprung 3/2 Drehung"},null,null,null,{"$f":"VLOOKUP(5,INDIRECT($C$70),3,0)","v":3},null,"Wert - Abzug",0]
[{"$f":"VLOOKUP(6,INDIRECT($C$70),2,0)","v":"Salto rückwärts gehockt"},null,null,null,{"$f":"VLOOKUP(6,INDIRECT($C$70),3,0)","v":3},0.5,"Wert - Abzug",2.5]
[{"$f":"VLOOKUP(7,INDIRECT($C$70),2,0)","v":"Handstützüberschlag"},null,null,null,{"$f":"VLOOKUP(7,INDIRECT($C$70),3,0)","v":3},1.5,"Wert - Abzug",1.5]
[{"$f":"VLOOKUP(8,INDIRECT($C$70),2,0)","v":"--> Ansprung Schrittstellung, Handstand mit zwei Hüpfern"},null,null,null,{"$f":"VLOOKUP(8,INDIRECT($C$70),3,0)","v":3},0.5,"Wert - Abzug",2.5]
[{"$f":"VLOOKUP(9,INDIRECT($C$70),2,0)","v":"Abrollen --> Strecksprung 1/2 Drehung"},null,null,null,{"$f":"VLOOKUP(9,INDIRECT($C$70),3,0)","v":1.5},0,{"$f":"IF(H2>16,\"\",\"Wert - Abzug\")","v":"Wert - Abzug"},1.5]
[{"$f":"VLOOKUP(10,INDIRECT($C$70),2,0)","v":"Salto vorwärts gebückt mit Anlauf"},null,null,null,{"$f":"VLOOKUP(10,INDIRECT($C$70),3,0)","v":3},1.5,{"$f":"IF(H2>16,\"\",\"Wert - Abzug\")","v":"Wert - Abzug"},1.5]
[{"$f":"VLOOKUP(11,INDIRECT($C$70),2,0)","v":" "},null,null,null,{"$f":"VLOOKUP(11,INDIRECT($C$70),3,0)","v":" "},null,{"$f":"IF(H2>13,\"\",\"Wert - Abzug\")","v":""},""]
[{"$f":"VLOOKUP(12,INDIRECT($C$70),2,0)","v":" "},null,null,null,{"$f":"VLOOKUP(12,INDIRECT($C$70),3,0)","v":" "},null,{"$f":"IF(OR(H2=9,H2=12,H2=13),\"Wert - Abzug\",\"\")","v":""},""]
["Gesamtpunktzahl Bodenkomplexübung",null,null,null,null,null,null,{"$f":"SUM(H39:H50)","v":18.5}]
["Gesamtpunktzahl",null,null,null,null,null,null,{"$f":"SUM(H9,H19,H37,H51)","v":157.80000000000001}]
[]
[]
[null,"Shuttles",{"$f":"\"Shuttles_\"&F1&IF(H2=9,\"_9\",IF(H2<12,\"_10_11\",IF(H2<14,\"_12_13\",IF(H2<17,\"_14_16\",\"_17\"))))","v":"Shuttles_weiblich_14_16"}]
[null,null,{"$f":"\"Shuttles_\"&F1&IF(H2=9,\"_9\",IF(H2<12,\"_10_11\",IF(H2<14,\"_12_13\",IF(H2<17,\"_14_16\",\"_17\"))))&\"[Shuttle]\"","v":"Shuttles_weiblich_14_16[Shuttle]"}]
[null,null,{"$f":"\"Shuttles_\"&F1&IF(H2=9,\"_9\",IF(H2<12,\"_10_11\",IF(H2<14,\"_12_13\",IF(H2<17,\"_14_16\",\"_17\"))))&\"[Punkte]\"","v":"Shuttles_weiblich_14_16[Punkte]"}]
[]
[null,"G_TBN TN BKÜ",{"$f":"IF(H2<13,\"beide\",F1)","v":"weiblich"}]
[null,"AK",{"$f":"IF(OR(H2=9,H2=12),H2,IF(H2<12,\"10_11\",IF(H2<15,\"13_14\",IF(H2<17,\"15_16\",IF(H2<19,\"17_18\",19)))))","v":"15_16"}]
[]
[null,"TBN",{"$f":"\"TBN_\"&C59&\"_\"&C60","v":"TBN_weiblich_15_16"}]
[null,null,{"$f":"C62&\"[Beschreibung]\"","v":"TBN_weiblich_15_16[Beschreibung]"}]
[]
[null,"TN",{"$f":"\"TN_\"&C59&\"_\"&C60","v":"TN_weiblich_15_16"}]
[null,null,{"$f":"C65&\"[Beschreibung]\"","v":"TN_weiblich_15_16[Beschreibung]"}]
[]
[null,"TV",{"$f":"\"TV_\"&F1&\"_\"&C60","v":"TV_weiblich_15_16"}]
[]
[null,"BKÜ",{"$f":"\"BKÜ\"&IF(H2=9,\"_9\",IF(H2<12,\"_10_11\",IF(H2<14,\"_12_13\",IF(H2<17,\"_14_16\",\"_17\"))))","v":"BKÜ_14_16"}]
[]
[null,"G_TV",{"$f":"IF(H2<17,\"beide\",F1)","v":"beide"}]
[null,"TV",{"$f":"\"TV_\"&C72&\"_\"&C60","v":"TV_beide_15_16"}]
[]
[null,{"$f":"SUM(H19,H9,H51)","v":100.5},"Vergleichspunktzahl aus Kraft, Beweglichkeit, Grundlagenausdauer, Bodenübung"]
[null,{"$f":"IF(B75>95,\"Ja\",\"Nein\")","v":"Ja"},"Vergleichspunktzahl erfüllt?"]
[null,{"$f":"IF(F1=\"Weiblich\",VLOOKUP(H2,Punktetabellen!$D$43:$F$49,3,1),VLOOKUP(H2,Punktetabellen!$D$43:$F$49,2,1))","v":159},"Mindest-Gesamtwert"]
[null,{"$f":"IF(H52>=B77,\"Ja\",\"Nein\")","v":"Nein"},"Gesamtwert erfüllt?"]
[null,{"$f":"IF(AND(B76=\"Ja\",B78=\"Ja\"),\"Ja\",\"Nein\")","v":"Nein"},"Alles erfüllt?"]

{"sheet":"VolskaNikola","index":22,"n_rows":79,"n_cols":8,"rows_kept":79,"cut":false,"hidden":false,"merged":[[11,0,11,4],[0,1,0,4],[1,1,1,5],[2,0,2,4],[3,0,3,4],[4,0,4,4],[5,0,5,4],[6,0,6,4],[7,0,7,4],[8,0,8,6],[9,0,9,4],[10,0,10,4],[23,0,23,1],[12,0,12,4],[13,0,13,4],[14,0,14,4],[15,0,15,4],[16,0,16,1],[17,0,17,4],[18,0,18,6],[19,0,19,2],[20,0,20,2],[21,0,21,1],[22,0,22,1],[41,0,41,3],[30,0,30,1],[31,0,31,1],[32,0,32,1],[33,0,33,1],[34,0,34,1],[35,0,35,1],[36,0,36,6],[37,0,37,3],[38,0,38,3],[39,0,39,3],[40,0,40,3],[48,0,48,3],[49,0,49,3],[50,0,50,6],[51,0,51,6],[42,0,42,3],[43,0,43,3],[44,0,44,3],[45,0,45,3],[46,0,46,3],[47,0,47,3]]}
["Name","Volska, Nikola",null,null,null,"weiblich","Jahrgang",2008]
["Verein","TGJ Salzgitter",null,null,null,null,"AK",{"$f":"2020-H1","v":12}]
["Übung",null,null,null,null,"Wert","Berechnung","Punkte"]
["Fußdehnung",null,null,null,null,10,"Bild",{"$f":"F4","v":10}]
["Briefmarke mit Armrumpfwinkel",null,null,null,null,10,"Bild",{"$f":"F5","v":10}]
["Bückbeweglichkeit",null,null,null,null,20,"Tabelle",{"$f":"IF(F6=\"\",0,VLOOKUP(F6,Punktetabellen!A10:B15,2,1))","v":10}]
["Querspagat links",null,null,null,null,0,"Tabelle",{"$f":"IF(F7=\"\",0,VLOOKUP(F7,Punktetabellen!A3:B6,2,0))","v":10}]
["Querspagat rechts",null,null,null,null,0,"Tabelle",{"$f":"IF(F8=\"\",0,VLOOKUP(F8,Punktetabellen!A3:B6,2,0))","v":10}]
["Gesamtpunktzahl Beweglichkeit",null,null,null,null,null,null,{"$f":"SUM(H4:H8)","v":50}]
["Übung",null,null,null,null,"Wert","Berechnung","Punktzahl"]
["Klimmzug",null,null,null,null,6,"Tabelle",{"$f":"IF(F11=\"\",0,IF(H2<12,VLOOKUP(F11,Punktetabellen!D4:F14,3,1),VLOOKUP(F11,Punktetabellen!E4:F14,2,1)))","v":1}]
["Beinheben",null,null,null,null,12,"Tabelle",{"$f":"IF(H2=9,VLOOKUP(F12,Punktetabellen!D19:F29,3,1),VLOOKUP(F12,Punktetabellen!E19:F29,2,1))","v":7}]
["Flieger",null,null,null,null,105,"Tabelle",{"$f":"IF(H2=9,VLOOKUP(F13,Punktetabellen!H4:K9,4,1),IF(H2<12,VLOOKUP(F13,Punktetabellen!I4:K9,3,1),VLOOKUP(F13,Punktetabellen!J4:K9,2,1)))","v":6}]
["Rollenverbindung",null,null,null,null,29,"Tabelle",{"$f":"IF(H2=9,VLOOKUP(F14,Punktetabellen!H14:K24,4,1),IF(H2<12,VLOOKUP(F14,Punktetabellen!I14:K24,3,1),VLOOKUP(F14,Punktetabellen!J14:K24,2,1)))","v":10}]
["Prellsprünge",null,null,null,null,36,"Tabelle",{"$f":"IF(H2=9,VLOOKUP(F15,Punktetabellen!M4:Q14,5,1),IF(H2<12,VLOOKUP(F15,Punktetabellen!N4:Q14,4,1),IF(H2<14,VLOOKUP(F15,Punktetabellen!O4:Q14,3,1),VLOOKUP(F15,Punktetabellen!P4:Q14,2,1))))","v":8}]
["Handstandstehen",null,null,null,null,23,"Tabelle",{"$f":"IF(F16=\"\",0,IF(H2<10,VLOOKUP(F16,Punktetabellen!D34:F40,3,1),VLOOKUP(F16,Punktetabellen!E34:F40,2,1)))","v":6}]
["Schweizer, Wiener",null,{"$f":"IF(H2<12,\"\",IF(AND(H2>13,H2<17),\"Schweizer: \",\"Wiener: \"))","v":"Wiener: "},0,{"$f":"IF(H2<12,\"\",IF(AND(H2>13,H2<17),\"Wiener: \",\"Schweizer: \"))","v":"Schweizer: "},0,"Tabelle",{"$f":"IF(H2<12,VLOOKUP(F17,Punktetabellen!A20:B25,2,1),((MIN(5,1*D17)*2)+MIN(MAX(0,5-(1*D17)),(1*F17))))","v":0}]
["Bleep-Test",null,null,null,null,"L7 S10","Tabelle",{"$f":"IF(F18=\"\",0,VLOOKUP(F18,INDIRECT(C55),2,0))","v":7}]
["Gesamtpunktzahl Kraft/Kondition",null,null,null,null,null,null,{"$f":"SUM(H11:H18)","v":45}]
["Übung",null,null,"Max / Soll","Max. Abzug","Abzug / Ist","Berechnung","Punkte"]
["Standsprunghöhe",null,null,{"$f":"IF(F1=\"männlich\",VLOOKUP(H2,Standsprünge!A3:C15,3,0),VLOOKUP(H2,Standsprünge!A3:B15,2,0))","v":14.5},null,15.145,"(Ist - Soll) x 10",{"$f":"IF(F21=\"\",0,(F21-D21)*10)","v":6.4499999999999957}]
[{"$f":"IF(H2>16,\"entfällt\",\"TBN\")","v":"TBN"},null,null,{"$f":"IF(C22=\"\",\"\",VLOOKUP(C22,INDIRECT($C$62),2,0))","v":""},{"$f":"IF(C22=\"\",\"\",VLOOKUP(C22,INDIRECT($C$62),3,0))","v":""},null,{"$f":"IF(H2>16,\"entfällt\",\"Wert - Abzug\")","v":"Wert - Abzug"},{"$f":"IF(A22=\"entfällt\",0,IF(F22=\"\",0,D22-F22))","v":0}]
[{"$f":"IF(H2>16,\"entfällt\",\"TBN\")","v":"TBN"},null,"5/4 vw mit 3/2 Schraube c (Babyrudi c)",{"$f":"IF(C23=\"\",\"\",VLOOKUP(C23,INDIRECT($C$62),2,0))","v":9},{"$f":"IF(C23=\"\",\"\",VLOOKUP(C23,INDIRECT($C$62),3,0))","v":6},0,{"$f":"IF(H2>16,\"entfällt\",\"Wert - Abzug\")","v":"Wert - Abzug"},{"$f":"IF(A23=\"entfällt\",0,IF(F23=\"\",0,D23-F23))","v":9}]
[{"$f":"IF(H2>12,\"entfällt\",\"TBN\")","v":"TBN"},null,"Rücken, Schraubensalto vw Rücken (1x)",{"$f":"IF(C24=\"\",\"\",VLOOKUP(C24,INDIRECT($C$62),2,0))","v":6},{"$f":"IF(C24=\"\",\"\",VLOOKUP(C24,INDIRECT($C$62),3,0))","v":4},2,{"$f":"IF(H2>16,\"entfällt\",\"Wert - Abzug\")","v":"Wert - Abzug"},4]
["TN",{"$f":"IF(C25=\"\",\"\",VLOOKUP(C25,INDIRECT($C$65),2,0))","v":"800°"},"Doppelsalto rw c",{"$f":"IF(C25=\"\",\"\",VLOOKUP(C25,INDIRECT($C$65),3,0))","v":10},{"$f":"IF(C25=\"\",\"\",VLOOKUP(C25,INDIRECT($C$65),4,0))","v":6},4,"Wert - Abzug",6]
["TN","700°R","7/4 vw c zum Rücken",8,6,0,"Wert - Abzug",8]
["TN","700<R","7/4 vw b zum Rücken",9,6,2,"Wert - Abzug",7]
[{"$f":"IF(H2>12,\"TN\",\"entfällt\")","v":"entfällt"},"700<R","7/4 vw b zum Rücken",9,6,0,{"$f":"IF(H2>12,\"Wert - Abzug\",\"entfällt\")","v":"entfällt"},0]
[{"$f":"IF(H2>16,\"TN\",\"entfällt\")","v":"entfällt"},"",null,"","",null,{"$f":"IF(H2>16,\"Wert - Abzug\",\"entfällt\")","v":"entfällt"},0]
[{"$f":"IF(H2>16,\"TN\",\"entfällt\")","v":"entfällt"},"",null,"","",null,{"$f":"IF(H2>16,\"Wert - Abzug\",\"entfällt\")","v":"entfällt"},{"$f":"IF(A30=\"entfällt\",0,IF(F30=\"\",0,D30-F30))","v":0}]
[{"$f":"IF($H$2>11,\"Verbindung Sprung 1\",\"entfällt\")","v":"Verbindung Sprung 1"},null,{"$f":"IF(A31<>\"entfällt\",VLOOKUP(1,INDIRECT($C$73),2,0),\"\")","v":"40°"},{"$f":"IF(A31<>\"entfällt\",VLOOKUP(1,INDIRECT($C$73),3,0),\"\")","v":5},{"$f":"IF(A31<>\"entfällt\",VLOOKUP(1,INDIRECT($C$73),4,0),\"\")","v":3},1,{"$f":"IF(H2>12,\"Wert - Abzug\",\"entfällt\")","v":"entfällt"},{"$f":"IF(A31=\"entfällt\",0,IF(F31=\"\",0,D31-F31))","v":4}]
[{"$f":"IF($H$2>11,\"Verbindung Sprung 2\",\"entfällt\")","v":"Verbindung Sprung 2"},null,{"$f":"IF(A32<>\"entfällt\",VLOOKUP(2,INDIRECT($C$73),2,0),\"\")","v":"41°"},{"$f":"IF(A32<>\"entfällt\",VLOOKUP(2,INDIRECT($C$73),3,0),\"\")","v":6},{"$f":"IF(A32<>\"entfällt\",VLOOKUP(2,INDIRECT($C$73),4,0),\"\")","v":3},2,{"$f":"IF(H2>12,\"Wert - Abzug\",\"entfällt\")","v":"entfällt"},{"$f":"IF(A32=\"entfällt\",0,IF(F32=\"\",0,D32-F32))","v":4}]
[{"$f":"IF($H$2>11,\"Verbindung Sprung 3\",\"entfällt\")","v":"Verbindung Sprung 3"},null,{"$f":"IF(A33<>\"entfällt\",VLOOKUP(3,INDIRECT($C$73),2,0),\"\")","v":"40<"},{"$f":"IF(A33<>\"entfällt\",VLOOKUP(3,INDIRECT($C$73),3,0),\"\")","v":6},{"$f":"IF(A33<>\"entfällt\",VLOOKUP(3,INDIRECT($C$73),4,0),\"\")","v":3},1,{"$f":"IF(H2>12,\"Wert - Abzug\",\"entfällt\")","v":"entfällt"},5]
[{"$f":"IF($H$2>11,\"Verbindung Sprung 4\",\"entfällt\")","v":"Verbindung Sprung 4"},null,{"$f":"IF(A34<>\"entfällt\",VLOOKUP(4,INDIRECT($C$73),2,0),\"\")","v":"41<"},{"$f":"IF(A34<>\"entfällt\",VLOOKUP(4,INDIRECT($C$73),3,0),\"\")","v":6},{"$f":"IF(A34<>\"entfällt\",VLOOKUP(4,INDIRECT($C$73),4,0),\"\")","v":3},2,{"$f":"IF(H2>12,\"Wert - Abzug\",\"entfällt\")","v":"entfällt"},4]
[{"$f":"IF($H$2>11,\"Verbindung Sprung 5\",\"entfällt\")","v":"Verbindung Sprung 5"},null,{"$f":"IF(A35<>\"entfällt\",VLOOKUP(5,INDIRECT($C$73),2,0),\"\")","v":"40/"},{"$f":"IF(A35<>\"entfällt\",VLOOKUP(5,INDIRECT($C$73),3,0),\"\")","v":6},{"$f":"IF(A35<>\"entfällt\",VLOOKUP(5,INDIRECT($C$73),4,0),\"\")","v":3},2,{"$f":"IF(H2>12,\"Wert - Abzug\",\"entfällt\")","v":"entfällt"},4]
[{"$f":"IF($H$2>11,\"Verbindung Sprung 6\",\"entfällt\")","v":"Verbindung Sprung 6"},null,{"$f":"IF(A36<>\"entfällt\",VLOOKUP(6,INDIRECT($C$73),2,0),\"\")","v":"02/"},{"$f":"IF(A36<>\"entfällt\",VLOOKUP(6,INDIRECT($C$73),3,0),\"\")","v":2},{"$f":"IF(A36<>\"entfällt\",VLOOKUP(6,INDIRECT($C$73),4,0),\"\")","v":3},2,{"$f":"IF(H2>12,\"Wert - Abzug\",\"entfällt\")","v":"entfällt"},{"$f":"IF(A36=\"entfällt\",0,IF(F36=\"\",0,D36-F36))","v":0}]
["Gesamtpunktzahl Trampolin",null,null,null,null,null,null,{"$f":"SUM(H21:H36)","v":61.449999999999996}]
["Element",null,null,null,"Wert","Abzug","Berechnung","Punkte"]
[{"$f":"VLOOKUP(1,INDIRECT($C$70),2,0)","v":"Salto vorwärts mit Anlauf"},null,null,null,{"$f":"VLOOKUP(1,INDIRECT($C$70),3,0)","v":3},0,"Wert - Abzug",{"$f":"IF(E39=\" \",\"\",IF(F39=\"\",0,E39-F39))","v":3}]
[{"$f":"VLOOKUP(2,INDIRECT($C$70),2,0)","v":"Handstand, 1/1 Drehung, Abrollen"},null,null,null,{"$f":"VLOOKUP(2,INDIRECT($C$70),3,0)","v":3},2,"Wert - Abzug",{"$f":"IF(E40=\" \",\"\",IF(F40=\"\",0,E40-F40))","v":1}]
[{"$f":"VLOOKUP(3,INDIRECT($C$70),2,0)","v":"Strecksprung 1/2 Drehung"},null,null,null,{"$f":"VLOOKUP(3,INDIRECT($C$70),3,0)","v":1.5},1,"Wert - Abzug",0.5]
[{"$f":"VLOOKUP(4,INDIRECT($C$70),2,0)","v":"Vorspreizen, Handstandhüpfer, Abrollen Grätschsitz"},null,null,null,{"$f":"VLOOKUP(4,INDIRECT($C$70),3,0)","v":1.5},1,"Wert - Abzug",0.5]
[{"$f":"VLOOKUP(5,INDIRECT($C$70),2,0)","v":"Briefmarke, Rückgrätschen --> Bauchlage"},null,null,null,{"$f":"VLOOKUP(5,INDIRECT($C$70),3,0)","v":3},1.5,"Wert - Abzug",1.5]
[{"$f":"VLOOKUP(6,INDIRECT($C$70),2,0)","v":"Kniestand, Abdrücken gebückt --> Handstand, abrollen"},null,null,null,{"$f":"VLOOKUP(6,INDIRECT($C$70),3,0)","v":3},1.5,"Wert - Abzug",1.5]
[{"$f":"VLOOKUP(7,INDIRECT($C$70),2,0)","v":"Vorspreizen, Standwaage --> abrollen, einbeinig rechts auf"},null,null,null,{"$f":"VLOOKUP(7,INDIRECT($C$70),3,0)","v":3.5},1.5,"Wert - Abzug",2]
[{"$f":"VLOOKUP(8,INDIRECT($C$70),2,0)","v":"Vorspreizen, Standwaage --> abrollen, einbeinig links auf"},null,null,null,{"$f":"VLOOKUP(8,INDIRECT($C$70),3,0)","v":3.5},2.5,"Wert - Abzug",1]
[{"$f":"VLOOKUP(9,INDIRECT($C$70),2,0)","v":"Rolle rückwärts durch Handstand"},null,null,null,{"$f":"VLOOKUP(9,INDIRECT($C$70),3,0)","v":3},2,{"$f":"IF(H2>16,\"\",\"Wert - Abzug\")","v":"Wert - Abzug"},1]
[{"$f":"VLOOKUP(10,INDIRECT($C$70),2,0)","v":"Strecksprung 1/2 Drehung"},null,null,null,{"$f":"VLOOKUP(10,INDIRECT($C$70),3,0)","v":1},0,{"$f":"IF(H2>16,\"\",\"Wert - Abzug\")","v":"Wert - Abzug"},1]
[{"$f":"VLOOKUP(11,INDIRECT($C$70),2,0)","v":"Sprungrolle mit Anlauf"},null,null,null,{"$f":"VLOOKUP(11,INDIRECT($C$70),3,0)","v":2},1.5,{"$f":"IF(H2>13,\"\",\"Wert - Abzug\")","v":"Wert - Abzug"},0.5]
[{"$f":"VLOOKUP(12,INDIRECT($C$70),2,0)","v":"Strecksprung 1/1 Drehung"},null,null,null,{"$f":"VLOOKUP(12,INDIRECT($C$70),3,0)","v":2},2,{"$f":"IF(OR(H2=9,H2=12,H2=13),\"Wert - Abzug\",\"\")","v":"Wert - Abzug"},0]
["Gesamtpunktzahl Bodenkomplexübung",null,null,null,null,null,null,{"$f":"SUM(H39:H50)","v":13.5}]
["Gesamtpunktzahl",null,null,null,null,null,null,{"$f":"SUM(H9,H19,H37,H51)","v":169.95}]
[]
[]
[null,"Shuttles",{"$f":"\"Shuttles_\"&F1&IF(H2=9,\"_9\",IF(H2<12,\"_10_11\",IF(H2<14,\"_12_13\",IF(H2<17,\"_14_16\",\"_17\"))))","v":"Shuttles_weiblich_12_13"}]
[null,null,{"$f":"\"Shuttles_\"&F1&IF(H2=9,\"_9\",IF(H2<12,\"_10_11\",IF(H2<14,\"_12_13\",IF(H2<17,\"_14_16\",\"_17\"))))&\"[Shuttle]\"","v":"Shuttles_weiblich_12_13[Shuttle]"}]
[null,null,{"$f":"\"Shuttles_\"&F1&IF(H2=9,\"_9\",IF(H2<12,\"_10_11\",IF(H2<14,\"_12_13\",IF(H2<17,\"_14_16\",\"_17\"))))&\"[Punkte]\"","v":"Shuttles_weiblich_12_13[Punkte]"}]
[]
[null,"G_TBN TN BKÜ",{"$f":"IF(H2<13,\"beide\",F1)","v":"beide"}]
[null,"AK",{"$f":"IF(OR(H2=9,H2=12),H2,IF(H2<12,\"10_11\",IF(H2<15,\"13_14\",IF(H2<17,\"15_16\",IF(H2<19,\"17_18\",19)))))","v":12}]
[]
[null,"TBN",{"$f":"\"TBN_\"&C59&\"_\"&C60","v":"TBN_beide_12"}]
[null,null,{"$f":"C62&\"[Beschreibung]\"","v":"TBN_beide_12[Beschreibung]"}]
[]
[null,"TN",{"$f":"\"TN_\"&C59&\"_\"&C60","v":"TN_beide_12"}]
[null,null,{"$f":"C65&\"[Beschreibung]\"","v":"TN_beide_12[Beschreibung]"}]
[]
[null,"TV",{"$f":"\"TV_\"&F1&\"_\"&C60","v":"TV_weiblich_12"}]
[]
[null,"BKÜ",{"$f":"\"BKÜ\"&IF(H2=9,\"_9\",IF(H2<12,\"_10_11\",IF(H2<14,\"_12_13\",IF(H2<17,\"_14_16\",\"_17\"))))","v":"BKÜ_12_13"}]
[]
[null,"G_TV",{"$f":"IF(H2<17,\"beide\",F1)","v":"beide"}]
[null,"TV",{"$f":"\"TV_\"&C72&\"_\"&C60","v":"TV_beide_12"}]
[]
[null,{"$f":"SUM(H19,H9,H51)","v":108.5},"Vergleichspunktzahl aus Kraft, Beweglichkeit, Grundlagenausdauer, Bodenübung"]
[null,{"$f":"IF(B75>95,\"Ja\",\"Nein\")","v":"Ja"},"Vergleichspunktzahl erfüllt?"]
[null,{"$f":"IF(F1=\"Weiblich\",VLOOKUP(H2,Punktetabellen!$D$43:$F$49,3,1),VLOOKUP(H2,Punktetabellen!$D$43:$F$49,2,1))","v":129},"Mindest-Gesamtwert"]
[null,{"$f":"IF(H52>=B77,\"Ja\",\"Nein\")","v":"Ja"},"Gesamtwert erfüllt?"]
[null,{"$f":"IF(AND(B76=\"Ja\",B78=\"Ja\"),\"Ja\",\"Nein\")","v":"Ja"},"Alles erfüllt?"]

{"sheet":"RonsiekNiederbrökerHannah","index":23,"n_rows":79,"n_cols":8,"rows_kept":79,"cut":false,"hidden":false,"merged":[[11,0,11,4],[0,1,0,4],[1,1,1,5],[2,0,2,4],[3,0,3,4],[4,0,4,4],[5,0,5,4],[6,0,6,4],[7,0,7,4],[8,0,8,6],[9,0,9,4],[10,0,10,4],[23,0,23,1],[12,0,12,4],[13,0,13,4],[14,0,14,4],[15,0,15,4],[16,0,16,1],[17,0,17,4],[18,0,18,6],[19,0,19,2],[20,0,20,2],[21,0,21,1],[22,0,22,1],[41,0,41,3],[30,0,30,1],[31,0,31,1],[32,0,32,1],[33,0,33,1],[34,0,34,1],[35,0,35,1],[36,0,36,6],[37,0,37,3],[38,0,38,3],[39,0,39,3],[40,0,40,3],[48,0,48,3],[49,0,49,3],[50,0,50,6],[51,0,51,6],[42,0,42,3],[43,0,43,3],[44,0,44,3],[45,0,45,3],[46,0,46,3],[47,0,47,3]]}
["Name","Ronsiek-Niederbröker, Hannah",null,null,null,"weiblich","Jahrgang",2006]
["Verein","SC Melle",null,null,null,null,"AK",{"$f":"2020-H1","v":14}]
["Übung",null,null,null,null,"Wert","Berechnung","Punkte"]
["Fußdehnung",null,null,null,null,10,"Bild",{"$f":"F4","v":10}]
["Briefmarke mit Armrumpfwinkel",null,null,null,null,6,"Bild",{"$f":"F5","v":6}]
["Bückbeweglichkeit",null,null,null,null,18,"Tabelle",{"$f":"IF(F6=\"\",0,VLOOKUP(F6,Punktetabellen!A10:B15,2,1))","v":8}]
["Querspagat links",null,null,null,null,0,"Tabelle",{"$f":"IF(F7=\"\",0,VLOOKUP(F7,Punktetabellen!A3:B6,2,0))","v":10}]
["Querspagat rechts",null,null,null,null,0,"Tabelle",{"$f":"IF(F8=\"\",0,VLOOKUP(F8,Punktetabellen!A3:B6,2,0))","v":10}]
["Gesamtpunktzahl Beweglichkeit",null,null,null,null,null,null,{"$f":"SUM(H4:H8)","v":44}]
["Übung",null,null,null,null,"Wert","Berechnung","Punktzahl"]
["Klimmzug",null,null,null,null,1,"Tabelle",{"$f":"IF(F11=\"\",0,IF(H2<12,VLOOKUP(F11,Punktetabellen!D4:F14,3,1),VLOOKUP(F11,Punktetabellen!E4:F14,2,1)))","v":0}]
["Beinheben",null,null,null,null,1,"Tabelle",{"$f":"IF(H2=9,VLOOKUP(F12,Punktetabellen!D19:F29,3,1),VLOOKUP(F12,Punktetabellen!E19:F29,2,1))","v":0}]
["Flieger",null,null,null,null,95,"Tabelle",{"$f":"IF(H2=9,VLOOKUP(F13,Punktetabellen!H4:K9,4,1),IF(H2<12,VLOOKUP(F13,Punktetabellen!I4:K9,3,1),VLOOKUP(F13,Punktetabellen!J4:K9,2,1)))","v":4}]
["Rollenverbindung",null,null,null,null,17,"Tabelle",{"$f":"IF(H2=9,VLOOKUP(F14,Punktetabellen!H14:K24,4,1),IF(H2<12,VLOOKUP(F14,Punktetabellen!I14:K24,3,1),VLOOKUP(F14,Punktetabellen!J14:K24,2,1)))","v":4}]
["Prellsprünge",null,null,null,null,null,"Tabelle",{"$f":"IF(H2=9,VLOOKUP(F15,Punktetabellen!M4:Q14,5,1),IF(H2<12,VLOOKUP(F15,Punktetabellen!N4:Q14,4,1),IF(H2<14,VLOOKUP(F15,Punktetabellen!O4:Q14,3,1),VLOOKUP(F15,Punktetabellen!P4:Q14,2,1))))","v":0}]
["Handstandstehen",null,null,null,null,16,"Tabelle",{"$f":"IF(F16=\"\",0,IF(H2<10,VLOOKUP(F16,Punktetabellen!D34:F40,3,1),VLOOKUP(F16,Punktetabellen!E34:F40,2,1)))","v":4}]
["Schweizer, Wiener",null,{"$f":"IF(H2<12,\"\",IF(AND(H2>13,H2<17),\"Schweizer: \",\"Wiener: \"))","v":"Schweizer: "},0,{"$f":"IF(H2<12,\"\",IF(AND(H2>13,H2<17),\"Wiener: \",\"Schweizer: \"))","v":"Wiener: "},0,"Tabelle",{"$f":"IF(H2<12,VLOOKUP(F17,Punktetabellen!A20:B25,2,1),((MIN(5,1*D17)*2)+MIN(MAX(0,5-(1*D17)),(1*F17))))","v":0}]
["Bleep-Test",null,null,null,null,"L9 S5","Tabelle",{"$f":"IF(F18=\"\",0,VLOOKUP(F18,INDIRECT(C55),2,0))","v":9}]
["Gesamtpunktzahl Kraft/Kondition",null,null,null,null,null,null,{"$f":"SUM(H11:H18)","v":21}]
["Übung",null,null,"Max / Soll","Max. Abzug","Abzug / Ist","Berechnung","Punkte"]
["Standsprunghöhe",null,null,{"$f":"IF(F1=\"männlich\",VLOOKUP(H2,Standsprünge!A3:C15,3,0),VLOOKUP(H2,Standsprünge!A3:B15,2,0))","v":15.5},null,15.955,"(Ist - Soll) x 10",{"$f":"IF(F21=\"\",0,(F21-D21)*10)","v":4.5500000000000007}]
[{"$f":"IF(H2>16,\"entfällt\",\"TBN\")","v":"TBN"},null,"7/4 rw c zum Rücken, 1/2 Schraube ein",{"$f":"IF(C22=\"\",\"\",VLOOKUP(C22,INDIRECT($C$62),2,0))","v":9},{"$f":"IF(C22=\"\",\"\",VLOOKUP(C22,INDIRECT($C$62),3,0))","v":6},4,{"$f":"IF(H2>16,\"entfällt\",\"Wert - Abzug\")","v":"Wert - Abzug"},{"$f":"IF(A22=\"entfällt\",0,IF(F22=\"\",0,D22-F22))","v":5}]
[{"$f":"IF(H2>16,\"entfällt\",\"TBN\")","v":"TBN"},null,"2/1 Salto vw c aus der Rückenlage",{"$f":"IF(C23=\"\",\"\",VLOOKUP(C23,INDIRECT($C$62),2,0))","v":10},{"$f":"IF(C23=\"\",\"\",VLOOKUP(C23,INDIRECT($C$62),3,0))","v":6},2,{"$f":"IF(H2>16,\"entfällt\",\"Wert - Abzug\")","v":"Wert - Abzug"},{"$f":"IF(A23=\"entfällt\",0,IF(F23=\"\",0,D23-F23))","v":8}]
[{"$f":"IF(H2>12,\"entfällt\",\"TBN\")","v":"entfällt"},null,null,{"$f":"IF(C24=\"\",\"\",VLOOKUP(C24,INDIRECT($C$62),2,0))","v":""},{"$f":"IF(C24=\"\",\"\",VLOOKUP(C24,INDIRECT($C$62),3,0))","v":""},null,{"$f":"IF(H2>16,\"entfällt\",\"Wert - Abzug\")","v":"Wert - Abzug"},0]
["TN",{"$f":"IF(C25=\"\",\"\",VLOOKUP(C25,INDIRECT($C$65),2,0))","v":"801°"},"Fliffis c",{"$f":"IF(C25=\"\",\"\",VLOOKUP(C25,INDIRECT($C$65),3,0))","v":11},{"$f":"IF(C25=\"\",\"\",VLOOKUP(C25,INDIRECT($C$65),4,0))","v":6},2,"Wert - Abzug",9]
["TN","801<","Fliffis b",13,6,2,"Wert - Abzug",11]
["TN","800<","Doppelsalto rw b",12,6,6,"Wert - Abzug",6]
[{"$f":"IF(H2>12,\"TN\",\"entfällt\")","v":"TN"},"811°","1/2 ein 1/2 aus c",12,6,6,{"$f":"IF(H2>12,\"Wert - Abzug\",\"entfällt\")","v":"Wert - Abzug"},6]
[{"$f":"IF(H2>16,\"TN\",\"entfällt\")","v":"entfällt"},"",null,"","",null,{"$f":"IF(H2>16,\"Wert - Abzug\",\"entfällt\")","v":"entfällt"},0]
[{"$f":"IF(H2>16,\"TN\",\"entfällt\")","v":"entfällt"},"",null,"","",null,{"$f":"IF(H2>16,\"Wert - Abzug\",\"entfällt\")","v":"entfällt"},{"$f":"IF(A30=\"entfällt\",0,IF(F30=\"\",0,D30-F30))","v":0}]
[{"$f":"IF($H$2>11,\"Verbindung Sprung 1\",\"entfällt\")","v":"Verbindung Sprung 1"},null,{"$f":"IF(A31<>\"entfällt\",VLOOKUP(1,INDIRECT($C$73),2,0),\"\")","v":"40/"},{"$f":"IF(A31<>\"entfällt\",VLOOKUP(1,INDIRECT($C$73),3,0),\"\")","v":6},{"$f":"IF(A31<>\"entfällt\",VLOOKUP(1,INDIRECT($C$73),4,0),\"\")","v":3},1,{"$f":"IF(H2>12,\"Wert - Abzug\",\"entfällt\")","v":"Wert - Abzug"},{"$f":"IF(A31=\"entfällt\",0,IF(F31=\"\",0,D31-F31))","v":5}]
[{"$f":"IF($H$2>11,\"Verbindung Sprung 2\",\"entfällt\")","v":"Verbindung Sprung 2"},null,{"$f":"IF(A32<>\"entfällt\",VLOOKUP(2,INDIRECT($C$73),2,0),\"\")","v":"41/"},{"$f":"IF(A32<>\"entfällt\",VLOOKUP(2,INDIRECT($C$73),3,0),\"\")","v":6},{"$f":"IF(A32<>\"entfällt\",VLOOKUP(2,INDIRECT($C$73),4,0),\"\")","v":3},2,{"$f":"IF(H2>12,\"Wert - Abzug\",\"entfällt\")","v":"Wert - Abzug"},{"$f":"IF(A32=\"entfällt\",0,IF(F32=\"\",0,D32-F32))","v":4}]
[{"$f":"IF($H$2>11,\"Verbindung Sprung 3\",\"entfällt\")","v":"Verbindung Sprung 3"},null,{"$f":"IF(A33<>\"entfällt\",VLOOKUP(3,INDIRECT($C$73),2,0),\"\")","v":"42/"},{"$f":"IF(A33<>\"entfällt\",VLOOKUP(3,INDIRECT($C$73),3,0),\"\")","v":7},{"$f":"IF(A33<>\"entfällt\",VLOOKUP(3,INDIRECT($C$73),4,0),\"\")","v":3},2,{"$f":"IF(H2>12,\"Wert - Abzug\",\"entfällt\")","v":"Wert - Abzug"},5]
[{"$f":"IF($H$2>11,\"Verbindung Sprung 4\",\"entfällt\")","v":"Verbindung Sprung 4"},null,{"$f":"IF(A34<>\"entfällt\",VLOOKUP(4,INDIRECT($C$73),2,0),\"\")","v":"40°"},{"$f":"IF(A34<>\"entfällt\",VLOOKUP(4,INDIRECT($C$73),3,0),\"\")","v":5},{"$f":"IF(A34<>\"entfällt\",VLOOKUP(4,INDIRECT($C$73),4,0),\"\")","v":3},2,{"$f":"IF(H2>12,\"Wert - Abzug\",\"entfällt\")","v":"Wert - Abzug"},3]
[{"$f":"IF($H$2>11,\"Verbindung Sprung 5\",\"entfällt\")","v":"Verbindung Sprung 5"},null,{"$f":"IF(A35<>\"entfällt\",VLOOKUP(5,INDIRECT($C$73),2,0),\"\")","v":"41°"},{"$f":"IF(A35<>\"entfällt\",VLOOKUP(5,INDIRECT($C$73),3,0),\"\")","v":6},{"$f":"IF(A35<>\"entfällt\",VLOOKUP(5,INDIRECT($C$73),4,0),\"\")","v":3},1,{"$f":"IF(H2>12,\"Wert - Abzug\",\"entfällt\")","v":"Wert - Abzug"},5]
[{"$f":"IF($H$2>11,\"Verbindung Sprung 6\",\"entfällt\")","v":"Verbindung Sprung 6"},null,{"$f":"IF(A36<>\"entfällt\",VLOOKUP(6,INDIRECT($C$73),2,0),\"\")","v":"800°"},{"$f":"IF(A36<>\"entfällt\",VLOOKUP(6,INDIRECT($C$73),3,0),\"\")","v":10},{"$f":"IF(A36<>\"entfällt\",VLOOKUP(6,INDIRECT($C$73),4,0),\"\")","v":3},3,{"$f":"IF(H2>12,\"Wert - Abzug\",\"entfällt\")","v":"Wert - Abzug"},{"$f":"IF(A36=\"entfällt\",0,IF(F36=\"\",0,D36-F36))","v":7}]
["Gesamtpunktzahl Trampolin",null,null,null,null,null,null,{"$f":"SUM(H21:H36)","v":78.55}]
["Element",null,null,null,"Wert","Abzug","Berechnung","Punkte"]
[{"$f":"VLOOKUP(1,INDIRECT($C$70),2,0)","v":"Flugrolle mit Überstrecken mit Anlauf"},null,null,null,{"$f":"VLOOKUP(1,INDIRECT($C$70),3,0)","v":3},2,"Wert - Abzug",{"$f":"IF(E39=\" \",\"\",IF(F39=\"\",0,E39-F39))","v":1}]
[{"$f":"VLOOKUP(2,INDIRECT($C$70),2,0)","v":"--> Strecksprung, Salto vorwärts gehockt"},null,null,null,{"$f":"VLOOKUP(2,INDIRECT($C$70),3,0)","v":4.5},2.5,"Wert - Abzug",{"$f":"IF(E40=\" \",\"\",IF(F40=\"\",0,E40-F40))","v":2}]
[{"$f":"VLOOKUP(3,INDIRECT($C$70),2,0)","v":"Vorspreizen, Handstand mit 1/1 Drehung, abrollen"},null,null,null,{"$f":"VLOOKUP(3,INDIRECT($C$70),3,0)","v":3},1,"Wert - Abzug",2]
[{"$f":"VLOOKUP(4,INDIRECT($C$70),2,0)","v":"--> Aufstehen mit gestreckten Beinen"},null,null,null,{"$f":"VLOOKUP(4,INDIRECT($C$70),3,0)","v":3},null,"Wert - Abzug",0]
[{"$f":"VLOOKUP(5,INDIRECT($C$70),2,0)","v":"Vorspreizen, Bestellschritt, Strecksprung 3/2 Drehung"},null,null,null,{"$f":"VLOOKUP(5,INDIRECT($C$70),3,0)","v":3},null,"Wert - Abzug",0]
[{"$f":"VLOOKUP(6,INDIRECT($C$70),2,0)","v":"Salto rückwärts gehockt"},null,null,null,{"$f":"VLOOKUP(6,INDIRECT($C$70),3,0)","v":3},null,"Wert - Abzug",0]
[{"$f":"VLOOKUP(7,INDIRECT($C$70),2,0)","v":"Handstützüberschlag"},null,null,null,{"$f":"VLOOKUP(7,INDIRECT($C$70),3,0)","v":3},2,"Wert - Abzug",1]
[{"$f":"VLOOKUP(8,INDIRECT($C$70),2,0)","v":"--> Ansprung Schrittstellung, Handstand mit zwei Hüpfern"},null,null,null,{"$f":"VLOOKUP(8,INDIRECT($C$70),3,0)","v":3},2.5,"Wert - Abzug",0.5]
[{"$f":"VLOOKUP(9,INDIRECT($C$70),2,0)","v":"Abrollen --> Strecksprung 1/2 Drehung"},null,null,null,{"$f":"VLOOKUP(9,INDIRECT($C$70),3,0)","v":1.5},0,{"$f":"IF(H2>16,\"\",\"Wert - Abzug\")","v":"Wert - Abzug"},1.5]
[{"$f":"VLOOKUP(10,INDIRECT($C$70),2,0)","v":"Salto vorwärts gebückt mit Anlauf"},null,null,null,{"$f":"VLOOKUP(10,INDIRECT($C$70),3,0)","v":3},2,{"$f":"IF(H2>16,\"\",\"Wert - Abzug\")","v":"Wert - Abzug"},1]
[{"$f":"VLOOKUP(11,INDIRECT($C$70),2,0)","v":" "},null,null,null,{"$f":"VLOOKUP(11,INDIRECT($C$70),3,0)","v":" "},null,{"$f":"IF(H2>13,\"\",\"Wert - Abzug\")","v":""},""]
[{"$f":"VLOOKUP(12,INDIRECT($C$70),2,0)","v":" "},null,null,null,{"$f":"VLOOKUP(12,INDIRECT($C$70),3,0)","v":" "},null,{"$f":"IF(OR(H2=9,H2=12,H2=13),\"Wert - Abzug\",\"\")","v":""},""]
["Gesamtpunktzahl Bodenkomplexübung",null,null,null,null,null,null,{"$f":"SUM(H39:H50)","v":9}]
["Gesamtpunktzahl",null,null,null,null,null,null,{"$f":"SUM(H9,H19,H37,H51)","v":152.55000000000001}]
[]
[]
[null,"Shuttles",{"$f":"\"Shuttles_\"&F1&IF(H2=9,\"_9\",IF(H2<12,\"_10_11\",IF(H2<14,\"_12_13\",IF(H2<17,\"_14_16\",\"_17\"))))","v":"Shuttles_weiblich_14_16"}]
[null,null,{"$f":"\"Shuttles_\"&F1&IF(H2=9,\"_9\",IF(H2<12,\"_10_11\",IF(H2<14,\"_12_13\",IF(H2<17,\"_14_16\",\"_17\"))))&\"[Shuttle]\"","v":"Shuttles_weiblich_14_16[Shuttle]"}]
[null,null,{"$f":"\"Shuttles_\"&F1&IF(H2=9,\"_9\",IF(H2<12,\"_10_11\",IF(H2<14,\"_12_13\",IF(H2<17,\"_14_16\",\"_17\"))))&\"[Punkte]\"","v":"Shuttles_weiblich_14_16[Punkte]"}]
[]
[null,"G_TBN TN BKÜ",{"$f":"IF(H2<13,\"beide\",F1)","v":"weiblich"}]
[null,"AK",{"$f":"IF(OR(H2=9,H2=12),H2,IF(H2<12,\"10_11\",IF(H2<15,\"13_14\",IF(H2<17,\"15_16\",IF(H2<19,\"17_18\",19)))))","v":"13_14"}]
[]
[null,"TBN",{"$f":"\"TBN_\"&C59&\"_\"&C60","v":"TBN_weiblich_13_14"}]
[null,null,{"$f":"C62&\"[Beschreibung]\"","v":"TBN_weiblich_13_14[Beschreibung]"}]
[]
[null,"TN",{"$f":"\"TN_\"&C59&\"_\"&C60","v":"TN_weiblich_13_14"}]
[null,null,{"$f":"C65&\"[Beschreibung]\"","v":"TN_weiblich_13_14[Beschreibung]"}]
[]
[null,"TV",{"$f":"\"TV_\"&F1&\"_\"&C60","v":"TV_weiblich_13_14"}]
[]
[null,"BKÜ",{"$f":"\"BKÜ\"&IF(H2=9,\"_9\",IF(H2<12,\"_10_11\",IF(H2<14,\"_12_13\",IF(H2<17,\"_14_16\",\"_17\"))))","v":"BKÜ_14_16"}]
[]
[null,"G_TV",{"$f":"IF(H2<17,\"beide\",F1)","v":"beide"}]
[null,"TV",{"$f":"\"TV_\"&C72&\"_\"&C60","v":"TV_beide_13_14"}]
[]
[null,{"$f":"SUM(H19,H9,H51)","v":74},"Vergleichspunktzahl aus Kraft, Beweglichkeit, Grundlagenausdauer, Bodenübung"]
[null,{"$f":"IF(B75>95,\"Ja\",\"Nein\")","v":"Nein"},"Vergleichspunktzahl erfüllt?"]
[null,{"$f":"IF(F1=\"Weiblich\",VLOOKUP(H2,Punktetabellen!$D$43:$F$49,3,1),VLOOKUP(H2,Punktetabellen!$D$43:$F$49,2,1))","v":143},"Mindest-Gesamtwert"]
[null,{"$f":"IF(H52>=B77,\"Ja\",\"Nein\")","v":"Ja"},"Gesamtwert erfüllt?"]
[null,{"$f":"IF(AND(B76=\"Ja\",B78=\"Ja\"),\"Ja\",\"Nein\")","v":"Nein"},"Alles erfüllt?"]

{"sheet":"KolaSheridan","index":24,"n_rows":79,"n_cols":8,"rows_kept":79,"cut":false,"hidden":false,"merged":[[11,0,11,4],[0,1,0,4],[1,1,1,5],[2,0,2,4],[3,0,3,4],[4,0,4,4],[5,0,5,4],[6,0,6,4],[7,0,7,4],[8,0,8,6],[9,0,9,4],[10,0,10,4],[23,0,23,1],[12,0,12,4],[13,0,13,4],[14,0,14,4],[15,0,15,4],[16,0,16,1],[17,0,17,4],[18,0,18,6],[19,0,19,2],[20,0,20,2],[21,0,21,1],[22,0,22,1],[41,0,41,3],[30,0,30,1],[31,0,31,1],[32,0,32,1],[33,0,33,1],[34,0,34,1],[35,0,35,1],[36,0,36,6],[37,0,37,3],[38,0,38,3],[39,0,39,3],[40,0,40,3],[48,0,48,3],[49,0,49,3],[50,0,50,6],[51,0,51,6],[42,0,42,3],[43,0,43,3],[44,0,44,3],[45,0,45,3],[46,0,46,3],[47,0,47,3]]}
["Name","Kola, Sheridan",null,null,null,"weiblich","Jahrgang",2005]
["Verein","MTV Peine",null,null,null,null,"AK",{"$f":"2020-H1","v":15}]
["Übung",null,null,null,null,"Wert","Berechnung","Punkte"]
["Fußdehnung",null,null,null,null,10,"Bild",{"$f":"F4","v":10}]
["Briefmarke mit Armrumpfwinkel",null,null,null,null,10,"Bild",{"$f":"F5","v":10}]
["Bückbeweglichkeit",null,null,null,null,17,"Tabelle",{"$f":"IF(F6=\"\",0,VLOOKUP(F6,Punktetabellen!A10:B15,2,1))","v":6}]
["Querspagat links",null,null,null,null,0,"Tabelle",{"$f":"IF(F7=\"\",0,VLOOKUP(F7,Punktetabellen!A3:B6,2,0))","v":10}]
["Querspagat rechts",null,null,null,null,0,"Tabelle",{"$f":"IF(F8=\"\",0,VLOOKUP(F8,Punktetabellen!A3:B6,2,0))","v":10}]
["Gesamtpunktzahl Beweglichkeit",null,null,null,null,null,null,{"$f":"SUM(H4:H8)","v":46}]
["Übung",null,null,null,null,"Wert","Berechnung","Punktzahl"]
["Klimmzug",null,null,null,null,0,"Tabelle",{"$f":"IF(F11=\"\",0,IF(H2<12,VLOOKUP(F11,Punktetabellen!D4:F14,3,1),VLOOKUP(F11,Punktetabellen!E4:F14,2,1)))","v":0}]
["Beinheben",null,null,null,null,0,"Tabelle",{"$f":"IF(H2=9,VLOOKUP(F12,Punktetabellen!D19:F29,3,1),VLOOKUP(F12,Punktetabellen!E19:F29,2,1))","v":0}]
["Flieger",null,null,null,null,80,"Tabelle",{"$f":"IF(H2=9,VLOOKUP(F13,Punktetabellen!H4:K9,4,1),IF(H2<12,VLOOKUP(F13,Punktetabellen!I4:K9,3,1),VLOOKUP(F13,Punktetabellen!J4:K9,2,1)))","v":2}]
["Rollenverbindung",null,null,null,null,16,"Tabelle",{"$f":"IF(H2=9,VLOOKUP(F14,Punktetabellen!H14:K24,4,1),IF(H2<12,VLOOKUP(F14,Punktetabellen!I14:K24,3,1),VLOOKUP(F14,Punktetabellen!J14:K24,2,1)))","v":3}]
["Prellsprünge",null,null,null,null,6,"Tabelle",{"$f":"IF(H2=9,VLOOKUP(F15,Punktetabellen!M4:Q14,5,1),IF(H2<12,VLOOKUP(F15,Punktetabellen!N4:Q14,4,1),IF(H2<14,VLOOKUP(F15,Punktetabellen!O4:Q14,3,1),VLOOKUP(F15,Punktetabellen!P4:Q14,2,1))))","v":6}]
["Handstandstehen",null,null,null,null,30,"Tabelle",{"$f":"IF(F16=\"\",0,IF(H2<10,VLOOKUP(F16,Punktetabellen!D34:F40,3,1),VLOOKUP(F16,Punktetabellen!E34:F40,2,1)))","v":10}]
["Schweizer, Wiener",null,{"$f":"IF(H2<12,\"\",IF(AND(H2>13,H2<17),\"Schweizer: \",\"Wiener: \"))","v":"Schweizer: "},0,{"$f":"IF(H2<12,\"\",IF(AND(H2>13,H2<17),\"Wiener: \",\"Schweizer: \"))","v":"Wiener: "},0,"Tabelle",{"$f":"IF(H2<12,VLOOKUP(F17,Punktetabellen!A20:B25,2,1),((MIN(5,1*D17)*2)+MIN(MAX(0,5-(1*D17)),(1*F17))))","v":0}]
["Bleep-Test",null,null,null,null,"L5 S9","Tabelle",{"$f":"IF(F18=\"\",0,VLOOKUP(F18,INDIRECT(C55),2,0))","v":2}]
["Gesamtpunktzahl Kraft/Kondition",null,null,null,null,null,null,{"$f":"SUM(H11:H18)","v":23}]
["Übung",null,null,"Max / Soll","Max. Abzug","Abzug / Ist","Berechnung","Punkte"]
["Standsprunghöhe",null,null,{"$f":"IF(F1=\"männlich\",VLOOKUP(H2,Standsprünge!A3:C15,3,0),VLOOKUP(H2,Standsprünge!A3:B15,2,0))","v":16},null,null,"(Ist - Soll) x 10",{"$f":"IF(F21=\"\",0,(F21-D21)*10)","v":0}]
[{"$f":"IF(H2>16,\"entfällt\",\"TBN\")","v":"TBN"},null,null,{"$f":"IF(C22=\"\",\"\",VLOOKUP(C22,INDIRECT($C$62),2,0))","v":""},{"$f":"IF(C22=\"\",\"\",VLOOKUP(C22,INDIRECT($C$62),3,0))","v":""},null,{"$f":"IF(H2>16,\"entfällt\",\"Wert - Abzug\")","v":"Wert - Abzug"},{"$f":"IF(A22=\"entfällt\",0,IF(F22=\"\",0,D22-F22))","v":0}]
[{"$f":"IF(H2>16,\"entfällt\",\"TBN\")","v":"TBN"},null,null,{"$f":"IF(C23=\"\",\"\",VLOOKUP(C23,INDIRECT($C$62),2,0))","v":""},{"$f":"IF(C23=\"\",\"\",VLOOKUP(C23,INDIRECT($C$62),3,0))","v":""},null,{"$f":"IF(H2>16,\"entfällt\",\"Wert - Abzug\")","v":"Wert - Abzug"},{"$f":"IF(A23=\"entfällt\",0,IF(F23=\"\",0,D23-F23))","v":0}]
[{"$f":"IF(H2>12,\"entfällt\",\"TBN\")","v":"entfällt"},null,null,{"$f":"IF(C24=\"\",\"\",VLOOKUP(C24,INDIRECT($C$62),2,0))","v":""},{"$f":"IF(C24=\"\",\"\",VLOOKUP(C24,INDIRECT($C$62),3,0))","v":""},null,{"$f":"IF(H2>16,\"entfällt\",\"Wert - Abzug\")","v":"Wert - Abzug"},0]
["TN",{"$f":"IF(C25=\"\",\"\",VLOOKUP(C25,INDIRECT($C$65),2,0))","v":""},null,{"$f":"IF(C25=\"\",\"\",VLOOKUP(C25,INDIRECT($C$65),3,0))","v":""},{"$f":"IF(C25=\"\",\"\",VLOOKUP(C25,INDIRECT($C$65),4,0))","v":""},null,"Wert - Abzug",0]
["TN","",null,"","",null,"Wert - Abzug",0]
["TN","",null,"","",null,"Wert - Abzug",0]
[{"$f":"IF(H2>12,\"TN\",\"entfällt\")","v":"TN"},"",null,"","",null,{"$f":"IF(H2>12,\"Wert - Abzug\",\"entfällt\")","v":"Wert - Abzug"},0]
[{"$f":"IF(H2>16,\"TN\",\"entfällt\")","v":"entfällt"},"",null,"","",null,{"$f":"IF(H2>16,\"Wert - Abzug\",\"entfällt\")","v":"entfällt"},0]
[{"$f":"IF(H2>16,\"TN\",\"entfällt\")","v":"entfällt"},"",null,"","",null,{"$f":"IF(H2>16,\"Wert - Abzug\",\"entfällt\")","v":"entfällt"},{"$f":"IF(A30=\"entfällt\",0,IF(F30=\"\",0,D30-F30))","v":0}]
[{"$f":"IF($H$2>11,\"Verbindung Sprung 1\",\"entfällt\")","v":"Verbindung Sprung 1"},null,{"$f":"IF(A31<>\"entfällt\",VLOOKUP(1,INDIRECT($C$73),2,0),\"\")","v":"801<"},{"$f":"IF(A31<>\"entfällt\",VLOOKUP(1,INDIRECT($C$73),3,0),\"\")","v":13},{"$f":"IF(A31<>\"entfällt\",VLOOKUP(1,INDIRECT($C$73),4,0),\"\")","v":3},null,{"$f":"IF(H2>12,\"Wert - Abzug\",\"entfällt\")","v":"Wert - Abzug"},{"$f":"IF(A31=\"entfällt\",0,IF(F31=\"\",0,D31-F31))","v":0}]
[{"$f":"IF($H$2>11,\"Verbindung Sprung 2\",\"entfällt\")","v":"Verbindung Sprung 2"},null,{"$f":"IF(A32<>\"entfällt\",VLOOKUP(2,INDIRECT($C$73),2,0),\"\")","v":"40<"},{"$f":"IF(A32<>\"entfällt\",VLOOKUP(2,INDIRECT($C$73),3,0),\"\")","v":6},{"$f":"IF(A32<>\"entfällt\",VLOOKUP(2,INDIRECT($C$73),4,0),\"\")","v":3},null,{"$f":"IF(H2>12,\"Wert - Abzug\",\"entfällt\")","v":"Wert - Abzug"},{"$f":"IF(A32=\"entfällt\",0,IF(F32=\"\",0,D32-F32))","v":0}]
[{"$f":"IF($H$2>11,\"Verbindung Sprung 3\",\"entfällt\")","v":"Verbindung Sprung 3"},null,{"$f":"IF(A33<>\"entfällt\",VLOOKUP(3,INDIRECT($C$73),2,0),\"\")","v":"801°"},{"$f":"IF(A33<>\"entfällt\",VLOOKUP(3,INDIRECT($C$73),3,0),\"\")","v":11},{"$f":"IF(A33<>\"entfällt\",VLOOKUP(3,INDIRECT($C$73),4,0),\"\")","v":3},null,{"$f":"IF(H2>12,\"Wert - Abzug\",\"entfällt\")","v":"Wert - Abzug"},0]
[{"$f":"IF($H$2>11,\"Verbindung Sprung 4\",\"entfällt\")","v":"Verbindung Sprung 4"},null,{"$f":"IF(A34<>\"entfällt\",VLOOKUP(4,INDIRECT($C$73),2,0),\"\")","v":"40/"},{"$f":"IF(A34<>\"entfällt\",VLOOKUP(4,INDIRECT($C$73),3,0),\"\")","v":6},{"$f":"IF(A34<>\"entfällt\",VLOOKUP(4,INDIRECT($C$73),4,0),\"\")","v":3},null,{"$f":"IF(H2>12,\"Wert - Abzug\",\"entfällt\")","v":"Wert - Abzug"},0]
[{"$f":"IF($H$2>11,\"Verbindung Sprung 5\",\"entfällt\")","v":"Verbindung Sprung 5"},null,{"$f":"IF(A35<>\"entfällt\",VLOOKUP(5,INDIRECT($C$73),2,0),\"\")","v":"41/"},{"$f":"IF(A35<>\"entfällt\",VLOOKUP(5,INDIRECT($C$73),3,0),\"\")","v":6},{"$f":"IF(A35<>\"entfällt\",VLOOKUP(5,INDIRECT($C$73),4,0),\"\")","v":3},null,{"$f":"IF(H2>12,\"Wert - Abzug\",\"entfällt\")","v":"Wert - Abzug"},0]
[{"$f":"IF($H$2>11,\"Verbindung Sprung 6\",\"entfällt\")","v":"Verbindung Sprung 6"},null,{"$f":"IF(A36<>\"entfällt\",VLOOKUP(6,INDIRECT($C$73),2,0),\"\")","v":"800°"},{"$f":"IF(A36<>\"entfällt\",VLOOKUP(6,INDIRECT($C$73),3,0),\"\")","v":10},{"$f":"IF(A36<>\"entfällt\",VLOOKUP(6,INDIRECT($C$73),4,0),\"\")","v":3},null,{"$f":"IF(H2>12,\"Wert - Abzug\",\"entfällt\")","v":"Wert - Abzug"},{"$f":"IF(A36=\"entfällt\",0,IF(F36=\"\",0,D36-F36))","v":0}]
["Gesamtpunktzahl Trampolin",null,null,null,null,null,null,{"$f":"SUM(H21:H36)","v":0}]
["Element",null,null,null,"Wert","Abzug","Berechnung","Punkte"]
[{"$f":"VLOOKUP(1,INDIRECT($C$70),2,0)","v":"Flugrolle mit Überstrecken mit Anlauf"},null,null,null,{"$f":"VLOOKUP(1,INDIRECT($C$70),3,0)","v":3},0.5,"Wert - Abzug",{"$f":"IF(E39=\" \",\"\",IF(F39=\"\",0,E39-F39))","v":2.5}]
[{"$f":"VLOOKUP(2,INDIRECT($C$70),2,0)","v":"--> Strecksprung, Salto vorwärts gehockt"},null,null,null,{"$f":"VLOOKUP(2,INDIRECT($C$70),3,0)","v":4.5},null,"Wert - Abzug",{"$f":"IF(E40=\" \",\"\",IF(F40=\"\",0,E40-F40))","v":0}]
[{"$f":"VLOOKUP(3,INDIRECT($C$70),2,0)","v":"Vorspreizen, Handstand mit 1/1 Drehung, abrollen"},null,null,null,{"$f":"VLOOKUP(3,INDIRECT($C$70),3,0)","v":3},0,"Wert - Abzug",3]
[{"$f":"VLOOKUP(4,INDIRECT($C$70),2,0)","v":"--> Aufstehen mit gestreckten Beinen"},null,null,null,{"$f":"VLOOKUP(4,INDIRECT($C$70),3,0)","v":3},null,"Wert - Abzug",0]
[{"$f":"VLOOKUP(5,INDIRECT($C$70),2,0)","v":"Vorspreizen, Bestellschritt, Strecksprung 3/2 Drehung"},null,null,null,{"$f":"VLOOKUP(5,INDIRECT($C$70),3,0)","v":3},1.5,"Wert - Abzug",1.5]
[{"$f":"VLOOKUP(6,INDIRECT($C$70),2,0)","v":"Salto rückwärts gehockt"},null,null,null,{"$f":"VLOOKUP(6,INDIRECT($C$70),3,0)","v":3},null,"Wert - Abzug",0]
[{"$f":"VLOOKUP(7,INDIRECT($C$70),2,0)","v":"Handstützüberschlag"},null,null,null,{"$f":"VLOOKUP(7,INDIRECT($C$70),3,0)","v":3},1.5,"Wert - Abzug",1.5]
[{"$f":"VLOOKUP(8,INDIRECT($C$70),2,0)","v":"--> Ansprung Schrittstellung, Handstand mit zwei Hüpfern"},null,null,null,{"$f":"VLOOKUP(8,INDIRECT($C$70),3,0)","v":3},0,"Wert - Abzug",3]
[{"$f":"VLOOKUP(9,INDIRECT($C$70),2,0)","v":"Abrollen --> Strecksprung 1/2 Drehung"},null,null,null,{"$f":"VLOOKUP(9,INDIRECT($C$70),3,0)","v":1.5},0.5,{"$f":"IF(H2>16,\"\",\"Wert - Abzug\")","v":"Wert - Abzug"},1]
[{"$f":"VLOOKUP(10,INDIRECT($C$70),2,0)","v":"Salto vorwärts gebückt mit Anlauf"},null,null,null,{"$f":"VLOOKUP(10,INDIRECT($C$70),3,0)","v":3},null,{"$f":"IF(H2>16,\"\",\"Wert - Abzug\")","v":"Wert - Abzug"},0]
[{"$f":"VLOOKUP(11,INDIRECT($C$70),2,0)","v":" "},null,null,null,{"$f":"VLOOKUP(11,INDIRECT($C$70),3,0)","v":" "},null,{"$f":"IF(H2>13,\"\",\"Wert - Abzug\")","v":""},""]
[{"$f":"VLOOKUP(12,INDIRECT($C$70),2,0)","v":" "},null,null,null,{"$f":"VLOOKUP(12,INDIRECT($C$70),3,0)","v":" "},null,{"$f":"IF(OR(H2=9,H2=12,H2=13),\"Wert - Abzug\",\"\")","v":""},""]
["Gesamtpunktzahl Bodenkomplexübung",null,null,null,null,null,null,{"$f":"SUM(H39:H50)","v":12.5}]
["Gesamtpunktzahl",null,null,null,null,null,null,{"$f":"SUM(H9,H19,H37,H51)","v":81.5}]
[]
[]
[null,"Shuttles",{"$f":"\"Shuttles_\"&F1&IF(H2=9,\"_9\",IF(H2<12,\"_10_11\",IF(H2<14,\"_12_13\",IF(H2<17,\"_14_16\",\"_17\"))))","v":"Shuttles_weiblich_14_16"}]
[null,null,{"$f":"\"Shuttles_\"&F1&IF(H2=9,\"_9\",IF(H2<12,\"_10_11\",IF(H2<14,\"_12_13\",IF(H2<17,\"_14_16\",\"_17\"))))&\"[Shuttle]\"","v":"Shuttles_weiblich_14_16[Shuttle]"}]
[null,null,{"$f":"\"Shuttles_\"&F1&IF(H2=9,\"_9\",IF(H2<12,\"_10_11\",IF(H2<14,\"_12_13\",IF(H2<17,\"_14_16\",\"_17\"))))&\"[Punkte]\"","v":"Shuttles_weiblich_14_16[Punkte]"}]
[]
[null,"G_TBN TN BKÜ",{"$f":"IF(H2<13,\"beide\",F1)","v":"weiblich"}]
[null,"AK",{"$f":"IF(OR(H2=9,H2=12),H2,IF(H2<12,\"10_11\",IF(H2<15,\"13_14\",IF(H2<17,\"15_16\",IF(H2<19,\"17_18\",19)))))","v":"15_16"}]
[]
[null,"TBN",{"$f":"\"TBN_\"&C59&\"_\"&C60","v":"TBN_weiblich_15_16"}]
[null,null,{"$f":"C62&\"[Beschreibung]\"","v":"TBN_weiblich_15_16[Beschreibung]"}]
[]
[null,"TN",{"$f":"\"TN_\"&C59&\"_\"&C60","v":"TN_weiblich_15_16"}]
[null,null,{"$f":"C65&\"[Beschreibung]\"","v":"TN_weiblich_15_16[Beschreibung]"}]
[]
[null,"TV",{"$f":"\"TV_\"&F1&\"_\"&C60","v":"TV_weiblich_15_16"}]
[]
[null,"BKÜ",{"$f":"\"BKÜ\"&IF(H2=9,\"_9\",IF(H2<12,\"_10_11\",IF(H2<14,\"_12_13\",IF(H2<17,\"_14_16\",\"_17\"))))","v":"BKÜ_14_16"}]
[]
[null,"G_TV",{"$f":"IF(H2<17,\"beide\",F1)","v":"beide"}]
[null,"TV",{"$f":"\"TV_\"&C72&\"_\"&C60","v":"TV_beide_15_16"}]
[]
[null,{"$f":"SUM(H19,H9,H51)","v":81.5},"Vergleichspunktzahl aus Kraft, Beweglichkeit, Grundlagenausdauer, Bodenübung"]
[null,{"$f":"IF(B75>95,\"Ja\",\"Nein\")","v":"Nein"},"Vergleichspunktzahl erfüllt?"]
[null,{"$f":"IF(F1=\"Weiblich\",VLOOKUP(H2,Punktetabellen!$D$43:$F$49,3,1),VLOOKUP(H2,Punktetabellen!$D$43:$F$49,2,1))","v":159},"Mindest-Gesamtwert"]
[null,{"$f":"IF(H52>=B77,\"Ja\",\"Nein\")","v":"Nein"},"Gesamtwert erfüllt?"]
[null,{"$f":"IF(AND(B76=\"Ja\",B78=\"Ja\"),\"Ja\",\"Nein\")","v":"Nein"},"Alles erfüllt?"]

{"sheet":"ZimmerhackelJana","index":25,"n_rows":79,"n_cols":8,"rows_kept":79,"cut":false,"hidden":false,"merged":[[11,0,11,4],[0,1,0,4],[1,1,1,5],[2,0,2,4],[3,0,3,4],[4,0,4,4],[5,0,5,4],[6,0,6,4],[7,0,7,4],[8,0,8,6],[9,0,9,4],[10,0,10,4],[23,0,23,1],[12,0,12,4],[13,0,13,4],[14,0,14,4],[15,0,15,4],[16,0,16,1],[17,0,17,4],[18,0,18,6],[19,0,19,2],[20,0,20,2],[21,0,21,1],[22,0,22,1],[41,0,41,3],[30,0,30,1],[31,0,31,1],[32,0,32,1],[33,0,33,1],[34,0,34,1],[35,0,35,1],[36,0,36,6],[37,0,37,3],[38,0,38,3],[39,0,39,3],[40,0,40,3],[48,0,48,3],[49,0,49,3],[50,0,50,6],[51,0,51,6],[42,0,42,3],[43,0,43,3],[44,0,44,3],[45,0,45,3],[46,0,46,3],[47,0,47,3]]}
["Name","Zimmerhackel, Jana",null,null,null,"weiblich","Jahrgang",2003]
["Verein","MTV Stuttgart",null,null,null,null,"AK",{"$f":"2020-H1","v":17}]
["Übung",null,null,null,null,"Wert","Berechnung","Punkte"]
["Fußdehnung",null,null,null,null,null,"Bild",{"$f":"F4","v":0}]
["Briefmarke mit Armrumpfwinkel",null,null,null,null,6,"Bild",{"$f":"F5","v":6}]
["Bückbeweglichkeit",null,null,null,null,22,"Tabelle",{"$f":"IF(F6=\"\",0,VLOOKUP(F6,Punktetabellen!A10:B15,2,1))","v":10}]
["Querspagat links",null,null,null,null,0,"Tabelle",{"$f":"IF(F7=\"\",0,VLOOKUP(F7,Punktetabellen!A3:B6,2,0))","v":10}]
["Querspagat rechts",null,null,null,null,0,"Tabelle",{"$f":"IF(F8=\"\",0,VLOOKUP(F8,Punktetabellen!A3:B6,2,0))","v":10}]
["Gesamtpunktzahl Beweglichkeit",null,null,null,null,null,null,{"$f":"SUM(H4:H8)","v":36}]
["Übung",null,null,null,null,"Wert","Berechnung","Punktzahl"]
["Klimmzug",null,null,null,null,5,"Tabelle",{"$f":"IF(F11=\"\",0,IF(H2<12,VLOOKUP(F11,Punktetabellen!D4:F14,3,1),VLOOKUP(F11,Punktetabellen!E4:F14,2,1)))","v":0}]
["Beinheben",null,null,null,null,8,"Tabelle",{"$f":"IF(H2=9,VLOOKUP(F12,Punktetabellen!D19:F29,3,1),VLOOKUP(F12,Punktetabellen!E19:F29,2,1))","v":4}]
["Flieger",null,null,null,null,100,"Tabelle",{"$f":"IF(H2=9,VLOOKUP(F13,Punktetabellen!H4:K9,4,1),IF(H2<12,VLOOKUP(F13,Punktetabellen!I4:K9,3,1),VLOOKUP(F13,Punktetabellen!J4:K9,2,1)))","v":6}]
["Rollenverbindung",null,null,null,null,29,"Tabelle",{"$f":"IF(H2=9,VLOOKUP(F14,Punktetabellen!H14:K24,4,1),IF(H2<12,VLOOKUP(F14,Punktetabellen!I14:K24,3,1),VLOOKUP(F14,Punktetabellen!J14:K24,2,1)))","v":10}]
["Prellsprünge",null,null,null,null,null,"Tabelle",{"$f":"IF(H2=9,VLOOKUP(F15,Punktetabellen!M4:Q14,5,1),IF(H2<12,VLOOKUP(F15,Punktetabellen!N4:Q14,4,1),IF(H2<14,VLOOKUP(F15,Punktetabellen!O4:Q14,3,1),VLOOKUP(F15,Punktetabellen!P4:Q14,2,1))))","v":0}]
["Handstandstehen",null,null,null,null,10,"Tabelle",{"$f":"IF(F16=\"\",0,IF(H2<10,VLOOKUP(F16,Punktetabellen!D34:F40,3,1),VLOOKUP(F16,Punktetabellen!E34:F40,2,1)))","v":2}]
["Schweizer, Wiener",null,{"$f":"IF(H2<12,\"\",IF(AND(H2>13,H2<17),\"Schweizer: \",\"Wiener: \"))","v":"Wiener: "},0,{"$f":"IF(H2<12,\"\",IF(AND(H2>13,H2<17),\"Wiener: \",\"Schweizer: \"))","v":"Schweizer: "},0,"Tabelle",{"$f":"IF(H2<12,VLOOKUP(F17,Punktetabellen!A20:B25,2,1),((MIN(5,1*D17)*2)+MIN(MAX(0,5-(1*D17)),(1*F17))))","v":0}]
["Bleep-Test",null,null,null,null,null,"Tabelle",{"$f":"IF(F18=\"\",0,VLOOKUP(F18,INDIRECT(C55),2,0))","v":0}]
["Gesamtpunktzahl Kraft/Kondition",null,null,null,null,null,null,{"$f":"SUM(H11:H18)","v":22}]
["Übung",null,null,"Max / Soll","Max. Abzug","Abzug / Ist","Berechnung","Punkte"]
["Standsprunghöhe",null,null,{"$f":"IF(F1=\"männlich\",VLOOKUP(H2,Standsprünge!A3:C15,3,0),VLOOKUP(H2,Standsprünge!A3:B15,2,0))","v":16.3},null,null,"(Ist - Soll) x 10",{"$f":"IF(F21=\"\",0,(F21-D21)*10)","v":0}]
[{"$f":"IF(H2>16,\"entfällt\",\"TBN\")","v":"entfällt"},null,null,{"$f":"IF(C22=\"\",\"\",VLOOKUP(C22,INDIRECT($C$62),2,0))","v":""},{"$f":"IF(C22=\"\",\"\",VLOOKUP(C22,INDIRECT($C$62),3,0))","v":""},null,{"$f":"IF(H2>16,\"entfällt\",\"Wert - Abzug\")","v":"entfällt"},{"$f":"IF(A22=\"entfällt\",0,IF(F22=\"\",0,D22-F22))","v":0}]
[{"$f":"IF(H2>16,\"entfällt\",\"TBN\")","v":"entfällt"},null,null,{"$f":"IF(C23=\"\",\"\",VLOOKUP(C23,INDIRECT($C$62),2,0))","v":""},{"$f":"IF(C23=\"\",\"\",VLOOKUP(C23,INDIRECT($C$62),3,0))","v":""},null,{"$f":"IF(H2>16,\"entfällt\",\"Wert - Abzug\")","v":"entfällt"},{"$f":"IF(A23=\"entfällt\",0,IF(F23=\"\",0,D23-F23))","v":0}]
[{"$f":"IF(H2>12,\"entfällt\",\"TBN\")","v":"entfällt"},null,null,{"$f":"IF(C24=\"\",\"\",VLOOKUP(C24,INDIRECT($C$62),2,0))","v":""},{"$f":"IF(C24=\"\",\"\",VLOOKUP(C24,INDIRECT($C$62),3,0))","v":""},null,{"$f":"IF(H2>16,\"entfällt\",\"Wert - Abzug\")","v":"entfällt"},0]
["TN",{"$f":"IF(C25=\"\",\"\",VLOOKUP(C25,INDIRECT($C$65),2,0))","v":""},null,{"$f":"IF(C25=\"\",\"\",VLOOKUP(C25,INDIRECT($C$65),3,0))","v":""},{"$f":"IF(C25=\"\",\"\",VLOOKUP(C25,INDIRECT($C$65),4,0))","v":""},null,"Wert - Abzug",0]
["TN","",null,"","",null,"Wert - Abzug",0]
["TN","",null,"","",null,"Wert - Abzug",0]
[{"$f":"IF(H2>12,\"TN\",\"entfällt\")","v":"TN"},"",null,"","",null,{"$f":"IF(H2>12,\"Wert - Abzug\",\"entfällt\")","v":"Wert - Abzug"},0]
[{"$f":"IF(H2>16,\"TN\",\"entfällt\")","v":"TN"},"",null,"","",null,{"$f":"IF(H2>16,\"Wert - Abzug\",\"entfällt\")","v":"Wert - Abzug"},0]
[{"$f":"IF(H2>16,\"TN\",\"entfällt\")","v":"TN"},"",null,"","",null,{"$f":"IF(H2>16,\"Wert - Abzug\",\"entfällt\")","v":"Wert - Abzug"},{"$f":"IF(A30=\"entfällt\",0,IF(F30=\"\",0,D30-F30))","v":0}]
[{"$f":"IF($H$2>11,\"Verbindung Sprung 1\",\"entfällt\")","v":"Verbindung Sprung 1"},null,{"$f":"IF(A31<>\"entfällt\",VLOOKUP(1,INDIRECT($C$73),2,0),\"\")","v":"803<"},{"$f":"IF(A31<>\"entfällt\",VLOOKUP(1,INDIRECT($C$73),3,0),\"\")","v":15},{"$f":"IF(A31<>\"entfällt\",VLOOKUP(1,INDIRECT($C$73),4,0),\"\")","v":3},null,{"$f":"IF(H2>12,\"Wert - Abzug\",\"entfällt\")","v":"Wert - Abzug"},{"$f":"IF(A31=\"entfällt\",0,IF(F31=\"\",0,D31-F31))","v":0}]
[{"$f":"IF($H$2>11,\"Verbindung Sprung 2\",\"entfällt\")","v":"Verbindung Sprung 2"},null,{"$f":"IF(A32<>\"entfällt\",VLOOKUP(2,INDIRECT($C$73),2,0),\"\")","v":"40<"},{"$f":"IF(A32<>\"entfällt\",VLOOKUP(2,INDIRECT($C$73),3,0),\"\")","v":6},{"$f":"IF(A32<>\"entfällt\",VLOOKUP(2,INDIRECT($C$73),4,0),\"\")","v":3},null,{"$f":"IF(H2>12,\"Wert - Abzug\",\"entfällt\")","v":"Wert - Abzug"},{"$f":"IF(A32=\"entfällt\",0,IF(F32=\"\",0,D32-F32))","v":0}]
[{"$f":"IF($H$2>11,\"Verbindung Sprung 3\",\"entfällt\")","v":"Verbindung Sprung 3"},null,{"$f":"IF(A33<>\"entfällt\",VLOOKUP(3,INDIRECT($C$73),2,0),\"\")","v":"801<"},{"$f":"IF(A33<>\"entfällt\",VLOOKUP(3,INDIRECT($C$73),3,0),\"\")","v":13},{"$f":"IF(A33<>\"entfällt\",VLOOKUP(3,INDIRECT($C$73),4,0),\"\")","v":3},null,{"$f":"IF(H2>12,\"Wert - Abzug\",\"entfällt\")","v":"Wert - Abzug"},0]
[{"$f":"IF($H$2>11,\"Verbindung Sprung 4\",\"entfällt\")","v":"Verbindung Sprung 4"},null,{"$f":"IF(A34<>\"entfällt\",VLOOKUP(4,INDIRECT($C$73),2,0),\"\")","v":"40/"},{"$f":"IF(A34<>\"entfällt\",VLOOKUP(4,INDIRECT($C$73),3,0),\"\")","v":6},{"$f":"IF(A34<>\"entfällt\",VLOOKUP(4,INDIRECT($C$73),4,0),\"\")","v":3},null,{"$f":"IF(H2>12,\"Wert - Abzug\",\"entfällt\")","v":"Wert - Abzug"},0]
[{"$f":"IF($H$2>11,\"Verbindung Sprung 5\",\"entfällt\")","v":"Verbindung Sprung 5"},null,{"$f":"IF(A35<>\"entfällt\",VLOOKUP(5,INDIRECT($C$73),2,0),\"\")","v":"41/"},{"$f":"IF(A35<>\"entfällt\",VLOOKUP(5,INDIRECT($C$73),3,0),\"\")","v":6},{"$f":"IF(A35<>\"entfällt\",VLOOKUP(5,INDIRECT($C$73),4,0),\"\")","v":3},null,{"$f":"IF(H2>12,\"Wert - Abzug\",\"entfällt\")","v":"Wert - Abzug"},0]
[{"$f":"IF($H$2>11,\"Verbindung Sprung 6\",\"entfällt\")","v":"Verbindung Sprung 6"},null,{"$f":"IF(A36<>\"entfällt\",VLOOKUP(6,INDIRECT($C$73),2,0),\"\")","v":"811°"},{"$f":"IF(A36<>\"entfällt\",VLOOKUP(6,INDIRECT($C$73),3,0),\"\")","v":12},{"$f":"IF(A36<>\"entfällt\",VLOOKUP(6,INDIRECT($C$73),4,0),\"\")","v":3},null,{"$f":"IF(H2>12,\"Wert - Abzug\",\"entfällt\")","v":"Wert - Abzug"},{"$f":"IF(A36=\"entfällt\",0,IF(F36=\"\",0,D36-F36))","v":0}]
["Gesamtpunktzahl Trampolin",null,null,null,null,null,null,{"$f":"SUM(H21:H36)","v":0}]
["Element",null,null,null,"Wert","Abzug","Berechnung","Punkte"]
[{"$f":"VLOOKUP(1,INDIRECT($C$70),2,0)","v":"Salto vorwärts gehockt aus dem Stand"},null,null,null,{"$f":"VLOOKUP(1,INDIRECT($C$70),3,0)","v":5},null,"Wert - Abzug",{"$f":"IF(E39=\" \",\"\",IF(F39=\"\",0,E39-F39))","v":0}]
[{"$f":"VLOOKUP(2,INDIRECT($C$70),2,0)","v":"Vorspreizen, Bestellschritt, Strecksprung 3/2 Drehung"},null,null,null,{"$f":"VLOOKUP(2,INDIRECT($C$70),3,0)","v":3},null,"Wert - Abzug",{"$f":"IF(E40=\" \",\"\",IF(F40=\"\",0,E40-F40))","v":0}]
[{"$f":"VLOOKUP(3,INDIRECT($C$70),2,0)","v":"Rolle rückwärts durch Handstand mit 1/2 Drehung"},null,null,null,{"$f":"VLOOKUP(3,INDIRECT($C$70),3,0)","v":4},null,"Wert - Abzug",0]
[{"$f":"VLOOKUP(4,INDIRECT($C$70),2,0)","v":"--> Strecksprung --> Salto vorwärts gehockt"},null,null,null,{"$f":"VLOOKUP(4,INDIRECT($C$70),3,0)","v":4},null,"Wert - Abzug",0]
[{"$f":"VLOOKUP(5,INDIRECT($C$70),2,0)","v":"Wiener, 1/2 Drehung, absenken zum Stand"},null,null,null,{"$f":"VLOOKUP(5,INDIRECT($C$70),3,0)","v":4},null,"Wert - Abzug",0]
[{"$f":"VLOOKUP(6,INDIRECT($C$70),2,0)","v":"Handstand mit zwei Hüpfern, abrollen"},null,null,null,{"$f":"VLOOKUP(6,INDIRECT($C$70),3,0)","v":2},null,"Wert - Abzug",0]
[{"$f":"VLOOKUP(7,INDIRECT($C$70),2,0)","v":"--> aufstehen mit gestreckten Beinen"},null,null,null,{"$f":"VLOOKUP(7,INDIRECT($C$70),3,0)","v":3},null,"Wert - Abzug",0]
[{"$f":"VLOOKUP(8,INDIRECT($C$70),2,0)","v":"Salto rückwärts gebückt"},null,null,null,{"$f":"VLOOKUP(8,INDIRECT($C$70),3,0)","v":5},null,"Wert - Abzug",0]
[{"$f":"VLOOKUP(9,INDIRECT($C$70),2,0)","v":" "},null,null,null,{"$f":"VLOOKUP(9,INDIRECT($C$70),3,0)","v":" "},null,{"$f":"IF(H2>16,\"\",\"Wert - Abzug\")","v":""},""]
[{"$f":"VLOOKUP(10,INDIRECT($C$70),2,0)","v":" "},null,null,null,{"$f":"VLOOKUP(10,INDIRECT($C$70),3,0)","v":" "},null,{"$f":"IF(H2>16,\"\",\"Wert - Abzug\")","v":""},""]
[{"$f":"VLOOKUP(11,INDIRECT($C$70),2,0)","v":" "},null,null,null,{"$f":"VLOOKUP(11,INDIRECT($C$70),3,0)","v":" "},null,{"$f":"IF(H2>13,\"\",\"Wert - Abzug\")","v":""},""]
[{"$f":"VLOOKUP(12,INDIRECT($C$70),2,0)","v":" "},null,null,null,{"$f":"VLOOKUP(12,INDIRECT($C$70),3,0)","v":" "},null,{"$f":"IF(OR(H2=9,H2=12,H2=13),\"Wert - Abzug\",\"\")","v":""},""]
["Gesamtpunktzahl Bodenkomplexübung",null,null,null,null,null,null,{"$f":"SUM(H39:H50)","v":0}]
["Gesamtpunktzahl",null,null,null,null,null,null,{"$f":"SUM(H9,H19,H37,H51)","v":58}]
[]
[]
[null,"Shuttles",{"$f":"\"Shuttles_\"&F1&IF(H2=9,\"_9\",IF(H2<12,\"_10_11\",IF(H2<14,\"_12_13\",IF(H2<17,\"_14_16\",\"_17\"))))","v":"Shuttles_weiblich_17"}]
[null,null,{"$f":"\"Shuttles_\"&F1&IF(H2=9,\"_9\",IF(H2<12,\"_10_11\",IF(H2<14,\"_12_13\",IF(H2<17,\"_14_16\",\"_17\"))))&\"[Shuttle]\"","v":"Shuttles_weiblich_17[Shuttle]"}]
[null,null,{"$f":"\"Shuttles_\"&F1&IF(H2=9,\"_9\",IF(H2<12,\"_10_11\",IF(H2<14,\"_12_13\",IF(H2<17,\"_14_16\",\"_17\"))))&\"[Punkte]\"","v":"Shuttles_weiblich_17[Punkte]"}]
[]
[null,"G_TBN TN BKÜ",{"$f":"IF(H2<13,\"beide\",F1)","v":"weiblich"}]
[null,"AK",{"$f":"IF(OR(H2=9,H2=12),H2,IF(H2<12,\"10_11\",IF(H2<15,\"13_14\",IF(H2<17,\"15_16\",IF(H2<19,\"17_18\",19)))))","v":"17_18"}]
[]
[null,"TBN",{"$f":"\"TBN_\"&C59&\"_\"&C60","v":"TBN_weiblich_17_18"}]
[null,null,{"$f":"C62&\"[Beschreibung]\"","v":"TBN_weiblich_17_18[Beschreibung]"}]
[]
[null,"TN",{"$f":"\"TN_\"&C59&\"_\"&C60","v":"TN_weiblich_17_18"}]
[null,null,{"$f":"C65&\"[Beschreibung]\"","v":"TN_weiblich_17_18[Beschreibung]"}]
[]
[null,"TV",{"$f":"\"TV_\"&F1&\"_\"&C60","v":"TV_weiblich_17_18"}]
[]
[null,"BKÜ",{"$f":"\"BKÜ\"&IF(H2=9,\"_9\",IF(H2<12,\"_10_11\",IF(H2<14,\"_12_13\",IF(H2<17,\"_14_16\",\"_17\"))))","v":"BKÜ_17"}]
[]
[null,"G_TV",{"$f":"IF(H2<17,\"beide\",F1)","v":"weiblich"}]
[null,"TV",{"$f":"\"TV_\"&C72&\"_\"&C60","v":"TV_weiblich_17_18"}]
[]
[null,{"$f":"SUM(H19,H9,H51)","v":58},"Vergleichspunktzahl aus Kraft, Beweglichkeit, Grundlagenausdauer, Bodenübung"]
[null,{"$f":"IF(B75>95,\"Ja\",\"Nein\")","v":"Nein"},"Vergleichspunktzahl erfüllt?"]
[null,{"$f":"IF(F1=\"Weiblich\",VLOOKUP(H2,Punktetabellen!$D$43:$F$49,3,1),VLOOKUP(H2,Punktetabellen!$D$43:$F$49,2,1))","v":169},"Mindest-Gesamtwert"]
[null,{"$f":"IF(H52>=B77,\"Ja\",\"Nein\")","v":"Nein"},"Gesamtwert erfüllt?"]
[null,{"$f":"IF(AND(B76=\"Ja\",B78=\"Ja\"),\"Ja\",\"Nein\")","v":"Nein"},"Alles erfüllt?"]

{"sheet":"StaiberSelina","index":26,"n_rows":79,"n_cols":8,"rows_kept":79,"cut":false,"hidden":false,"merged":[[11,0,11,4],[0,1,0,4],[1,1,1,5],[2,0,2,4],[3,0,3,4],[4,0,4,4],[5,0,5,4],[6,0,6,4],[7,0,7,4],[8,0,8,6],[9,0,9,4],[10,0,10,4],[23,0,23,1],[12,0,12,4],[13,0,13,4],[14,0,14,4],[15,0,15,4],[16,0,16,1],[17,0,17,4],[18,0,18,6],[19,0,19,2],[20,0,20,2],[21,0,21,1],[22,0,22,1],[41,0,41,3],[30,0,30,1],[31,0,31,1],[32,0,32,1],[33,0,33,1],[34,0,34,1],[35,0,35,1],[36,0,36,6],[37,0,37,3],[38,0,38,3],[39,0,39,3],[40,0,40,3],[48,0,48,3],[49,0,49,3],[50,0,50,6],[51,0,51,6],[42,0,42,3],[43,0,43,3],[44,0,44,3],[45,0,45,3],[46,0,46,3],[47,0,47,3]]}
["Name","Staiber, Selina",null,null,null,"weiblich","Jahrgang",2001]
["Verein","MTV Stuttgart",null,null,null,null,"AK",{"$f":"2020-H1","v":19}]
["Übung",null,null,null,null,"Wert","Berechnung","Punkte"]
["Fußdehnung",null,null,null,null,10,"Bild",{"$f":"F4","v":10}]
["Briefmarke mit Armrumpfwinkel",null,null,null,null,10,"Bild",{"$f":"F5","v":10}]
["Bückbeweglichkeit",null,null,null,null,19,"Tabelle",{"$f":"IF(F6=\"\",0,VLOOKUP(F6,Punktetabellen!A10:B15,2,1))","v":8}]
["Querspagat links",null,null,null,null,0,"Tabelle",{"$f":"IF(F7=\"\",0,VLOOKUP(F7,Punktetabellen!A3:B6,2,0))","v":10}]
["Querspagat rechts",null,null,null,null,0,"Tabelle",{"$f":"IF(F8=\"\",0,VLOOKUP(F8,Punktetabellen!A3:B6,2,0))","v":10}]
["Gesamtpunktzahl Beweglichkeit",null,null,null,null,null,null,{"$f":"SUM(H4:H8)","v":48}]
["Übung",null,null,null,null,"Wert","Berechnung","Punktzahl"]
["Klimmzug",null,null,null,null,7,"Tabelle",{"$f":"IF(F11=\"\",0,IF(H2<12,VLOOKUP(F11,Punktetabellen!D4:F14,3,1),VLOOKUP(F11,Punktetabellen!E4:F14,2,1)))","v":2}]
["Beinheben",null,null,null,null,10,"Tabelle",{"$f":"IF(H2=9,VLOOKUP(F12,Punktetabellen!D19:F29,3,1),VLOOKUP(F12,Punktetabellen!E19:F29,2,1))","v":6}]
["Flieger",null,null,null,null,65,"Tabelle",{"$f":"IF(H2=9,VLOOKUP(F13,Punktetabellen!H4:K9,4,1),IF(H2<12,VLOOKUP(F13,Punktetabellen!I4:K9,3,1),VLOOKUP(F13,Punktetabellen!J4:K9,2,1)))","v":0}]
["Rollenverbindung",null,null,null,null,29,"Tabelle",{"$f":"IF(H2=9,VLOOKUP(F14,Punktetabellen!H14:K24,4,1),IF(H2<12,VLOOKUP(F14,Punktetabellen!I14:K24,3,1),VLOOKUP(F14,Punktetabellen!J14:K24,2,1)))","v":10}]
["Prellsprünge",null,null,null,null,7,"Tabelle",{"$f":"IF(H2=9,VLOOKUP(F15,Punktetabellen!M4:Q14,5,1),IF(H2<12,VLOOKUP(F15,Punktetabellen!N4:Q14,4,1),IF(H2<14,VLOOKUP(F15,Punktetabellen!O4:Q14,3,1),VLOOKUP(F15,Punktetabellen!P4:Q14,2,1))))","v":7}]
["Handstandstehen",null,null,null,null,30,"Tabelle",{"$f":"IF(F16=\"\",0,IF(H2<10,VLOOKUP(F16,Punktetabellen!D34:F40,3,1),VLOOKUP(F16,Punktetabellen!E34:F40,2,1)))","v":10}]
["Schweizer, Wiener",null,{"$f":"IF(H2<12,\"\",IF(AND(H2>13,H2<17),\"Schweizer: \",\"Wiener: \"))","v":"Wiener: "},0,{"$f":"IF(H2<12,\"\",IF(AND(H2>13,H2<17),\"Wiener: \",\"Schweizer: \"))","v":"Schweizer: "},0,"Tabelle",{"$f":"IF(H2<12,VLOOKUP(F17,Punktetabellen!A20:B25,2,1),((MIN(5,1*D17)*2)+MIN(MAX(0,5-(1*D17)),(1*F17))))","v":0}]
["Bleep-Test",null,null,null,null,"L7 S10","Tabelle",{"$f":"IF(F18=\"\",0,VLOOKUP(F18,INDIRECT(C55),2,0))","v":4}]
["Gesamtpunktzahl Kraft/Kondition",null,null,null,null,null,null,{"$f":"SUM(H11:H18)","v":39}]
["Übung",null,null,"Max / Soll","Max. Abzug","Abzug / Ist","Berechnung","Punkte"]
["Standsprunghöhe",null,null,{"$f":"IF(F1=\"männlich\",VLOOKUP(H2,Standsprünge!A3:C15,3,0),VLOOKUP(H2,Standsprünge!A3:B15,2,0))","v":16.5},null,15.975,"(Ist - Soll) x 10",{"$f":"IF(F21=\"\",0,(F21-D21)*10)","v":-5.2500000000000036}]
[{"$f":"IF(H2>16,\"entfällt\",\"TBN\")","v":"entfällt"},null,null,{"$f":"IF(C22=\"\",\"\",VLOOKUP(C22,INDIRECT($C$62),2,0))","v":""},{"$f":"IF(C22=\"\",\"\",VLOOKUP(C22,INDIRECT($C$62),3,0))","v":""},null,{"$f":"IF(H2>16,\"entfällt\",\"Wert - Abzug\")","v":"entfällt"},{"$f":"IF(A22=\"entfällt\",0,IF(F22=\"\",0,D22-F22))","v":0}]
[{"$f":"IF(H2>16,\"entfällt\",\"TBN\")","v":"entfällt"},null,null,{"$f":"IF(C23=\"\",\"\",VLOOKUP(C23,INDIRECT($C$62),2,0))","v":""},{"$f":"IF(C23=\"\",\"\",VLOOKUP(C23,INDIRECT($C$62),3,0))","v":""},null,{"$f":"IF(H2>16,\"entfällt\",\"Wert - Abzug\")","v":"entfällt"},{"$f":"IF(A23=\"entfällt\",0,IF(F23=\"\",0,D23-F23))","v":0}]
[{"$f":"IF(H2>12,\"entfällt\",\"TBN\")","v":"entfällt"},null,null,{"$f":"IF(C24=\"\",\"\",VLOOKUP(C24,INDIRECT($C$62),2,0))","v":""},{"$f":"IF(C24=\"\",\"\",VLOOKUP(C24,INDIRECT($C$62),3,0))","v":""},null,{"$f":"IF(H2>16,\"entfällt\",\"Wert - Abzug\")","v":"entfällt"},0]
["TN",{"$f":"IF(C25=\"\",\"\",VLOOKUP(C25,INDIRECT($C$65),2,0))","v":"813<"},"1/2 ein 3/2 aus b",{"$f":"IF(C25=\"\",\"\",VLOOKUP(C25,INDIRECT($C$65),3,0))","v":16},{"$f":"IF(C25=\"\",\"\",VLOOKUP(C25,INDIRECT($C$65),4,0))","v":6},6,"Wert - Abzug",10]
["TN","",null,"","",null,"Wert - Abzug",0]
["TN","",null,"","",null,"Wert - Abzug",0]
[{"$f":"IF(H2>12,\"TN\",\"entfällt\")","v":"TN"},"",null,"","",null,{"$f":"IF(H2>12,\"Wert - Abzug\",\"entfällt\")","v":"Wert - Abzug"},0]
[{"$f":"IF(H2>16,\"TN\",\"entfällt\")","v":"TN"},"",null,"","",null,{"$f":"IF(H2>16,\"Wert - Abzug\",\"entfällt\")","v":"Wert - Abzug"},0]
[{"$f":"IF(H2>16,\"TN\",\"entfällt\")","v":"TN"},"",null,"","",null,{"$f":"IF(H2>16,\"Wert - Abzug\",\"entfällt\")","v":"Wert - Abzug"},{"$f":"IF(A30=\"entfällt\",0,IF(F30=\"\",0,D30-F30))","v":0}]
[{"$f":"IF($H$2>11,\"Verbindung Sprung 1\",\"entfällt\")","v":"Verbindung Sprung 1"},null,{"$f":"IF(A31<>\"entfällt\",VLOOKUP(1,INDIRECT($C$73),2,0),\"\")","v":"803<"},{"$f":"IF(A31<>\"entfällt\",VLOOKUP(1,INDIRECT($C$73),3,0),\"\")","v":15},{"$f":"IF(A31<>\"entfällt\",VLOOKUP(1,INDIRECT($C$73),4,0),\"\")","v":3},2,{"$f":"IF(H2>12,\"Wert - Abzug\",\"entfällt\")","v":"Wert - Abzug"},{"$f":"IF(A31=\"entfällt\",0,IF(F31=\"\",0,D31-F31))","v":13}]
[{"$f":"IF($H$2>11,\"Verbindung Sprung 2\",\"entfällt\")","v":"Verbindung Sprung 2"},null,{"$f":"IF(A32<>\"entfällt\",VLOOKUP(2,INDIRECT($C$73),2,0),\"\")","v":"40<"},{"$f":"IF(A32<>\"entfällt\",VLOOKUP(2,INDIRECT($C$73),3,0),\"\")","v":6},{"$f":"IF(A32<>\"entfällt\",VLOOKUP(2,INDIRECT($C$73),4,0),\"\")","v":3},2,{"$f":"IF(H2>12,\"Wert - Abzug\",\"entfällt\")","v":"Wert - Abzug"},{"$f":"IF(A32=\"entfällt\",0,IF(F32=\"\",0,D32-F32))","v":4}]
[{"$f":"IF($H$2>11,\"Verbindung Sprung 3\",\"entfällt\")","v":"Verbindung Sprung 3"},null,{"$f":"IF(A33<>\"entfällt\",VLOOKUP(3,INDIRECT($C$73),2,0),\"\")","v":"801<"},{"$f":"IF(A33<>\"entfällt\",VLOOKUP(3,INDIRECT($C$73),3,0),\"\")","v":13},{"$f":"IF(A33<>\"entfällt\",VLOOKUP(3,INDIRECT($C$73),4,0),\"\")","v":3},2,{"$f":"IF(H2>12,\"Wert - Abzug\",\"entfällt\")","v":"Wert - Abzug"},11]
[{"$f":"IF($H$2>11,\"Verbindung Sprung 4\",\"entfällt\")","v":"Verbindung Sprung 4"},null,{"$f":"IF(A34<>\"entfällt\",VLOOKUP(4,INDIRECT($C$73),2,0),\"\")","v":"40/"},{"$f":"IF(A34<>\"entfällt\",VLOOKUP(4,INDIRECT($C$73),3,0),\"\")","v":6},{"$f":"IF(A34<>\"entfällt\",VLOOKUP(4,INDIRECT($C$73),4,0),\"\")","v":3},2,{"$f":"IF(H2>12,\"Wert - Abzug\",\"entfällt\")","v":"Wert - Abzug"},4]
[{"$f":"IF($H$2>11,\"Verbindung Sprung 5\",\"entfällt\")","v":"Verbindung Sprung 5"},null,{"$f":"IF(A35<>\"entfällt\",VLOOKUP(5,INDIRECT($C$73),2,0),\"\")","v":"41/"},{"$f":"IF(A35<>\"entfällt\",VLOOKUP(5,INDIRECT($C$73),3,0),\"\")","v":6},{"$f":"IF(A35<>\"entfällt\",VLOOKUP(5,INDIRECT($C$73),4,0),\"\")","v":3},2,{"$f":"IF(H2>12,\"Wert - Abzug\",\"entfällt\")","v":"Wert - Abzug"},4]
[{"$f":"IF($H$2>11,\"Verbindung Sprung 6\",\"entfällt\")","v":"Verbindung Sprung 6"},null,{"$f":"IF(A36<>\"entfällt\",VLOOKUP(6,INDIRECT($C$73),2,0),\"\")","v":"811<"},{"$f":"IF(A36<>\"entfällt\",VLOOKUP(6,INDIRECT($C$73),3,0),\"\")","v":14},{"$f":"IF(A36<>\"entfällt\",VLOOKUP(6,INDIRECT($C$73),4,0),\"\")","v":3},3,{"$f":"IF(H2>12,\"Wert - Abzug\",\"entfällt\")","v":"Wert - Abzug"},{"$f":"IF(A36=\"entfällt\",0,IF(F36=\"\",0,D36-F36))","v":11}]
["Gesamtpunktzahl Trampolin",null,null,null,null,null,null,{"$f":"SUM(H21:H36)","v":51.75}]
["Element",null,null,null,"Wert","Abzug","Berechnung","Punkte"]
[{"$f":"VLOOKUP(1,INDIRECT($C$70),2,0)","v":"Salto vorwärts gehockt aus dem Stand"},null,null,null,{"$f":"VLOOKUP(1,INDIRECT($C$70),3,0)","v":5},1,"Wert - Abzug",{"$f":"IF(E39=\" \",\"\",IF(F39=\"\",0,E39-F39))","v":4}]
[{"$f":"VLOOKUP(2,INDIRECT($C$70),2,0)","v":"Vorspreizen, Bestellschritt, Strecksprung 3/2 Drehung"},null,null,null,{"$f":"VLOOKUP(2,INDIRECT($C$70),3,0)","v":3},2,"Wert - Abzug",{"$f":"IF(E40=\" \",\"\",IF(F40=\"\",0,E40-F40))","v":1}]
[{"$f":"VLOOKUP(3,INDIRECT($C$70),2,0)","v":"Rolle rückwärts durch Handstand mit 1/2 Drehung"},null,null,null,{"$f":"VLOOKUP(3,INDIRECT($C$70),3,0)","v":4},1,"Wert - Abzug",3]
[{"$f":"VLOOKUP(4,INDIRECT($C$70),2,0)","v":"--> Strecksprung --> Salto vorwärts gehockt"},null,null,null,{"$f":"VLOOKUP(4,INDIRECT($C$70),3,0)","v":4},1,"Wert - Abzug",3]
[{"$f":"VLOOKUP(5,INDIRECT($C$70),2,0)","v":"Wiener, 1/2 Drehung, absenken zum Stand"},null,null,null,{"$f":"VLOOKUP(5,INDIRECT($C$70),3,0)","v":4},null,"Wert - Abzug",0]
[{"$f":"VLOOKUP(6,INDIRECT($C$70),2,0)","v":"Handstand mit zwei Hüpfern, abrollen"},null,null,null,{"$f":"VLOOKUP(6,INDIRECT($C$70),3,0)","v":2},0,"Wert - Abzug",2]
[{"$f":"VLOOKUP(7,INDIRECT($C$70),2,0)","v":"--> aufstehen mit gestreckten Beinen"},null,null,null,{"$f":"VLOOKUP(7,INDIRECT($C$70),3,0)","v":3},0,"Wert - Abzug",3]
[{"$f":"VLOOKUP(8,INDIRECT($C$70),2,0)","v":"Salto rückwärts gebückt"},null,null,null,{"$f":"VLOOKUP(8,INDIRECT($C$70),3,0)","v":5},2,"Wert - Abzug",3]
[{"$f":"VLOOKUP(9,INDIRECT($C$70),2,0)","v":" "},null,null,null,{"$f":"VLOOKUP(9,INDIRECT($C$70),3,0)","v":" "},null,{"$f":"IF(H2>16,\"\",\"Wert - Abzug\")","v":""},""]
[{"$f":"VLOOKUP(10,INDIRECT($C$70),2,0)","v":" "},null,null,null,{"$f":"VLOOKUP(10,INDIRECT($C$70),3,0)","v":" "},null,{"$f":"IF(H2>16,\"\",\"Wert - Abzug\")","v":""},""]
[{"$f":"VLOOKUP(11,INDIRECT($C$70),2,0)","v":" "},null,null,null,{"$f":"VLOOKUP(11,INDIRECT($C$70),3,0)","v":" "},null,{"$f":"IF(H2>13,\"\",\"Wert - Abzug\")","v":""},""]
[{"$f":"VLOOKUP(12,INDIRECT($C$70),2,0)","v":" "},null,null,null,{"$f":"VLOOKUP(12,INDIRECT($C$70),3,0)","v":" "},null,{"$f":"IF(OR(H2=9,H2=12,H2=13),\"Wert - Abzug\",\"\")","v":""},""]
["Gesamtpunktzahl Bodenkomplexübung",null,null,null,null,null,null,{"$f":"SUM(H39:H50)","v":19}]
["Gesamtpunktzahl",null,null,null,null,null,null,{"$f":"SUM(H9,H19,H37,H51)","v":157.75}]
[]
[]
[null,"Shuttles",{"$f":"\"Shuttles_\"&F1&IF(H2=9,\"_9\",IF(H2<12,\"_10_11\",IF(H2<14,\"_12_13\",IF(H2<17,\"_14_16\",\"_17\"))))","v":"Shuttles_weiblich_17"}]
[null,null,{"$f":"\"Shuttles_\"&F1&IF(H2=9,\"_9\",IF(H2<12,\"_10_11\",IF(H2<14,\"_12_13\",IF(H2<17,\"_14_16\",\"_17\"))))&\"[Shuttle]\"","v":"Shuttles_weiblich_17[Shuttle]"}]
[null,null,{"$f":"\"Shuttles_\"&F1&IF(H2=9,\"_9\",IF(H2<12,\"_10_11\",IF(H2<14,\"_12_13\",IF(H2<17,\"_14_16\",\"_17\"))))&\"[Punkte]\"","v":"Shuttles_weiblich_17[Punkte]"}]
[]
[null,"G_TBN TN BKÜ",{"$f":"IF(H2<13,\"beide\",F1)","v":"weiblich"}]
[null,"AK",{"$f":"IF(OR(H2=9,H2=12),H2,IF(H2<12,\"10_11\",IF(H2<15,\"13_14\",IF(H2<17,\"15_16\",IF(H2<19,\"17_18\",19)))))","v":19}]
[]
[null,"TBN",{"$f":"\"TBN_\"&C59&\"_\"&C60","v":"TBN_weiblich_19"}]
[null,null,{"$f":"C62&\"[Beschreibung]\"","v":"TBN_weiblich_19[Beschreibung]"}]
[]
[null,"TN",{"$f":"\"TN_\"&C59&\"_\"&C60","v":"TN_weiblich_19"}]
[null,null,{"$f":"C65&\"[Beschreibung]\"","v":"TN_weiblich_19[Beschreibung]"}]
[]
[null,"TV",{"$f":"\"TV_\"&F1&\"_\"&C60","v":"TV_weiblich_19"}]
[]
[null,"BKÜ",{"$f":"\"BKÜ\"&IF(H2=9,\"_9\",IF(H2<12,\"_10_11\",IF(H2<14,\"_12_13\",IF(H2<17,\"_14_16\",\"_17\"))))","v":"BKÜ_17"}]
[]
[null,"G_TV",{"$f":"IF(H2<17,\"beide\",F1)","v":"weiblich"}]
[null,"TV",{"$f":"\"TV_\"&C72&\"_\"&C60","v":"TV_weiblich_19"}]
[]
[null,{"$f":"SUM(H19,H9,H51)","v":106},"Vergleichspunktzahl aus Kraft, Beweglichkeit, Grundlagenausdauer, Bodenübung"]
[null,{"$f":"IF(B75>95,\"Ja\",\"Nein\")","v":"Ja"},"Vergleichspunktzahl erfüllt?"]
[null,{"$f":"IF(F1=\"Weiblich\",VLOOKUP(H2,Punktetabellen!$D$43:$F$49,3,1),VLOOKUP(H2,Punktetabellen!$D$43:$F$49,2,1))","v":178},"Mindest-Gesamtwert"]
[null,{"$f":"IF(H52>=B77,\"Ja\",\"Nein\")","v":"Nein"},"Gesamtwert erfüllt?"]
[null,{"$f":"IF(AND(B76=\"Ja\",B78=\"Ja\"),\"Ja\",\"Nein\")","v":"Nein"},"Alles erfüllt?"]

{"sheet":"SchuldtChristine","index":27,"n_rows":79,"n_cols":8,"rows_kept":79,"cut":false,"hidden":false,"merged":[[11,0,11,4],[0,1,0,4],[1,1,1,5],[2,0,2,4],[3,0,3,4],[4,0,4,4],[5,0,5,4],[6,0,6,4],[7,0,7,4],[8,0,8,6],[9,0,9,4],[10,0,10,4],[23,0,23,1],[12,0,12,4],[13,0,13,4],[14,0,14,4],[15,0,15,4],[16,0,16,1],[17,0,17,4],[18,0,18,6],[19,0,19,2],[20,0,20,2],[21,0,21,1],[22,0,22,1],[41,0,41,3],[30,0,30,1],[31,0,31,1],[32,0,32,1],[33,0,33,1],[34,0,34,1],[35,0,35,1],[36,0,36,6],[37,0,37,3],[38,0,38,3],[39,0,39,3],[40,0,40,3],[48,0,48,3],[49,0,49,3],[50,0,50,6],[51,0,51,6],[42,0,42,3],[43,0,43,3],[44,0,44,3],[45,0,45,3],[46,0,46,3],[47,0,47,3]]}
["Name","Schuldt, Christine",null,null,null,"weiblich","Jahrgang",2002]
["Verein","Frankfurt Flyers",null,null,null,null,"AK",{"$f":"2020-H1","v":18}]
["Übung",null,null,null,null,"Wert","Berechnung","Punkte"]
["Fußdehnung",null,null,null,null,10,"Bild",{"$f":"F4","v":10}]
["Briefmarke mit Armrumpfwinkel",null,null,null,null,10,"Bild",{"$f":"F5","v":10}]
["Bückbeweglichkeit",null,null,null,null,17,"Tabelle",{"$f":"IF(F6=\"\",0,VLOOKUP(F6,Punktetabellen!A10:B15,2,1))","v":6}]
["Querspagat links",null,null,null,null,0,"Tabelle",{"$f":"IF(F7=\"\",0,VLOOKUP(F7,Punktetabellen!A3:B6,2,0))","v":10}]
["Querspagat rechts",null,null,null,null,0,"Tabelle",{"$f":"IF(F8=\"\",0,VLOOKUP(F8,Punktetabellen!A3:B6,2,0))","v":10}]
["Gesamtpunktzahl Beweglichkeit",null,null,null,null,null,null,{"$f":"SUM(H4:H8)","v":46}]
["Übung",null,null,null,null,"Wert","Berechnung","Punktzahl"]
["Klimmzug",null,null,null,null,1,"Tabelle",{"$f":"IF(F11=\"\",0,IF(H2<12,VLOOKUP(F11,Punktetabellen!D4:F14,3,1),VLOOKUP(F11,Punktetabellen!E4:F14,2,1)))","v":0}]
["Beinheben",null,null,null,null,0,"Tabelle",{"$f":"IF(H2=9,VLOOKUP(F12,Punktetabellen!D19:F29,3,1),VLOOKUP(F12,Punktetabellen!E19:F29,2,1))","v":0}]
["Flieger",null,null,null,null,80,"Tabelle",{"$f":"IF(H2=9,VLOOKUP(F13,Punktetabellen!H4:K9,4,1),IF(H2<12,VLOOKUP(F13,Punktetabellen!I4:K9,3,1),VLOOKUP(F13,Punktetabellen!J4:K9,2,1)))","v":2}]
["Rollenverbindung",null,null,null,null,25,"Tabelle",{"$f":"IF(H2=9,VLOOKUP(F14,Punktetabellen!H14:K24,4,1),IF(H2<12,VLOOKUP(F14,Punktetabellen!I14:K24,3,1),VLOOKUP(F14,Punktetabellen!J14:K24,2,1)))","v":8}]
["Prellsprünge",null,null,null,null,7,"Tabelle",{"$f":"IF(H2=9,VLOOKUP(F15,Punktetabellen!M4:Q14,5,1),IF(H2<12,VLOOKUP(F15,Punktetabellen!N4:Q14,4,1),IF(H2<14,VLOOKUP(F15,Punktetabellen!O4:Q14,3,1),VLOOKUP(F15,Punktetabellen!P4:Q14,2,1))))","v":7}]
["Handstandstehen",null,null,null,null,30,"Tabelle",{"$f":"IF(F16=\"\",0,IF(H2<10,VLOOKUP(F16,Punktetabellen!D34:F40,3,1),VLOOKUP(F16,Punktetabellen!E34:F40,2,1)))","v":10}]
["Schweizer, Wiener",null,{"$f":"IF(H2<12,\"\",IF(AND(H2>13,H2<17),\"Schweizer: \",\"Wiener: \"))","v":"Wiener: "},0,{"$f":"IF(H2<12,\"\",IF(AND(H2>13,H2<17),\"Wiener: \",\"Schweizer: \"))","v":"Schweizer: "},0,"Tabelle",{"$f":"IF(H2<12,VLOOKUP(F17,Punktetabellen!A20:B25,2,1),((MIN(5,1*D17)*2)+MIN(MAX(0,5-(1*D17)),(1*F17))))","v":0}]
["Bleep-Test",null,null,null,null,"L7 S10","Tabelle",{"$f":"IF(F18=\"\",0,VLOOKUP(F18,INDIRECT(C55),2,0))","v":4}]
["Gesamtpunktzahl Kraft/Kondition",null,null,null,null,null,null,{"$f":"SUM(H11:H18)","v":31}]
["Übung",null,null,"Max / Soll","Max. Abzug","Abzug / Ist","Berechnung","Punkte"]
["Standsprunghöhe",null,null,{"$f":"IF(F1=\"männlich\",VLOOKUP(H2,Standsprünge!A3:C15,3,0),VLOOKUP(H2,Standsprünge!A3:B15,2,0))","v":16.399999999999999},null,16.78,"(Ist - Soll) x 10",{"$f":"IF(F21=\"\",0,(F21-D21)*10)","v":3.8000000000000256}]
[{"$f":"IF(H2>16,\"entfällt\",\"TBN\")","v":"entfällt"},null,null,{"$f":"IF(C22=\"\",\"\",VLOOKUP(C22,INDIRECT($C$62),2,0))","v":""},{"$f":"IF(C22=\"\",\"\",VLOOKUP(C22,INDIRECT($C$62),3,0))","v":""},null,{"$f":"IF(H2>16,\"entfällt\",\"Wert - Abzug\")","v":"entfällt"},{"$f":"IF(A22=\"entfällt\",0,IF(F22=\"\",0,D22-F22))","v":0}]
[{"$f":"IF(H2>16,\"entfällt\",\"TBN\")","v":"entfällt"},null,null,{"$f":"IF(C23=\"\",\"\",VLOOKUP(C23,INDIRECT($C$62),2,0))","v":""},{"$f":"IF(C23=\"\",\"\",VLOOKUP(C23,INDIRECT($C$62),3,0))","v":""},null,{"$f":"IF(H2>16,\"entfällt\",\"Wert - Abzug\")","v":"entfällt"},{"$f":"IF(A23=\"entfällt\",0,IF(F23=\"\",0,D23-F23))","v":0}]
[{"$f":"IF(H2>12,\"entfällt\",\"TBN\")","v":"entfällt"},null,null,{"$f":"IF(C24=\"\",\"\",VLOOKUP(C24,INDIRECT($C$62),2,0))","v":""},{"$f":"IF(C24=\"\",\"\",VLOOKUP(C24,INDIRECT($C$62),3,0))","v":""},null,{"$f":"IF(H2>16,\"entfällt\",\"Wert - Abzug\")","v":"entfällt"},0]
["TN",{"$f":"IF(C25=\"\",\"\",VLOOKUP(C25,INDIRECT($C$65),2,0))","v":"803<"},"Fliffisrudi b",{"$f":"IF(C25=\"\",\"\",VLOOKUP(C25,INDIRECT($C$65),3,0))","v":15},{"$f":"IF(C25=\"\",\"\",VLOOKUP(C25,INDIRECT($C$65),4,0))","v":6},4,"Wert - Abzug",11]
["TN","821<","1/1 ein 1/2 aus b",15,6,4,"Wert - Abzug",11]
["TN","811<","1/2 ein 1/2 aus b",14,6,6,"Wert - Abzug",8]
[{"$f":"IF(H2>12,\"TN\",\"entfällt\")","v":"TN"},"822°","1/1 ein 1/1 aus c",14,6,6,{"$f":"IF(H2>12,\"Wert - Abzug\",\"entfällt\")","v":"Wert - Abzug"},8]
[{"$f":"IF(H2>16,\"TN\",\"entfällt\")","v":"TN"},"813°","1/2 ein 3/2 aus c",14,6,6,{"$f":"IF(H2>16,\"Wert - Abzug\",\"entfällt\")","v":"Wert - Abzug"},8]
[{"$f":"IF(H2>16,\"TN\",\"entfällt\")","v":"TN"},"",null,"","",null,{"$f":"IF(H2>16,\"Wert - Abzug\",\"entfällt\")","v":"Wert - Abzug"},{"$f":"IF(A30=\"entfällt\",0,IF(F30=\"\",0,D30-F30))","v":0}]
[{"$f":"IF($H$2>11,\"Verbindung Sprung 1\",\"entfällt\")","v":"Verbindung Sprung 1"},null,{"$f":"IF(A31<>\"entfällt\",VLOOKUP(1,INDIRECT($C$73),2,0),\"\")","v":"803<"},{"$f":"IF(A31<>\"entfällt\",VLOOKUP(1,INDIRECT($C$73),3,0),\"\")","v":15},{"$f":"IF(A31<>\"entfällt\",VLOOKUP(1,INDIRECT($C$73),4,0),\"\")","v":3},2,{"$f":"IF(H2>12,\"Wert - Abzug\",\"entfällt\")","v":"Wert - Abzug"},{"$f":"IF(A31=\"entfällt\",0,IF(F31=\"\",0,D31-F31))","v":13}]
[{"$f":"IF($H$2>11,\"Verbindung Sprung 2\",\"entfällt\")","v":"Verbindung Sprung 2"},null,{"$f":"IF(A32<>\"entfällt\",VLOOKUP(2,INDIRECT($C$73),2,0),\"\")","v":"40<"},{"$f":"IF(A32<>\"entfällt\",VLOOKUP(2,INDIRECT($C$73),3,0),\"\")","v":6},{"$f":"IF(A32<>\"entfällt\",VLOOKUP(2,INDIRECT($C$73),4,0),\"\")","v":3},2,{"$f":"IF(H2>12,\"Wert - Abzug\",\"entfällt\")","v":"Wert - Abzug"},{"$f":"IF(A32=\"entfällt\",0,IF(F32=\"\",0,D32-F32))","v":4}]
[{"$f":"IF($H$2>11,\"Verbindung Sprung 3\",\"entfällt\")","v":"Verbindung Sprung 3"},null,{"$f":"IF(A33<>\"entfällt\",VLOOKUP(3,INDIRECT($C$73),2,0),\"\")","v":"801<"},{"$f":"IF(A33<>\"entfällt\",VLOOKUP(3,INDIRECT($C$73),3,0),\"\")","v":13},{"$f":"IF(A33<>\"entfällt\",VLOOKUP(3,INDIRECT($C$73),4,0),\"\")","v":3},3,{"$f":"IF(H2>12,\"Wert - Abzug\",\"entfällt\")","v":"Wert - Abzug"},10]
[{"$f":"IF($H$2>11,\"Verbindung Sprung 4\",\"entfällt\")","v":"Verbindung Sprung 4"},null,{"$f":"IF(A34<>\"entfällt\",VLOOKUP(4,INDIRECT($C$73),2,0),\"\")","v":"40/"},{"$f":"IF(A34<>\"entfällt\",VLOOKUP(4,INDIRECT($C$73),3,0),\"\")","v":6},{"$f":"IF(A34<>\"entfällt\",VLOOKUP(4,INDIRECT($C$73),4,0),\"\")","v":3},2,{"$f":"IF(H2>12,\"Wert - Abzug\",\"entfällt\")","v":"Wert - Abzug"},4]
[{"$f":"IF($H$2>11,\"Verbindung Sprung 5\",\"entfällt\")","v":"Verbindung Sprung 5"},null,{"$f":"IF(A35<>\"entfällt\",VLOOKUP(5,INDIRECT($C$73),2,0),\"\")","v":"41/"},{"$f":"IF(A35<>\"entfällt\",VLOOKUP(5,INDIRECT($C$73),3,0),\"\")","v":6},{"$f":"IF(A35<>\"entfällt\",VLOOKUP(5,INDIRECT($C$73),4,0),\"\")","v":3},1,{"$f":"IF(H2>12,\"Wert - Abzug\",\"entfällt\")","v":"Wert - Abzug"},5]
[{"$f":"IF($H$2>11,\"Verbindung Sprung 6\",\"entfällt\")","v":"Verbindung Sprung 6"},null,{"$f":"IF(A36<>\"entfällt\",VLOOKUP(6,INDIRECT($C$73),2,0),\"\")","v":"811°"},{"$f":"IF(A36<>\"entfällt\",VLOOKUP(6,INDIRECT($C$73),3,0),\"\")","v":12},{"$f":"IF(A36<>\"entfällt\",VLOOKUP(6,INDIRECT($C$73),4,0),\"\")","v":3},2,{"$f":"IF(H2>12,\"Wert - Abzug\",\"entfällt\")","v":"Wert - Abzug"},{"$f":"IF(A36=\"entfällt\",0,IF(F36=\"\",0,D36-F36))","v":10}]
["Gesamtpunktzahl Trampolin",null,null,null,null,null,null,{"$f":"SUM(H21:H36)","v":95.800000000000026}]
["Element",null,null,null,"Wert","Abzug","Berechnung","Punkte"]
[{"$f":"VLOOKUP(1,INDIRECT($C$70),2,0)","v":"Salto vorwärts gehockt aus dem Stand"},null,null,null,{"$f":"VLOOKUP(1,INDIRECT($C$70),3,0)","v":5},null,"Wert - Abzug",{"$f":"IF(E39=\" \",\"\",IF(F39=\"\",0,E39-F39))","v":0}]
[{"$f":"VLOOKUP(2,INDIRECT($C$70),2,0)","v":"Vorspreizen, Bestellschritt, Strecksprung 3/2 Drehung"},null,null,null,{"$f":"VLOOKUP(2,INDIRECT($C$70),3,0)","v":3},1.5,"Wert - Abzug",{"$f":"IF(E40=\" \",\"\",IF(F40=\"\",0,E40-F40))","v":1.5}]
[{"$f":"VLOOKUP(3,INDIRECT($C$70),2,0)","v":"Rolle rückwärts durch Handstand mit 1/2 Drehung"},null,null,null,{"$f":"VLOOKUP(3,INDIRECT($C$70),3,0)","v":4},2,"Wert - Abzug",2]
[{"$f":"VLOOKUP(4,INDIRECT($C$70),2,0)","v":"--> Strecksprung --> Salto vorwärts gehockt"},null,null,null,{"$f":"VLOOKUP(4,INDIRECT($C$70),3,0)","v":4},1,"Wert - Abzug",3]
[{"$f":"VLOOKUP(5,INDIRECT($C$70),2,0)","v":"Wiener, 1/2 Drehung, absenken zum Stand"},null,null,null,{"$f":"VLOOKUP(5,INDIRECT($C$70),3,0)","v":4},null,"Wert - Abzug",0]
[{"$f":"VLOOKUP(6,INDIRECT($C$70),2,0)","v":"Handstand mit zwei Hüpfern, abrollen"},null,null,null,{"$f":"VLOOKUP(6,INDIRECT($C$70),3,0)","v":2},0,"Wert - Abzug",2]
[{"$f":"VLOOKUP(7,INDIRECT($C$70),2,0)","v":"--> aufstehen mit gestreckten Beinen"},null,null,null,{"$f":"VLOOKUP(7,INDIRECT($C$70),3,0)","v":3},1.5,"Wert - Abzug",1.5]
[{"$f":"VLOOKUP(8,INDIRECT($C$70),2,0)","v":"Salto rückwärts gebückt"},null,null,null,{"$f":"VLOOKUP(8,INDIRECT($C$70),3,0)","v":5},null,"Wert - Abzug",0]
[{"$f":"VLOOKUP(9,INDIRECT($C$70),2,0)","v":" "},null,null,null,{"$f":"VLOOKUP(9,INDIRECT($C$70),3,0)","v":" "},null,{"$f":"IF(H2>16,\"\",\"Wert - Abzug\")","v":""},""]
[{"$f":"VLOOKUP(10,INDIRECT($C$70),2,0)","v":" "},null,null,null,{"$f":"VLOOKUP(10,INDIRECT($C$70),3,0)","v":" "},null,{"$f":"IF(H2>16,\"\",\"Wert - Abzug\")","v":""},""]
[{"$f":"VLOOKUP(11,INDIRECT($C$70),2,0)","v":" "},null,null,null,{"$f":"VLOOKUP(11,INDIRECT($C$70),3,0)","v":" "},null,{"$f":"IF(H2>13,\"\",\"Wert - Abzug\")","v":""},""]
[{"$f":"VLOOKUP(12,INDIRECT($C$70),2,0)","v":" "},null,null,null,{"$f":"VLOOKUP(12,INDIRECT($C$70),3,0)","v":" "},null,{"$f":"IF(OR(H2=9,H2=12,H2=13),\"Wert - Abzug\",\"\")","v":""},""]
["Gesamtpunktzahl Bodenkomplexübung",null,null,null,null,null,null,{"$f":"SUM(H39:H50)","v":10}]
["Gesamtpunktzahl",null,null,null,null,null,null,{"$f":"SUM(H9,H19,H37,H51)","v":182.8}]
[]
[]
[null,"Shuttles",{"$f":"\"Shuttles_\"&F1&IF(H2=9,\"_9\",IF(H2<12,\"_10_11\",IF(H2<14,\"_12_13\",IF(H2<17,\"_14_16\",\"_17\"))))","v":"Shuttles_weiblich_17"}]
[null,null,{"$f":"\"Shuttles_\"&F1&IF(H2=9,\"_9\",IF(H2<12,\"_10_11\",IF(H2<14,\"_12_13\",IF(H2<17,\"_14_16\",\"_17\"))))&\"[Shuttle]\"","v":"Shuttles_weiblich_17[Shuttle]"}]
[null,null,{"$f":"\"Shuttles_\"&F1&IF(H2=9,\"_9\",IF(H2<12,\"_10_11\",IF(H2<14,\"_12_13\",IF(H2<17,\"_14_16\",\"_17\"))))&\"[Punkte]\"","v":"Shuttles_weiblich_17[Punkte]"}]
[]
[null,"G_TBN TN BKÜ",{"$f":"IF(H2<13,\"beide\",F1)","v":"weiblich"}]
[null,"AK",{"$f":"IF(OR(H2=9,H2=12),H2,IF(H2<12,\"10_11\",IF(H2<15,\"13_14\",IF(H2<17,\"15_16\",IF(H2<19,\"17_18\",19)))))","v":"17_18"}]
[]
[null,"TBN",{"$f":"\"TBN_\"&C59&\"_\"&C60","v":"TBN_weiblich_17_18"}]
[null,null,{"$f":"C62&\"[Beschreibung]\"","v":"TBN_weiblich_17_18[Beschreibung]"}]
[]
[null,"TN",{"$f":"\"TN_\"&C59&\"_\"&C60","v":"TN_weiblich_17_18"}]
[null,null,{"$f":"C65&\"[Beschreibung]\"","v":"TN_weiblich_17_18[Beschreibung]"}]
[]
[null,"TV",{"$f":"\"TV_\"&F1&\"_\"&C60","v":"TV_weiblich_17_18"}]
[]
[null,"BKÜ",{"$f":"\"BKÜ\"&IF(H2=9,\"_9\",IF(H2<12,\"_10_11\",IF(H2<14,\"_12_13\",IF(H2<17,\"_14_16\",\"_17\"))))","v":"BKÜ_17"}]
[]
[null,"G_TV",{"$f":"IF(H2<17,\"beide\",F1)","v":"weiblich"}]
[null,"TV",{"$f":"\"TV_\"&C72&\"_\"&C60","v":"TV_weiblich_17_18"}]
[]
[null,{"$f":"SUM(H19,H9,H51)","v":87},"Vergleichspunktzahl aus Kraft, Beweglichkeit, Grundlagenausdauer, Bodenübung"]
[null,{"$f":"IF(B75>95,\"Ja\",\"Nein\")","v":"Nein"},"Vergleichspunktzahl erfüllt?"]
[null,{"$f":"IF(F1=\"Weiblich\",VLOOKUP(H2,Punktetabellen!$D$43:$F$49,3,1),VLOOKUP(H2,Punktetabellen!$D$43:$F$49,2,1))","v":169},"Mindest-Gesamtwert"]
[null,{"$f":"IF(H52>=B77,\"Ja\",\"Nein\")","v":"Ja"},"Gesamtwert erfüllt?"]
[null,{"$f":"IF(AND(B76=\"Ja\",B78=\"Ja\"),\"Ja\",\"Nein\")","v":"Nein"},"Alles erfüllt?"]

{"sheet":"PapeNina","index":28,"n_rows":79,"n_cols":8,"rows_kept":79,"cut":false,"hidden":false,"merged":[[11,0,11,4],[0,1,0,4],[1,1,1,5],[2,0,2,4],[3,0,3,4],[4,0,4,4],[5,0,5,4],[6,0,6,4],[7,0,7,4],[8,0,8,6],[9,0,9,4],[10,0,10,4],[23,0,23,1],[12,0,12,4],[13,0,13,4],[14,0,14,4],[15,0,15,4],[16,0,16,1],[17,0,17,4],[18,0,18,6],[19,0,19,2],[20,0,20,2],[21,0,21,1],[22,0,22,1],[41,0,41,3],[30,0,30,1],[31,0,31,1],[32,0,32,1],[33,0,33,1],[34,0,34,1],[35,0,35,1],[36,0,36,6],[37,0,37,3],[38,0,38,3],[39,0,39,3],[40,0,40,3],[48,0,48,3],[49,0,49,3],[50,0,50,6],[51,0,51,6],[42,0,42,3],[43,0,43,3],[44,0,44,3],[45,0,45,3],[46,0,46,3],[47,0,47,3]]}
["Name","Pape, Nina",null,null,null,"weiblich","Jahrgang",2003]
["Verein","FC Reislingen",null,null,null,null,"AK",{"$f":"2020-H1","v":17}]
["Übung",null,null,null,null,"Wert","Berechnung","Punkte"]
["Fußdehnung",null,null,null,null,10,"Bild",{"$f":"F4","v":10}]
["Briefmarke mit Armrumpfwinkel",null,null,null,null,6,"Bild",{"$f":"F5","v":6}]
["Bückbeweglichkeit",null,null,null,null,15,"Tabelle",{"$f":"IF(F6=\"\",0,VLOOKUP(F6,Punktetabellen!A10:B15,2,1))","v":4}]
["Querspagat links",null,null,null,null,0,"Tabelle",{"$f":"IF(F7=\"\",0,VLOOKUP(F7,Punktetabellen!A3:B6,2,0))","v":10}]
["Querspagat rechts",null,null,null,null,0,"Tabelle",{"$f":"IF(F8=\"\",0,VLOOKUP(F8,Punktetabellen!A3:B6,2,0))","v":10}]
["Gesamtpunktzahl Beweglichkeit",null,null,null,null,null,null,{"$f":"SUM(H4:H8)","v":40}]
["Übung",null,null,null,null,"Wert","Berechnung","Punktzahl"]
["Klimmzug",null,null,null,null,3,"Tabelle",{"$f":"IF(F11=\"\",0,IF(H2<12,VLOOKUP(F11,Punktetabellen!D4:F14,3,1),VLOOKUP(F11,Punktetabellen!E4:F14,2,1)))","v":0}]
["Beinheben",null,null,null,null,1,"Tabelle",{"$f":"IF(H2=9,VLOOKUP(F12,Punktetabellen!D19:F29,3,1),VLOOKUP(F12,Punktetabellen!E19:F29,2,1))","v":0}]
["Flieger",null,null,null,null,65,"Tabelle",{"$f":"IF(H2=9,VLOOKUP(F13,Punktetabellen!H4:K9,4,1),IF(H2<12,VLOOKUP(F13,Punktetabellen!I4:K9,3,1),VLOOKUP(F13,Punktetabellen!J4:K9,2,1)))","v":0}]
["Rollenverbindung",null,null,null,null,23,"Tabelle",{"$f":"IF(H2=9,VLOOKUP(F14,Punktetabellen!H14:K24,4,1),IF(H2<12,VLOOKUP(F14,Punktetabellen!I14:K24,3,1),VLOOKUP(F14,Punktetabellen!J14:K24,2,1)))","v":7}]
["Prellsprünge",null,null,null,null,2,"Tabelle",{"$f":"IF(H2=9,VLOOKUP(F15,Punktetabellen!M4:Q14,5,1),IF(H2<12,VLOOKUP(F15,Punktetabellen!N4:Q14,4,1),IF(H2<14,VLOOKUP(F15,Punktetabellen!O4:Q14,3,1),VLOOKUP(F15,Punktetabellen!P4:Q14,2,1))))","v":2}]
["Handstandstehen",null,null,null,null,30,"Tabelle",{"$f":"IF(F16=\"\",0,IF(H2<10,VLOOKUP(F16,Punktetabellen!D34:F40,3,1),VLOOKUP(F16,Punktetabellen!E34:F40,2,1)))","v":10}]
["Schweizer, Wiener",null,{"$f":"IF(H2<12,\"\",IF(AND(H2>13,H2<17),\"Schweizer: \",\"Wiener: \"))","v":"Wiener: "},0,{"$f":"IF(H2<12,\"\",IF(AND(H2>13,H2<17),\"Wiener: \",\"Schweizer: \"))","v":"Schweizer: "},0,"Tabelle",{"$f":"IF(H2<12,VLOOKUP(F17,Punktetabellen!A20:B25,2,1),((MIN(5,1*D17)*2)+MIN(MAX(0,5-(1*D17)),(1*F17))))","v":0}]
["Bleep-Test",null,null,null,null,"L8 S5","Tabelle",{"$f":"IF(F18=\"\",0,VLOOKUP(F18,INDIRECT(C55),2,0))","v":5}]
["Gesamtpunktzahl Kraft/Kondition",null,null,null,null,null,null,{"$f":"SUM(H11:H18)","v":24}]
["Übung",null,null,"Max / Soll","Max. Abzug","Abzug / Ist","Berechnung","Punkte"]
["Standsprunghöhe",null,null,{"$f":"IF(F1=\"männlich\",VLOOKUP(H2,Standsprünge!A3:C15,3,0),VLOOKUP(H2,Standsprünge!A3:B15,2,0))","v":16.3},null,15.87,"(Ist - Soll) x 10",{"$f":"IF(F21=\"\",0,(F21-D21)*10)","v":-4.3000000000000149}]
[{"$f":"IF(H2>16,\"entfällt\",\"TBN\")","v":"entfällt"},null,null,{"$f":"IF(C22=\"\",\"\",VLOOKUP(C22,INDIRECT($C$62),2,0))","v":""},{"$f":"IF(C22=\"\",\"\",VLOOKUP(C22,INDIRECT($C$62),3,0))","v":""},null,{"$f":"IF(H2>16,\"entfällt\",\"Wert - Abzug\")","v":"entfällt"},{"$f":"IF(A22=\"entfällt\",0,IF(F22=\"\",0,D22-F22))","v":0}]
[{"$f":"IF(H2>16,\"entfällt\",\"TBN\")","v":"entfällt"},null,null,{"$f":"IF(C23=\"\",\"\",VLOOKUP(C23,INDIRECT($C$62),2,0))","v":""},{"$f":"IF(C23=\"\",\"\",VLOOKUP(C23,INDIRECT($C$62),3,0))","v":""},null,{"$f":"IF(H2>16,\"entfällt\",\"Wert - Abzug\")","v":"entfällt"},{"$f":"IF(A23=\"entfällt\",0,IF(F23=\"\",0,D23-F23))","v":0}]
[{"$f":"IF(H2>12,\"entfällt\",\"TBN\")","v":"entfällt"},null,null,{"$f":"IF(C24=\"\",\"\",VLOOKUP(C24,INDIRECT($C$62),2,0))","v":""},{"$f":"IF(C24=\"\",\"\",VLOOKUP(C24,INDIRECT($C$62),3,0))","v":""},null,{"$f":"IF(H2>16,\"entfällt\",\"Wert - Abzug\")","v":"entfällt"},0]
["TN",{"$f":"IF(C25=\"\",\"\",VLOOKUP(C25,INDIRECT($C$65),2,0))","v":"803<"},"Fliffisrudi b",{"$f":"IF(C25=\"\",\"\",VLOOKUP(C25,INDIRECT($C$65),3,0))","v":15},{"$f":"IF(C25=\"\",\"\",VLOOKUP(C25,INDIRECT($C$65),4,0))","v":6},6,"Wert - Abzug",9]
["TN","",null,"","",null,"Wert - Abzug",0]
["TN","",null,"","",null,"Wert - Abzug",0]
[{"$f":"IF(H2>12,\"TN\",\"entfällt\")","v":"TN"},"",null,"","",null,{"$f":"IF(H2>12,\"Wert - Abzug\",\"entfällt\")","v":"Wert - Abzug"},0]
[{"$f":"IF(H2>16,\"TN\",\"entfällt\")","v":"TN"},"",null,"","",null,{"$f":"IF(H2>16,\"Wert - Abzug\",\"entfällt\")","v":"Wert - Abzug"},0]
[{"$f":"IF(H2>16,\"TN\",\"entfällt\")","v":"TN"},"",null,"","",null,{"$f":"IF(H2>16,\"Wert - Abzug\",\"entfällt\")","v":"Wert - Abzug"},{"$f":"IF(A30=\"entfällt\",0,IF(F30=\"\",0,D30-F30))","v":0}]
[{"$f":"IF($H$2>11,\"Verbindung Sprung 1\",\"entfällt\")","v":"Verbindung Sprung 1"},null,{"$f":"IF(A31<>\"entfällt\",VLOOKUP(1,INDIRECT($C$73),2,0),\"\")","v":"803<"},{"$f":"IF(A31<>\"entfällt\",VLOOKUP(1,INDIRECT($C$73),3,0),\"\")","v":15},{"$f":"IF(A31<>\"entfällt\",VLOOKUP(1,INDIRECT($C$73),4,0),\"\")","v":3},3,{"$f":"IF(H2>12,\"Wert - Abzug\",\"entfällt\")","v":"Wert - Abzug"},{"$f":"IF(A31=\"entfällt\",0,IF(F31=\"\",0,D31-F31))","v":12}]
[{"$f":"IF($H$2>11,\"Verbindung Sprung 2\",\"entfällt\")","v":"Verbindung Sprung 2"},null,{"$f":"IF(A32<>\"entfällt\",VLOOKUP(2,INDIRECT($C$73),2,0),\"\")","v":"40<"},{"$f":"IF(A32<>\"entfällt\",VLOOKUP(2,INDIRECT($C$73),3,0),\"\")","v":6},{"$f":"IF(A32<>\"entfällt\",VLOOKUP(2,INDIRECT($C$73),4,0),\"\")","v":3},3,{"$f":"IF(H2>12,\"Wert - Abzug\",\"entfällt\")","v":"Wert - Abzug"},{"$f":"IF(A32=\"entfällt\",0,IF(F32=\"\",0,D32-F32))","v":3}]
[{"$f":"IF($H$2>11,\"Verbindung Sprung 3\",\"entfällt\")","v":"Verbindung Sprung 3"},null,{"$f":"IF(A33<>\"entfällt\",VLOOKUP(3,INDIRECT($C$73),2,0),\"\")","v":"801<"},{"$f":"IF(A33<>\"entfällt\",VLOOKUP(3,INDIRECT($C$73),3,0),\"\")","v":13},{"$f":"IF(A33<>\"entfällt\",VLOOKUP(3,INDIRECT($C$73),4,0),\"\")","v":3},3,{"$f":"IF(H2>12,\"Wert - Abzug\",\"entfällt\")","v":"Wert - Abzug"},10]
[{"$f":"IF($H$2>11,\"Verbindung Sprung 4\",\"entfällt\")","v":"Verbindung Sprung 4"},null,{"$f":"IF(A34<>\"entfällt\",VLOOKUP(4,INDIRECT($C$73),2,0),\"\")","v":"40/"},{"$f":"IF(A34<>\"entfällt\",VLOOKUP(4,INDIRECT($C$73),3,0),\"\")","v":6},{"$f":"IF(A34<>\"entfällt\",VLOOKUP(4,INDIRECT($C$73),4,0),\"\")","v":3},3,{"$f":"IF(H2>12,\"Wert - Abzug\",\"entfällt\")","v":"Wert - Abzug"},3]
[{"$f":"IF($H$2>11,\"Verbindung Sprung 5\",\"entfällt\")","v":"Verbindung Sprung 5"},null,{"$f":"IF(A35<>\"entfällt\",VLOOKUP(5,INDIRECT($C$73),2,0),\"\")","v":"41/"},{"$f":"IF(A35<>\"entfällt\",VLOOKUP(5,INDIRECT($C$73),3,0),\"\")","v":6},{"$f":"IF(A35<>\"entfällt\",VLOOKUP(5,INDIRECT($C$73),4,0),\"\")","v":3},3,{"$f":"IF(H2>12,\"Wert - Abzug\",\"entfällt\")","v":"Wert - Abzug"},3]
[{"$f":"IF($H$2>11,\"Verbindung Sprung 6\",\"entfällt\")","v":"Verbindung Sprung 6"},null,{"$f":"IF(A36<>\"entfällt\",VLOOKUP(6,INDIRECT($C$73),2,0),\"\")","v":"811°"},{"$f":"IF(A36<>\"entfällt\",VLOOKUP(6,INDIRECT($C$73),3,0),\"\")","v":12},{"$f":"IF(A36<>\"entfällt\",VLOOKUP(6,INDIRECT($C$73),4,0),\"\")","v":3},null,{"$f":"IF(H2>12,\"Wert - Abzug\",\"entfällt\")","v":"Wert - Abzug"},{"$f":"IF(A36=\"entfällt\",0,IF(F36=\"\",0,D36-F36))","v":0}]
["Gesamtpunktzahl Trampolin",null,null,null,null,null,null,{"$f":"SUM(H21:H36)","v":35.699999999999989}]
["Element",null,null,null,"Wert","Abzug","Berechnung","Punkte"]
[{"$f":"VLOOKUP(1,INDIRECT($C$70),2,0)","v":"Salto vorwärts gehockt aus dem Stand"},null,null,null,{"$f":"VLOOKUP(1,INDIRECT($C$70),3,0)","v":5},null,"Wert - Abzug",{"$f":"IF(E39=\" \",\"\",IF(F39=\"\",0,E39-F39))","v":0}]
[{"$f":"VLOOKUP(2,INDIRECT($C$70),2,0)","v":"Vorspreizen, Bestellschritt, Strecksprung 3/2 Drehung"},null,null,null,{"$f":"VLOOKUP(2,INDIRECT($C$70),3,0)","v":3},0,"Wert - Abzug",{"$f":"IF(E40=\" \",\"\",IF(F40=\"\",0,E40-F40))","v":3}]
[{"$f":"VLOOKUP(3,INDIRECT($C$70),2,0)","v":"Rolle rückwärts durch Handstand mit 1/2 Drehung"},null,null,null,{"$f":"VLOOKUP(3,INDIRECT($C$70),3,0)","v":4},null,"Wert - Abzug",0]
[{"$f":"VLOOKUP(4,INDIRECT($C$70),2,0)","v":"--> Strecksprung --> Salto vorwärts gehockt"},null,null,null,{"$f":"VLOOKUP(4,INDIRECT($C$70),3,0)","v":4},null,"Wert - Abzug",0]
[{"$f":"VLOOKUP(5,INDIRECT($C$70),2,0)","v":"Wiener, 1/2 Drehung, absenken zum Stand"},null,null,null,{"$f":"VLOOKUP(5,INDIRECT($C$70),3,0)","v":4},null,"Wert - Abzug",0]
[{"$f":"VLOOKUP(6,INDIRECT($C$70),2,0)","v":"Handstand mit zwei Hüpfern, abrollen"},null,null,null,{"$f":"VLOOKUP(6,INDIRECT($C$70),3,0)","v":2},1,"Wert - Abzug",1]
[{"$f":"VLOOKUP(7,INDIRECT($C$70),2,0)","v":"--> aufstehen mit gestreckten Beinen"},null,null,null,{"$f":"VLOOKUP(7,INDIRECT($C$70),3,0)","v":3},0,"Wert - Abzug",3]
[{"$f":"VLOOKUP(8,INDIRECT($C$70),2,0)","v":"Salto rückwärts gebückt"},null,null,null,{"$f":"VLOOKUP(8,INDIRECT($C$70),3,0)","v":5},null,"Wert - Abzug",0]
[{"$f":"VLOOKUP(9,INDIRECT($C$70),2,0)","v":" "},null,null,null,{"$f":"VLOOKUP(9,INDIRECT($C$70),3,0)","v":" "},null,{"$f":"IF(H2>16,\"\",\"Wert - Abzug\")","v":""},""]
[{"$f":"VLOOKUP(10,INDIRECT($C$70),2,0)","v":" "},null,null,null,{"$f":"VLOOKUP(10,INDIRECT($C$70),3,0)","v":" "},null,{"$f":"IF(H2>16,\"\",\"Wert - Abzug\")","v":""},""]
[{"$f":"VLOOKUP(11,INDIRECT($C$70),2,0)","v":" "},null,null,null,{"$f":"VLOOKUP(11,INDIRECT($C$70),3,0)","v":" "},null,{"$f":"IF(H2>13,\"\",\"Wert - Abzug\")","v":""},""]
[{"$f":"VLOOKUP(12,INDIRECT($C$70),2,0)","v":" "},null,null,null,{"$f":"VLOOKUP(12,INDIRECT($C$70),3,0)","v":" "},null,{"$f":"IF(OR(H2=9,H2=12,H2=13),\"Wert - Abzug\",\"\")","v":""},""]
["Gesamtpunktzahl Bodenkomplexübung",null,null,null,null,null,null,{"$f":"SUM(H39:H50)","v":7}]
["Gesamtpunktzahl",null,null,null,null,null,null,{"$f":"SUM(H9,H19,H37,H51)","v":106.69999999999999}]
[]
[]
[null,"Shuttles",{"$f":"\"Shuttles_\"&F1&IF(H2=9,\"_9\",IF(H2<12,\"_10_11\",IF(H2<14,\"_12_13\",IF(H2<17,\"_14_16\",\"_17\"))))","v":"Shuttles_weiblich_17"}]
[null,null,{"$f":"\"Shuttles_\"&F1&IF(H2=9,\"_9\",IF(H2<12,\"_10_11\",IF(H2<14,\"_12_13\",IF(H2<17,\"_14_16\",\"_17\"))))&\"[Shuttle]\"","v":"Shuttles_weiblich_17[Shuttle]"}]
[null,null,{"$f":"\"Shuttles_\"&F1&IF(H2=9,\"_9\",IF(H2<12,\"_10_11\",IF(H2<14,\"_12_13\",IF(H2<17,\"_14_16\",\"_17\"))))&\"[Punkte]\"","v":"Shuttles_weiblich_17[Punkte]"}]
[]
[null,"G_TBN TN BKÜ",{"$f":"IF(H2<13,\"beide\",F1)","v":"weiblich"}]
[null,"AK",{"$f":"IF(OR(H2=9,H2=12),H2,IF(H2<12,\"10_11\",IF(H2<15,\"13_14\",IF(H2<17,\"15_16\",IF(H2<19,\"17_18\",19)))))","v":"17_18"}]
[]
[null,"TBN",{"$f":"\"TBN_\"&C59&\"_\"&C60","v":"TBN_weiblich_17_18"}]
[null,null,{"$f":"C62&\"[Beschreibung]\"","v":"TBN_weiblich_17_18[Beschreibung]"}]
[]
[null,"TN",{"$f":"\"TN_\"&C59&\"_\"&C60","v":"TN_weiblich_17_18"}]
[null,null,{"$f":"C65&\"[Beschreibung]\"","v":"TN_weiblich_17_18[Beschreibung]"}]
[]
[null,"TV",{"$f":"\"TV_\"&F1&\"_\"&C60","v":"TV_weiblich_17_18"}]
[]
[null,"BKÜ",{"$f":"\"BKÜ\"&IF(H2=9,\"_9\",IF(H2<12,\"_10_11\",IF(H2<14,\"_12_13\",IF(H2<17,\"_14_16\",\"_17\"))))","v":"BKÜ_17"}]
[]
[null,"G_TV",{"$f":"IF(H2<17,\"beide\",F1)","v":"weiblich"}]
[null,"TV",{"$f":"\"TV_\"&C72&\"_\"&C60","v":"TV_weiblich_17_18"}]
[]
[null,{"$f":"SUM(H19,H9,H51)","v":71},"Vergleichspunktzahl aus Kraft, Beweglichkeit, Grundlagenausdauer, Bodenübung"]
[null,{"$f":"IF(B75>95,\"Ja\",\"Nein\")","v":"Nein"},"Vergleichspunktzahl erfüllt?"]
[null,{"$f":"IF(F1=\"Weiblich\",VLOOKUP(H2,Punktetabellen!$D$43:$F$49,3,1),VLOOKUP(H2,Punktetabellen!$D$43:$F$49,2,1))","v":169},"Mindest-Gesamtwert"]
[null,{"$f":"IF(H52>=B77,\"Ja\",\"Nein\")","v":"Nein"},"Gesamtwert erfüllt?"]
[null,{"$f":"IF(AND(B76=\"Ja\",B78=\"Ja\"),\"Ja\",\"Nein\")","v":"Nein"},"Alles erfüllt?"]

{"sheet":"ImleVanessa","index":29,"n_rows":79,"n_cols":8,"rows_kept":79,"cut":false,"hidden":false,"merged":[[11,0,11,4],[0,1,0,4],[1,1,1,5],[2,0,2,4],[3,0,3,4],[4,0,4,4],[5,0,5,4],[6,0,6,4],[7,0,7,4],[8,0,8,6],[9,0,9,4],[10,0,10,4],[23,0,23,1],[12,0,12,4],[13,0,13,4],[14,0,14,4],[15,0,15,4],[16,0,16,1],[17,0,17,4],[18,0,18,6],[19,0,19,2],[20,0,20,2],[21,0,21,1],[22,0,22,1],[41,0,41,3],[30,0,30,1],[31,0,31,1],[32,0,32,1],[33,0,33,1],[34,0,34,1],[35,0,35,1],[36,0,36,6],[37,0,37,3],[38,0,38,3],[39,0,39,3],[40,0,40,3],[48,0,48,3],[49,0,49,3],[50,0,50,6],[51,0,51,6],[42,0,42,3],[43,0,43,3],[44,0,44,3],[45,0,45,3],[46,0,46,3],[47,0,47,3]]}
["Name","Imle, Vanessa",null,null,null,"weiblich","Jahrgang",2004]
["Verein","MTV Stuttgart",null,null,null,null,"AK",{"$f":"2020-H1","v":16}]
["Übung",null,null,null,null,"Wert","Berechnung","Punkte"]
["Fußdehnung",null,null,null,null,10,"Bild",{"$f":"F4","v":10}]
["Briefmarke mit Armrumpfwinkel",null,null,null,null,6,"Bild",{"$f":"F5","v":6}]
["Bückbeweglichkeit",null,null,null,null,17,"Tabelle",{"$f":"IF(F6=\"\",0,VLOOKUP(F6,Punktetabellen!A10:B15,2,1))","v":6}]
["Querspagat links",null,null,null,null,0,"Tabelle",{"$f":"IF(F7=\"\",0,VLOOKUP(F7,Punktetabellen!A3:B6,2,0))","v":10}]
["Querspagat rechts",null,null,null,null,0,"Tabelle",{"$f":"IF(F8=\"\",0,VLOOKUP(F8,Punktetabellen!A3:B6,2,0))","v":10}]
["Gesamtpunktzahl Beweglichkeit",null,null,null,null,null,null,{"$f":"SUM(H4:H8)","v":42}]
["Übung",null,null,null,null,"Wert","Berechnung","Punktzahl"]
["Klimmzug",null,null,null,null,4,"Tabelle",{"$f":"IF(F11=\"\",0,IF(H2<12,VLOOKUP(F11,Punktetabellen!D4:F14,3,1),VLOOKUP(F11,Punktetabellen!E4:F14,2,1)))","v":0}]
["Beinheben",null,null,null,null,1,"Tabelle",{"$f":"IF(H2=9,VLOOKUP(F12,Punktetabellen!D19:F29,3,1),VLOOKUP(F12,Punktetabellen!E19:F29,2,1))","v":0}]
["Flieger",null,null,null,null,70,"Tabelle",{"$f":"IF(H2=9,VLOOKUP(F13,Punktetabellen!H4:K9,4,1),IF(H2<12,VLOOKUP(F13,Punktetabellen!I4:K9,3,1),VLOOKUP(F13,Punktetabellen!J4:K9,2,1)))","v":0}]
["Rollenverbindung",null,null,null,null,29,"Tabelle",{"$f":"IF(H2=9,VLOOKUP(F14,Punktetabellen!H14:K24,4,1),IF(H2<12,VLOOKUP(F14,Punktetabellen!I14:K24,3,1),VLOOKUP(F14,Punktetabellen!J14:K24,2,1)))","v":10}]
["Prellsprünge",null,null,null,null,8,"Tabelle",{"$f":"IF(H2=9,VLOOKUP(F15,Punktetabellen!M4:Q14,5,1),IF(H2<12,VLOOKUP(F15,Punktetabellen!N4:Q14,4,1),IF(H2<14,VLOOKUP(F15,Punktetabellen!O4:Q14,3,1),VLOOKUP(F15,Punktetabellen!P4:Q14,2,1))))","v":8}]
["Handstandstehen",null,null,null,null,0,"Tabelle",{"$f":"IF(F16=\"\",0,IF(H2<10,VLOOKUP(F16,Punktetabellen!D34:F40,3,1),VLOOKUP(F16,Punktetabellen!E34:F40,2,1)))","v":0}]
["Schweizer, Wiener",null,{"$f":"IF(H2<12,\"\",IF(AND(H2>13,H2<17),\"Schweizer: \",\"Wiener: \"))","v":"Schweizer: "},0,{"$f":"IF(H2<12,\"\",IF(AND(H2>13,H2<17),\"Wiener: \",\"Schweizer: \"))","v":"Wiener: "},0,"Tabelle",{"$f":"IF(H2<12,VLOOKUP(F17,Punktetabellen!A20:B25,2,1),((MIN(5,1*D17)*2)+MIN(MAX(0,5-(1*D17)),(1*F17))))","v":0}]
["Bleep-Test",null,null,null,null,"L8 S11","Tabelle",{"$f":"IF(F18=\"\",0,VLOOKUP(F18,INDIRECT(C55),2,0))","v":8}]
["Gesamtpunktzahl Kraft/Kondition",null,null,null,null,null,null,{"$f":"SUM(H11:H18)","v":26}]
["Übung",null,null,"Max / Soll","Max. Abzug","Abzug / Ist","Berechnung","Punkte"]
["Standsprunghöhe",null,null,{"$f":"IF(F1=\"männlich\",VLOOKUP(H2,Standsprünge!A3:C15,3,0),VLOOKUP(H2,Standsprünge!A3:B15,2,0))","v":16.3},null,16.11,"(Ist - Soll) x 10",{"$f":"IF(F21=\"\",0,(F21-D21)*10)","v":-1.9000000000000128}]
[{"$f":"IF(H2>16,\"entfällt\",\"TBN\")","v":"TBN"},null,null,{"$f":"IF(C22=\"\",\"\",VLOOKUP(C22,INDIRECT($C$62),2,0))","v":""},{"$f":"IF(C22=\"\",\"\",VLOOKUP(C22,INDIRECT($C$62),3,0))","v":""},null,{"$f":"IF(H2>16,\"entfällt\",\"Wert - Abzug\")","v":"Wert - Abzug"},{"$f":"IF(A22=\"entfällt\",0,IF(F22=\"\",0,D22-F22))","v":0}]
[{"$f":"IF(H2>16,\"entfällt\",\"TBN\")","v":"TBN"},null,null,{"$f":"IF(C23=\"\",\"\",VLOOKUP(C23,INDIRECT($C$62),2,0))","v":""},{"$f":"IF(C23=\"\",\"\",VLOOKUP(C23,INDIRECT($C$62),3,0))","v":""},null,{"$f":"IF(H2>16,\"entfällt\",\"Wert - Abzug\")","v":"Wert - Abzug"},{"$f":"IF(A23=\"entfällt\",0,IF(F23=\"\",0,D23-F23))","v":0}]
[{"$f":"IF(H2>12,\"entfällt\",\"TBN\")","v":"entfällt"},null,null,{"$f":"IF(C24=\"\",\"\",VLOOKUP(C24,INDIRECT($C$62),2,0))","v":""},{"$f":"IF(C24=\"\",\"\",VLOOKUP(C24,INDIRECT($C$62),3,0))","v":""},null,{"$f":"IF(H2>16,\"entfällt\",\"Wert - Abzug\")","v":"Wert - Abzug"},0]
["TN",{"$f":"IF(C25=\"\",\"\",VLOOKUP(C25,INDIRECT($C$65),2,0))","v":"803<"},"Fliffisrudi b",{"$f":"IF(C25=\"\",\"\",VLOOKUP(C25,INDIRECT($C$65),3,0))","v":15},{"$f":"IF(C25=\"\",\"\",VLOOKUP(C25,INDIRECT($C$65),4,0))","v":6},2,"Wert - Abzug",13]
["TN","803°","Fliffisrudi c",13,6,4,"Wert - Abzug",9]
["TN","800/","Doppelsalto rw a",12,6,4,"Wert - Abzug",8]
[{"$f":"IF(H2>12,\"TN\",\"entfällt\")","v":"TN"},"821°","1/1 ein 1/2 aus c",13,6,6,{"$f":"IF(H2>12,\"Wert - Abzug\",\"entfällt\")","v":"Wert - Abzug"},7]
[{"$f":"IF(H2>16,\"TN\",\"entfällt\")","v":"entfällt"},"",null,"","",null,{"$f":"IF(H2>16,\"Wert - Abzug\",\"entfällt\")","v":"entfällt"},0]
[{"$f":"IF(H2>16,\"TN\",\"entfällt\")","v":"entfällt"},"",null,"","",null,{"$f":"IF(H2>16,\"Wert - Abzug\",\"entfällt\")","v":"entfällt"},{"$f":"IF(A30=\"entfällt\",0,IF(F30=\"\",0,D30-F30))","v":0}]
[{"$f":"IF($H$2>11,\"Verbindung Sprung 1\",\"entfällt\")","v":"Verbindung Sprung 1"},null,{"$f":"IF(A31<>\"entfällt\",VLOOKUP(1,INDIRECT($C$73),2,0),\"\")","v":"801<"},{"$f":"IF(A31<>\"entfällt\",VLOOKUP(1,INDIRECT($C$73),3,0),\"\")","v":13},{"$f":"IF(A31<>\"entfällt\",VLOOKUP(1,INDIRECT($C$73),4,0),\"\")","v":3},1,{"$f":"IF(H2>12,\"Wert - Abzug\",\"entfällt\")","v":"Wert - Abzug"},{"$f":"IF(A31=\"entfällt\",0,IF(F31=\"\",0,D31-F31))","v":12}]
[{"$f":"IF($H$2>11,\"Verbindung Sprung 2\",\"entfällt\")","v":"Verbindung Sprung 2"},null,{"$f":"IF(A32<>\"entfällt\",VLOOKUP(2,INDIRECT($C$73),2,0),\"\")","v":"40<"},{"$f":"IF(A32<>\"entfällt\",VLOOKUP(2,INDIRECT($C$73),3,0),\"\")","v":6},{"$f":"IF(A32<>\"entfällt\",VLOOKUP(2,INDIRECT($C$73),4,0),\"\")","v":3},1,{"$f":"IF(H2>12,\"Wert - Abzug\",\"entfällt\")","v":"Wert - Abzug"},{"$f":"IF(A32=\"entfällt\",0,IF(F32=\"\",0,D32-F32))","v":5}]
[{"$f":"IF($H$2>11,\"Verbindung Sprung 3\",\"entfällt\")","v":"Verbindung Sprung 3"},null,{"$f":"IF(A33<>\"entfällt\",VLOOKUP(3,INDIRECT($C$73),2,0),\"\")","v":"801°"},{"$f":"IF(A33<>\"entfällt\",VLOOKUP(3,INDIRECT($C$73),3,0),\"\")","v":11},{"$f":"IF(A33<>\"entfällt\",VLOOKUP(3,INDIRECT($C$73),4,0),\"\")","v":3},1,{"$f":"IF(H2>12,\"Wert - Abzug\",\"entfällt\")","v":"Wert - Abzug"},10]
[{"$f":"IF($H$2>11,\"Verbindung Sprung 4\",\"entfällt\")","v":"Verbindung Sprung 4"},null,{"$f":"IF(A34<>\"entfällt\",VLOOKUP(4,INDIRECT($C$73),2,0),\"\")","v":"40/"},{"$f":"IF(A34<>\"entfällt\",VLOOKUP(4,INDIRECT($C$73),3,0),\"\")","v":6},{"$f":"IF(A34<>\"entfällt\",VLOOKUP(4,INDIRECT($C$73),4,0),\"\")","v":3},1,{"$f":"IF(H2>12,\"Wert - Abzug\",\"entfällt\")","v":"Wert - Abzug"},5]
[{"$f":"IF($H$2>11,\"Verbindung Sprung 5\",\"entfällt\")","v":"Verbindung Sprung 5"},null,{"$f":"IF(A35<>\"entfällt\",VLOOKUP(5,INDIRECT($C$73),2,0),\"\")","v":"41/"},{"$f":"IF(A35<>\"entfällt\",VLOOKUP(5,INDIRECT($C$73),3,0),\"\")","v":6},{"$f":"IF(A35<>\"entfällt\",VLOOKUP(5,INDIRECT($C$73),4,0),\"\")","v":3},1,{"$f":"IF(H2>12,\"Wert - Abzug\",\"entfällt\")","v":"Wert - Abzug"},5]
[{"$f":"IF($H$2>11,\"Verbindung Sprung 6\",\"entfällt\")","v":"Verbindung Sprung 6"},null,{"$f":"IF(A36<>\"entfällt\",VLOOKUP(6,INDIRECT($C$73),2,0),\"\")","v":"800°"},{"$f":"IF(A36<>\"entfällt\",VLOOKUP(6,INDIRECT($C$73),3,0),\"\")","v":10},{"$f":"IF(A36<>\"entfällt\",VLOOKUP(6,INDIRECT($C$73),4,0),\"\")","v":3},1,{"$f":"IF(H2>12,\"Wert - Abzug\",\"entfällt\")","v":"Wert - Abzug"},{"$f":"IF(A36=\"entfällt\",0,IF(F36=\"\",0,D36-F36))","v":9}]
["Gesamtpunktzahl Trampolin",null,null,null,null,null,null,{"$f":"SUM(H21:H36)","v":81.099999999999994}]
["Element",null,null,null,"Wert","Abzug","Berechnung","Punkte"]
[{"$f":"VLOOKUP(1,INDIRECT($C$70),2,0)","v":"Flugrolle mit Überstrecken mit Anlauf"},null,null,null,{"$f":"VLOOKUP(1,INDIRECT($C$70),3,0)","v":3},0,"Wert - Abzug",{"$f":"IF(E39=\" \",\"\",IF(F39=\"\",0,E39-F39))","v":3}]
[{"$f":"VLOOKUP(2,INDIRECT($C$70),2,0)","v":"--> Strecksprung, Salto vorwärts gehockt"},null,null,null,{"$f":"VLOOKUP(2,INDIRECT($C$70),3,0)","v":4.5},0,"Wert - Abzug",{"$f":"IF(E40=\" \",\"\",IF(F40=\"\",0,E40-F40))","v":4.5}]
[{"$f":"VLOOKUP(3,INDIRECT($C$70),2,0)","v":"Vorspreizen, Handstand mit 1/1 Drehung, abrollen"},null,null,null,{"$f":"VLOOKUP(3,INDIRECT($C$70),3,0)","v":3},1,"Wert - Abzug",2]
[{"$f":"VLOOKUP(4,INDIRECT($C$70),2,0)","v":"--> Aufstehen mit gestreckten Beinen"},null,null,null,{"$f":"VLOOKUP(4,INDIRECT($C$70),3,0)","v":3},0,"Wert - Abzug",3]
[{"$f":"VLOOKUP(5,INDIRECT($C$70),2,0)","v":"Vorspreizen, Bestellschritt, Strecksprung 3/2 Drehung"},null,null,null,{"$f":"VLOOKUP(5,INDIRECT($C$70),3,0)","v":3},1,"Wert - Abzug",2]
[{"$f":"VLOOKUP(6,INDIRECT($C$70),2,0)","v":"Salto rückwärts gehockt"},null,null,null,{"$f":"VLOOKUP(6,INDIRECT($C$70),3,0)","v":3},0,"Wert - Abzug",3]
[{"$f":"VLOOKUP(7,INDIRECT($C$70),2,0)","v":"Handstützüberschlag"},null,null,null,{"$f":"VLOOKUP(7,INDIRECT($C$70),3,0)","v":3},1,"Wert - Abzug",2]
[{"$f":"VLOOKUP(8,INDIRECT($C$70),2,0)","v":"--> Ansprung Schrittstellung, Handstand mit zwei Hüpfern"},null,null,null,{"$f":"VLOOKUP(8,INDIRECT($C$70),3,0)","v":3},0.5,"Wert - Abzug",2.5]
[{"$f":"VLOOKUP(9,INDIRECT($C$70),2,0)","v":"Abrollen --> Strecksprung 1/2 Drehung"},null,null,null,{"$f":"VLOOKUP(9,INDIRECT($C$70),3,0)","v":1.5},0,{"$f":"IF(H2>16,\"\",\"Wert - Abzug\")","v":"Wert - Abzug"},1.5]
[{"$f":"VLOOKUP(10,INDIRECT($C$70),2,0)","v":"Salto vorwärts gebückt mit Anlauf"},null,null,null,{"$f":"VLOOKUP(10,INDIRECT($C$70),3,0)","v":3},0,{"$f":"IF(H2>16,\"\",\"Wert - Abzug\")","v":"Wert - Abzug"},3]
[{"$f":"VLOOKUP(11,INDIRECT($C$70),2,0)","v":" "},null,null,null,{"$f":"VLOOKUP(11,INDIRECT($C$70),3,0)","v":" "},null,{"$f":"IF(H2>13,\"\",\"Wert - Abzug\")","v":""},""]
[{"$f":"VLOOKUP(12,INDIRECT($C$70),2,0)","v":" "},null,null,null,{"$f":"VLOOKUP(12,INDIRECT($C$70),3,0)","v":" "},null,{"$f":"IF(OR(H2=9,H2=12,H2=13),\"Wert - Abzug\",\"\")","v":""},""]
["Gesamtpunktzahl Bodenkomplexübung",null,null,null,null,null,null,{"$f":"SUM(H39:H50)","v":26.5}]
["Gesamtpunktzahl",null,null,null,null,null,null,{"$f":"SUM(H9,H19,H37,H51)","v":175.6}]
[]
[]
[null,"Shuttles",{"$f":"\"Shuttles_\"&F1&IF(H2=9,\"_9\",IF(H2<12,\"_10_11\",IF(H2<14,\"_12_13\",IF(H2<17,\"_14_16\",\"_17\"))))","v":"Shuttles_weiblich_14_16"}]
[null,null,{"$f":"\"Shuttles_\"&F1&IF(H2=9,\"_9\",IF(H2<12,\"_10_11\",IF(H2<14,\"_12_13\",IF(H2<17,\"_14_16\",\"_17\"))))&\"[Shuttle]\"","v":"Shuttles_weiblich_14_16[Shuttle]"}]
[null,null,{"$f":"\"Shuttles_\"&F1&IF(H2=9,\"_9\",IF(H2<12,\"_10_11\",IF(H2<14,\"_12_13\",IF(H2<17,\"_14_16\",\"_17\"))))&\"[Punkte]\"","v":"Shuttles_weiblich_14_16[Punkte]"}]
[]
[null,"G_TBN TN BKÜ",{"$f":"IF(H2<13,\"beide\",F1)","v":"weiblich"}]
[null,"AK",{"$f":"IF(OR(H2=9,H2=12),H2,IF(H2<12,\"10_11\",IF(H2<15,\"13_14\",IF(H2<17,\"15_16\",IF(H2<19,\"17_18\",19)))))","v":"15_16"}]
[]
[null,"TBN",{"$f":"\"TBN_\"&C59&\"_\"&C60","v":"TBN_weiblich_15_16"}]
[null,null,{"$f":"C62&\"[Beschreibung]\"","v":"TBN_weiblich_15_16[Beschreibung]"}]
[]
[null,"TN",{"$f":"\"TN_\"&C59&\"_\"&C60","v":"TN_weiblich_15_16"}]
[null,null,{"$f":"C65&\"[Beschreibung]\"","v":"TN_weiblich_15_16[Beschreibung]"}]
[]
[null,"TV",{"$f":"\"TV_\"&F1&\"_\"&C60","v":"TV_weiblich_15_16"}]
[]
[null,"BKÜ",{"$f":"\"BKÜ\"&IF(H2=9,\"_9\",IF(H2<12,\"_10_11\",IF(H2<14,\"_12_13\",IF(H2<17,\"_14_16\",\"_17\"))))","v":"BKÜ_14_16"}]
[]
[null,"G_TV",{"$f":"IF(H2<17,\"beide\",F1)","v":"beide"}]
[null,"TV",{"$f":"\"TV_\"&C72&\"_\"&C60","v":"TV_beide_15_16"}]
[]
[null,{"$f":"SUM(H19,H9,H51)","v":94.5},"Vergleichspunktzahl aus Kraft, Beweglichkeit, Grundlagenausdauer, Bodenübung"]
[null,{"$f":"IF(B75>95,\"Ja\",\"Nein\")","v":"Nein"},"Vergleichspunktzahl erfüllt?"]
[null,{"$f":"IF(F1=\"Weiblich\",VLOOKUP(H2,Punktetabellen!$D$43:$F$49,3,1),VLOOKUP(H2,Punktetabellen!$D$43:$F$49,2,1))","v":159},"Mindest-Gesamtwert"]
[null,{"$f":"IF(H52>=B77,\"Ja\",\"Nein\")","v":"Ja"},"Gesamtwert erfüllt?"]
[null,{"$f":"IF(AND(B76=\"Ja\",B78=\"Ja\"),\"Ja\",\"Nein\")","v":"Nein"},"Alles erfüllt?"]

{"sheet":"AmedickCarlotta","index":30,"n_rows":79,"n_cols":8,"rows_kept":79,"cut":false,"hidden":false,"merged":[[11,0,11,4],[0,1,0,4],[1,1,1,5],[2,0,2,4],[3,0,3,4],[4,0,4,4],[5,0,5,4],[6,0,6,4],[7,0,7,4],[8,0,8,6],[9,0,9,4],[10,0,10,4],[23,0,23,1],[12,0,12,4],[13,0,13,4],[14,0,14,4],[15,0,15,4],[16,0,16,1],[17,0,17,4],[18,0,18,6],[19,0,19,2],[20,0,20,2],[21,0,21,1],[22,0,22,1],[41,0,41,3],[30,0,30,1],[31,0,31,1],[32,0,32,1],[33,0,33,1],[34,0,34,1],[35,0,35,1],[36,0,36,6],[37,0,37,3],[38,0,38,3],[39,0,39,3],[40,0,40,3],[48,0,48,3],[49,0,49,3],[50,0,50,6],[51,0,51,6],[42,0,42,3],[43,0,43,3],[44,0,44,3],[45,0,45,3],[46,0,46,3],[47,0,47,3]]}
["Name","Amedick, Carlotta",null,null,null,"weiblich","Jahrgang",2000]
["Verein","TSV Ganderkesee",null,null,null,null,"AK",{"$f":"2020-H1","v":20}]
["Übung",null,null,null,null,"Wert","Berechnung","Punkte"]
["Fußdehnung",null,null,null,null,10,"Bild",{"$f":"F4","v":10}]
["Briefmarke mit Armrumpfwinkel",null,null,null,null,10,"Bild",{"$f":"F5","v":10}]
["Bückbeweglichkeit",null,null,null,null,17,"Tabelle",{"$f":"IF(F6=\"\",0,VLOOKUP(F6,Punktetabellen!A10:B15,2,1))","v":6}]
["Querspagat links",null,null,null,null,0,"Tabelle",{"$f":"IF(F7=\"\",0,VLOOKUP(F7,Punktetabellen!A3:B6,2,0))","v":10}]
["Querspagat rechts",null,null,null,null,0,"Tabelle",{"$f":"IF(F8=\"\",0,VLOOKUP(F8,Punktetabellen!A3:B6,2,0))","v":10}]
["Gesamtpunktzahl Beweglichkeit",null,null,null,null,null,null,{"$f":"SUM(H4:H8)","v":46}]
["Übung",null,null,null,null,"Wert","Berechnung","Punktzahl"]
["Klimmzug",null,null,null,null,7,"Tabelle",{"$f":"IF(F11=\"\",0,IF(H2<12,VLOOKUP(F11,Punktetabellen!D4:F14,3,1),VLOOKUP(F11,Punktetabellen!E4:F14,2,1)))","v":2}]
["Beinheben",null,null,null,null,0,"Tabelle",{"$f":"IF(H2=9,VLOOKUP(F12,Punktetabellen!D19:F29,3,1),VLOOKUP(F12,Punktetabellen!E19:F29,2,1))","v":0}]
["Flieger",null,null,null,null,85,"Tabelle",{"$f":"IF(H2=9,VLOOKUP(F13,Punktetabellen!H4:K9,4,1),IF(H2<12,VLOOKUP(F13,Punktetabellen!I4:K9,3,1),VLOOKUP(F13,Punktetabellen!J4:K9,2,1)))","v":2}]
["Rollenverbindung",null,null,null,null,29,"Tabelle",{"$f":"IF(H2=9,VLOOKUP(F14,Punktetabellen!H14:K24,4,1),IF(H2<12,VLOOKUP(F14,Punktetabellen!I14:K24,3,1),VLOOKUP(F14,Punktetabellen!J14:K24,2,1)))","v":10}]
["Prellsprünge",null,null,null,null,null,"Tabelle",{"$f":"IF(H2=9,VLOOKUP(F15,Punktetabellen!M4:Q14,5,1),IF(H2<12,VLOOKUP(F15,Punktetabellen!N4:Q14,4,1),IF(H2<14,VLOOKUP(F15,Punktetabellen!O4:Q14,3,1),VLOOKUP(F15,Punktetabellen!P4:Q14,2,1))))","v":0}]
["Handstandstehen",null,null,null,null,30,"Tabelle",{"$f":"IF(F16=\"\",0,IF(H2<10,VLOOKUP(F16,Punktetabellen!D34:F40,3,1),VLOOKUP(F16,Punktetabellen!E34:F40,2,1)))","v":10}]
["Schweizer, Wiener",null,{"$f":"IF(H2<12,\"\",IF(AND(H2>13,H2<17),\"Schweizer: \",\"Wiener: \"))","v":"Wiener: "},0,{"$f":"IF(H2<12,\"\",IF(AND(H2>13,H2<17),\"Wiener: \",\"Schweizer: \"))","v":"Schweizer: "},0,"Tabelle",{"$f":"IF(H2<12,VLOOKUP(F17,Punktetabellen!A20:B25,2,1),((MIN(5,1*D17)*2)+MIN(MAX(0,5-(1*D17)),(1*F17))))","v":0}]
["Bleep-Test",null,null,null,null,"L9 S5","Tabelle",{"$f":"IF(F18=\"\",0,VLOOKUP(F18,INDIRECT(C55),2,0))","v":7}]
["Gesamtpunktzahl Kraft/Kondition",null,null,null,null,null,null,{"$f":"SUM(H11:H18)","v":31}]
["Übung",null,null,"Max / Soll","Max. Abzug","Abzug / Ist","Berechnung","Punkte"]
["Standsprunghöhe",null,null,{"$f":"IF(F1=\"männlich\",VLOOKUP(H2,Standsprünge!A3:C15,3,0),VLOOKUP(H2,Standsprünge!A3:B15,2,0))","v":16.600000000000001},null,null,"(Ist - Soll) x 10",{"$f":"IF(F21=\"\",0,(F21-D21)*10)","v":0}]
[{"$f":"IF(H2>16,\"entfällt\",\"TBN\")","v":"entfällt"},null,null,{"$f":"IF(C22=\"\",\"\",VLOOKUP(C22,INDIRECT($C$62),2,0))","v":""},{"$f":"IF(C22=\"\",\"\",VLOOKUP(C22,INDIRECT($C$62),3,0))","v":""},null,{"$f":"IF(H2>16,\"entfällt\",\"Wert - Abzug\")","v":"entfällt"},{"$f":"IF(A22=\"entfällt\",0,IF(F22=\"\",0,D22-F22))","v":0}]
[{"$f":"IF(H2>16,\"entfällt\",\"TBN\")","v":"entfällt"},null,null,{"$f":"IF(C23=\"\",\"\",VLOOKUP(C23,INDIRECT($C$62),2,0))","v":""},{"$f":"IF(C23=\"\",\"\",VLOOKUP(C23,INDIRECT($C$62),3,0))","v":""},null,{"$f":"IF(H2>16,\"entfällt\",\"Wert - Abzug\")","v":"entfällt"},{"$f":"IF(A23=\"entfällt\",0,IF(F23=\"\",0,D23-F23))","v":0}]
[{"$f":"IF(H2>12,\"entfällt\",\"TBN\")","v":"entfällt"},null,null,{"$f":"IF(C24=\"\",\"\",VLOOKUP(C24,INDIRECT($C$62),2,0))","v":""},{"$f":"IF(C24=\"\",\"\",VLOOKUP(C24,INDIRECT($C$62),3,0))","v":""},null,{"$f":"IF(H2>16,\"entfällt\",\"Wert - Abzug\")","v":"entfällt"},0]
["TN",{"$f":"IF(C25=\"\",\"\",VLOOKUP(C25,INDIRECT($C$65),2,0))","v":""},null,{"$f":"IF(C25=\"\",\"\",VLOOKUP(C25,INDIRECT($C$65),3,0))","v":""},{"$f":"IF(C25=\"\",\"\",VLOOKUP(C25,INDIRECT($C$65),4,0))","v":""},null,"Wert - Abzug",0]
["TN","",null,"","",null,"Wert - Abzug",0]
["TN","",null,"","",null,"Wert - Abzug",0]
[{"$f":"IF(H2>12,\"TN\",\"entfällt\")","v":"TN"},"",null,"","",null,{"$f":"IF(H2>12,\"Wert - Abzug\",\"entfällt\")","v":"Wert - Abzug"},0]
[{"$f":"IF(H2>16,\"TN\",\"entfällt\")","v":"TN"},"",null,"","",null,{"$f":"IF(H2>16,\"Wert - Abzug\",\"entfällt\")","v":"Wert - Abzug"},0]
[{"$f":"IF(H2>16,\"TN\",\"entfällt\")","v":"TN"},"",null,"","",null,{"$f":"IF(H2>16,\"Wert - Abzug\",\"entfällt\")","v":"Wert - Abzug"},{"$f":"IF(A30=\"entfällt\",0,IF(F30=\"\",0,D30-F30))","v":0}]
[{"$f":"IF($H$2>11,\"Verbindung Sprung 1\",\"entfällt\")","v":"Verbindung Sprung 1"},null,{"$f":"IF(A31<>\"entfällt\",VLOOKUP(1,INDIRECT($C$73),2,0),\"\")","v":"803<"},{"$f":"IF(A31<>\"entfällt\",VLOOKUP(1,INDIRECT($C$73),3,0),\"\")","v":15},{"$f":"IF(A31<>\"entfällt\",VLOOKUP(1,INDIRECT($C$73),4,0),\"\")","v":3},null,{"$f":"IF(H2>12,\"Wert - Abzug\",\"entfällt\")","v":"Wert - Abzug"},{"$f":"IF(A31=\"entfällt\",0,IF(F31=\"\",0,D31-F31))","v":0}]
[{"$f":"IF($H$2>11,\"Verbindung Sprung 2\",\"entfällt\")","v":"Verbindung Sprung 2"},null,{"$f":"IF(A32<>\"entfällt\",VLOOKUP(2,INDIRECT($C$73),2,0),\"\")","v":"40<"},{"$f":"IF(A32<>\"entfällt\",VLOOKUP(2,INDIRECT($C$73),3,0),\"\")","v":6},{"$f":"IF(A32<>\"entfällt\",VLOOKUP(2,INDIRECT($C$73),4,0),\"\")","v":3},null,{"$f":"IF(H2>12,\"Wert - Abzug\",\"entfällt\")","v":"Wert - Abzug"},{"$f":"IF(A32=\"entfällt\",0,IF(F32=\"\",0,D32-F32))","v":0}]
[{"$f":"IF($H$2>11,\"Verbindung Sprung 3\",\"entfällt\")","v":"Verbindung Sprung 3"},null,{"$f":"IF(A33<>\"entfällt\",VLOOKUP(3,INDIRECT($C$73),2,0),\"\")","v":"801<"},{"$f":"IF(A33<>\"entfällt\",VLOOKUP(3,INDIRECT($C$73),3,0),\"\")","v":13},{"$f":"IF(A33<>\"entfällt\",VLOOKUP(3,INDIRECT($C$73),4,0),\"\")","v":3},null,{"$f":"IF(H2>12,\"Wert - Abzug\",\"entfällt\")","v":"Wert - Abzug"},0]
[{"$f":"IF($H$2>11,\"Verbindung Sprung 4\",\"entfällt\")","v":"Verbindung Sprung 4"},null,{"$f":"IF(A34<>\"entfällt\",VLOOKUP(4,INDIRECT($C$73),2,0),\"\")","v":"40/"},{"$f":"IF(A34<>\"entfällt\",VLOOKUP(4,INDIRECT($C$73),3,0),\"\")","v":6},{"$f":"IF(A34<>\"entfällt\",VLOOKUP(4,INDIRECT($C$73),4,0),\"\")","v":3},null,{"$f":"IF(H2>12,\"Wert - Abzug\",\"entfällt\")","v":"Wert - Abzug"},0]
[{"$f":"IF($H$2>11,\"Verbindung Sprung 5\",\"entfällt\")","v":"Verbindung Sprung 5"},null,{"$f":"IF(A35<>\"entfällt\",VLOOKUP(5,INDIRECT($C$73),2,0),\"\")","v":"41/"},{"$f":"IF(A35<>\"entfällt\",VLOOKUP(5,INDIRECT($C$73),3,0),\"\")","v":6},{"$f":"IF(A35<>\"entfällt\",VLOOKUP(5,INDIRECT($C$73),4,0),\"\")","v":3},null,{"$f":"IF(H2>12,\"Wert - Abzug\",\"entfällt\")","v":"Wert - Abzug"},0]
[{"$f":"IF($H$2>11,\"Verbindung Sprung 6\",\"entfällt\")","v":"Verbindung Sprung 6"},null,{"$f":"IF(A36<>\"entfällt\",VLOOKUP(6,INDIRECT($C$73),2,0),\"\")","v":"811<"},{"$f":"IF(A36<>\"entfällt\",VLOOKUP(6,INDIRECT($C$73),3,0),\"\")","v":14},{"$f":"IF(A36<>\"entfällt\",VLOOKUP(6,INDIRECT($C$73),4,0),\"\")","v":3},null,{"$f":"IF(H2>12,\"Wert - Abzug\",\"entfällt\")","v":"Wert - Abzug"},{"$f":"IF(A36=\"entfällt\",0,IF(F36=\"\",0,D36-F36))","v":0}]
["Gesamtpunktzahl Trampolin",null,null,null,null,null,null,{"$f":"SUM(H21:H36)","v":0}]
["Element",null,null,null,"Wert","Abzug","Berechnung","Punkte"]
[{"$f":"VLOOKUP(1,INDIRECT($C$70),2,0)","v":"Salto vorwärts gehockt aus dem Stand"},null,null,null,{"$f":"VLOOKUP(1,INDIRECT($C$70),3,0)","v":5},1,"Wert - Abzug",{"$f":"IF(E39=\" \",\"\",IF(F39=\"\",0,E39-F39))","v":4}]
[{"$f":"VLOOKUP(2,INDIRECT($C$70),2,0)","v":"Vorspreizen, Bestellschritt, Strecksprung 3/2 Drehung"},null,null,null,{"$f":"VLOOKUP(2,INDIRECT($C$70),3,0)","v":3},0.5,"Wert - Abzug",{"$f":"IF(E40=\" \",\"\",IF(F40=\"\",0,E40-F40))","v":2.5}]
[{"$f":"VLOOKUP(3,INDIRECT($C$70),2,0)","v":"Rolle rückwärts durch Handstand mit 1/2 Drehung"},null,null,null,{"$f":"VLOOKUP(3,INDIRECT($C$70),3,0)","v":4},1,"Wert - Abzug",3]
[{"$f":"VLOOKUP(4,INDIRECT($C$70),2,0)","v":"--> Strecksprung --> Salto vorwärts gehockt"},null,null,null,{"$f":"VLOOKUP(4,INDIRECT($C$70),3,0)","v":4},1,"Wert - Abzug",3]
[{"$f":"VLOOKUP(5,INDIRECT($C$70),2,0)","v":"Wiener, 1/2 Drehung, absenken zum Stand"},null,null,null,{"$f":"VLOOKUP(5,INDIRECT($C$70),3,0)","v":4},0.5,"Wert - Abzug",3.5]
[{"$f":"VLOOKUP(6,INDIRECT($C$70),2,0)","v":"Handstand mit zwei Hüpfern, abrollen"},null,null,null,{"$f":"VLOOKUP(6,INDIRECT($C$70),3,0)","v":2},0,"Wert - Abzug",2]
[{"$f":"VLOOKUP(7,INDIRECT($C$70),2,0)","v":"--> aufstehen mit gestreckten Beinen"},null,null,null,{"$f":"VLOOKUP(7,INDIRECT($C$70),3,0)","v":3},1.5,"Wert - Abzug",1.5]
[{"$f":"VLOOKUP(8,INDIRECT($C$70),2,0)","v":"Salto rückwärts gebückt"},null,null,null,{"$f":"VLOOKUP(8,INDIRECT($C$70),3,0)","v":5},1,"Wert - Abzug",4]
[{"$f":"VLOOKUP(9,INDIRECT($C$70),2,0)","v":" "},null,null,null,{"$f":"VLOOKUP(9,INDIRECT($C$70),3,0)","v":" "},null,{"$f":"IF(H2>16,\"\",\"Wert - Abzug\")","v":""},""]
[{"$f":"VLOOKUP(10,INDIRECT($C$70),2,0)","v":" "},null,null,null,{"$f":"VLOOKUP(10,INDIRECT($C$70),3,0)","v":" "},null,{"$f":"IF(H2>16,\"\",\"Wert - Abzug\")","v":""},""]
[{"$f":"VLOOKUP(11,INDIRECT($C$70),2,0)","v":" "},null,null,null,{"$f":"VLOOKUP(11,INDIRECT($C$70),3,0)","v":" "},null,{"$f":"IF(H2>13,\"\",\"Wert - Abzug\")","v":""},""]
[{"$f":"VLOOKUP(12,INDIRECT($C$70),2,0)","v":" "},null,null,null,{"$f":"VLOOKUP(12,INDIRECT($C$70),3,0)","v":" "},null,{"$f":"IF(OR(H2=9,H2=12,H2=13),\"Wert - Abzug\",\"\")","v":""},""]
["Gesamtpunktzahl Bodenkomplexübung",null,null,null,null,null,null,{"$f":"SUM(H39:H50)","v":23.5}]
["Gesamtpunktzahl",null,null,null,null,null,null,{"$f":"SUM(H9,H19,H37,H51)","v":100.5}]
[]
[]
[null,"Shuttles",{"$f":"\"Shuttles_\"&F1&IF(H2=9,\"_9\",IF(H2<12,\"_10_11\",IF(H2<14,\"_12_13\",IF(H2<17,\"_14_16\",\"_17\"))))","v":"Shuttles_weiblich_17"}]
[null,null,{"$f":"\"Shuttles_\"&F1&IF(H2=9,\"_9\",IF(H2<12,\"_10_11\",IF(H2<14,\"_12_13\",IF(H2<17,\"_14_16\",\"_17\"))))&\"[Shuttle]\"","v":"Shuttles_weiblich_17[Shuttle]"}]
[null,null,{"$f":"\"Shuttles_\"&F1&IF(H2=9,\"_9\",IF(H2<12,\"_10_11\",IF(H2<14,\"_12_13\",IF(H2<17,\"_14_16\",\"_17\"))))&\"[Punkte]\"","v":"Shuttles_weiblich_17[Punkte]"}]
[]
[null,"G_TBN TN BKÜ",{"$f":"IF(H2<13,\"beide\",F1)","v":"weiblich"}]
[null,"AK",{"$f":"IF(OR(H2=9,H2=12),H2,IF(H2<12,\"10_11\",IF(H2<15,\"13_14\",IF(H2<17,\"15_16\",IF(H2<19,\"17_18\",19)))))","v":19}]
[]
[null,"TBN",{"$f":"\"TBN_\"&C59&\"_\"&C60","v":"TBN_weiblich_19"}]
[null,null,{"$f":"C62&\"[Beschreibung]\"","v":"TBN_weiblich_19[Beschreibung]"}]
[]
[null,"TN",{"$f":"\"TN_\"&C59&\"_\"&C60","v":"TN_weiblich_19"}]
[null,null,{"$f":"C65&\"[Beschreibung]\"","v":"TN_weiblich_19[Beschreibung]"}]
[]
[null,"TV",{"$f":"\"TV_\"&F1&\"_\"&C60","v":"TV_weiblich_19"}]
[]
[null,"BKÜ",{"$f":"\"BKÜ\"&IF(H2=9,\"_9\",IF(H2<12,\"_10_11\",IF(H2<14,\"_12_13\",IF(H2<17,\"_14_16\",\"_17\"))))","v":"BKÜ_17"}]
[]
[null,"G_TV",{"$f":"IF(H2<17,\"beide\",F1)","v":"weiblich"}]
[null,"TV",{"$f":"\"TV_\"&C72&\"_\"&C60","v":"TV_weiblich_19"}]
[]
[null,{"$f":"SUM(H19,H9,H51)","v":100.5},"Vergleichspunktzahl aus Kraft, Beweglichkeit, Grundlagenausdauer, Bodenübung"]
[null,{"$f":"IF(B75>95,\"Ja\",\"Nein\")","v":"Ja"},"Vergleichspunktzahl erfüllt?"]
[null,{"$f":"IF(F1=\"Weiblich\",VLOOKUP(H2,Punktetabellen!$D$43:$F$49,3,1),VLOOKUP(H2,Punktetabellen!$D$43:$F$49,2,1))","v":178},"Mindest-Gesamtwert"]
[null,{"$f":"IF(H52>=B77,\"Ja\",\"Nein\")","v":"Nein"},"Gesamtwert erfüllt?"]
[null,{"$f":"IF(AND(B76=\"Ja\",B78=\"Ja\"),\"Ja\",\"Nein\")","v":"Nein"},"Alles erfüllt?"]

{"sheet":"BaumannIsabel","index":31,"n_rows":79,"n_cols":8,"rows_kept":79,"cut":false,"hidden":false,"merged":[[11,0,11,4],[0,1,0,4],[1,1,1,5],[2,0,2,4],[3,0,3,4],[4,0,4,4],[5,0,5,4],[6,0,6,4],[7,0,7,4],[8,0,8,6],[9,0,9,4],[10,0,10,4],[23,0,23,1],[12,0,12,4],[13,0,13,4],[14,0,14,4],[15,0,15,4],[16,0,16,1],[17,0,17,4],[18,0,18,6],[19,0,19,2],[20,0,20,2],[21,0,21,1],[22,0,22,1],[41,0,41,3],[30,0,30,1],[31,0,31,1],[32,0,32,1],[33,0,33,1],[34,0,34,1],[35,0,35,1],[36,0,36,6],[37,0,37,3],[38,0,38,3],[39,0,39,3],[40,0,40,3],[48,0,48,3],[49,0,49,3],[50,0,50,6],[51,0,51,6],[42,0,42,3],[43,0,43,3],[44,0,44,3],[45,0,45,3],[46,0,46,3],[47,0,47,3]]}
["Name","Baumann, Isabel",null,null,null,"weiblich","Jahrgang",2001]
["Verein","SC Cottbus",null,null,null,null,"AK",{"$f":"2020-H1","v":19}]
["Übung",null,null,null,null,"Wert","Berechnung","Punkte"]
["Fußdehnung",null,null,null,null,10,"Bild",{"$f":"F4","v":10}]
["Briefmarke mit Armrumpfwinkel",null,null,null,null,10,"Bild",{"$f":"F5","v":10}]
["Bückbeweglichkeit",null,null,null,null,19,"Tabelle",{"$f":"IF(F6=\"\",0,VLOOKUP(F6,Punktetabellen!A10:B15,2,1))","v":8}]
["Querspagat links",null,null,null,null,0,"Tabelle",{"$f":"IF(F7=\"\",0,VLOOKUP(F7,Punktetabellen!A3:B6,2,0))","v":10}]
["Querspagat rechts",null,null,null,null,0,"Tabelle",{"$f":"IF(F8=\"\",0,VLOOKUP(F8,Punktetabellen!A3:B6,2,0))","v":10}]
["Gesamtpunktzahl Beweglichkeit",null,null,null,null,null,null,{"$f":"SUM(H4:H8)","v":48}]
["Übung",null,null,null,null,"Wert","Berechnung","Punktzahl"]
["Klimmzug",null,null,null,null,6,"Tabelle",{"$f":"IF(F11=\"\",0,IF(H2<12,VLOOKUP(F11,Punktetabellen!D4:F14,3,1),VLOOKUP(F11,Punktetabellen!E4:F14,2,1)))","v":1}]
["Beinheben",null,null,null,null,1,"Tabelle",{"$f":"IF(H2=9,VLOOKUP(F12,Punktetabellen!D19:F29,3,1),VLOOKUP(F12,Punktetabellen!E19:F29,2,1))","v":0}]
["Flieger",null,null,null,null,120,"Tabelle",{"$f":"IF(H2=9,VLOOKUP(F13,Punktetabellen!H4:K9,4,1),IF(H2<12,VLOOKUP(F13,Punktetabellen!I4:K9,3,1),VLOOKUP(F13,Punktetabellen!J4:K9,2,1)))","v":10}]
["Rollenverbindung",null,null,null,null,29,"Tabelle",{"$f":"IF(H2=9,VLOOKUP(F14,Punktetabellen!H14:K24,4,1),IF(H2<12,VLOOKUP(F14,Punktetabellen!I14:K24,3,1),VLOOKUP(F14,Punktetabellen!J14:K24,2,1)))","v":10}]
["Prellsprünge",null,null,null,null,6,"Tabelle",{"$f":"IF(H2=9,VLOOKUP(F15,Punktetabellen!M4:Q14,5,1),IF(H2<12,VLOOKUP(F15,Punktetabellen!N4:Q14,4,1),IF(H2<14,VLOOKUP(F15,Punktetabellen!O4:Q14,3,1),VLOOKUP(F15,Punktetabellen!P4:Q14,2,1))))","v":6}]
["Handstandstehen",null,null,null,null,30,"Tabelle",{"$f":"IF(F16=\"\",0,IF(H2<10,VLOOKUP(F16,Punktetabellen!D34:F40,3,1),VLOOKUP(F16,Punktetabellen!E34:F40,2,1)))","v":10}]
["Schweizer, Wiener",null,{"$f":"IF(H2<12,\"\",IF(AND(H2>13,H2<17),\"Schweizer: \",\"Wiener: \"))","v":"Wiener: "},0,{"$f":"IF(H2<12,\"\",IF(AND(H2>13,H2<17),\"Wiener: \",\"Schweizer: \"))","v":"Schweizer: "},0,"Tabelle",{"$f":"IF(H2<12,VLOOKUP(F17,Punktetabellen!A20:B25,2,1),((MIN(5,1*D17)*2)+MIN(MAX(0,5-(1*D17)),(1*F17))))","v":0}]
["Bleep-Test",null,null,null,null,"L9 S5","Tabelle",{"$f":"IF(F18=\"\",0,VLOOKUP(F18,INDIRECT(C55),2,0))","v":7}]
["Gesamtpunktzahl Kraft/Kondition",null,null,null,null,null,null,{"$f":"SUM(H11:H18)","v":44}]
["Übung",null,null,"Max / Soll","Max. Abzug","Abzug / Ist","Berechnung","Punkte"]
["Standsprunghöhe",null,null,{"$f":"IF(F1=\"männlich\",VLOOKUP(H2,Standsprünge!A3:C15,3,0),VLOOKUP(H2,Standsprünge!A3:B15,2,0))","v":16.5},null,17.295000000000002,"(Ist - Soll) x 10",{"$f":"IF(F21=\"\",0,(F21-D21)*10)","v":7.9500000000000171}]
[{"$f":"IF(H2>16,\"entfällt\",\"TBN\")","v":"entfällt"},null,null,{"$f":"IF(C22=\"\",\"\",VLOOKUP(C22,INDIRECT($C$62),2,0))","v":""},{"$f":"IF(C22=\"\",\"\",VLOOKUP(C22,INDIRECT($C$62),3,0))","v":""},null,{"$f":"IF(H2>16,\"entfällt\",\"Wert - Abzug\")","v":"entfällt"},{"$f":"IF(A22=\"entfällt\",0,IF(F22=\"\",0,D22-F22))","v":0}]
[{"$f":"IF(H2>16,\"entfällt\",\"TBN\")","v":"entfällt"},null,null,{"$f":"IF(C23=\"\",\"\",VLOOKUP(C23,INDIRECT($C$62),2,0))","v":""},{"$f":"IF(C23=\"\",\"\",VLOOKUP(C23,INDIRECT($C$62),3,0))","v":""},null,{"$f":"IF(H2>16,\"entfällt\",\"Wert - Abzug\")","v":"entfällt"},{"$f":"IF(A23=\"entfällt\",0,IF(F23=\"\",0,D23-F23))","v":0}]
[{"$f":"IF(H2>12,\"entfällt\",\"TBN\")","v":"entfällt"},null,null,{"$f":"IF(C24=\"\",\"\",VLOOKUP(C24,INDIRECT($C$62),2,0))","v":""},{"$f":"IF(C24=\"\",\"\",VLOOKUP(C24,INDIRECT($C$62),3,0))","v":""},null,{"$f":"IF(H2>16,\"entfällt\",\"Wert - Abzug\")","v":"entfällt"},0]
["TN",{"$f":"IF(C25=\"\",\"\",VLOOKUP(C25,INDIRECT($C$65),2,0))","v":"822/"},"1/1 ein 1/1 aus a",{"$f":"IF(C25=\"\",\"\",VLOOKUP(C25,INDIRECT($C$65),3,0))","v":16},{"$f":"IF(C25=\"\",\"\",VLOOKUP(C25,INDIRECT($C$65),4,0))","v":6},4,"Wert - Abzug",12]
["TN","12001°","Triffis c",17,6,4,"Wert - Abzug",13]
["TN","",null,"","",null,"Wert - Abzug",0]
[{"$f":"IF(H2>12,\"TN\",\"entfällt\")","v":"TN"},"",null,"","",null,{"$f":"IF(H2>12,\"Wert - Abzug\",\"entfällt\")","v":"Wert - Abzug"},0]
[{"$f":"IF(H2>16,\"TN\",\"entfällt\")","v":"TN"},"",null,"","",null,{"$f":"IF(H2>16,\"Wert - Abzug\",\"entfällt\")","v":"Wert - Abzug"},0]
[{"$f":"IF(H2>16,\"TN\",\"entfällt\")","v":"TN"},"",null,"","",null,{"$f":"IF(H2>16,\"Wert - Abzug\",\"entfällt\")","v":"Wert - Abzug"},{"$f":"IF(A30=\"entfällt\",0,IF(F30=\"\",0,D30-F30))","v":0}]
[{"$f":"IF($H$2>11,\"Verbindung Sprung 1\",\"entfällt\")","v":"Verbindung Sprung 1"},null,{"$f":"IF(A31<>\"entfällt\",VLOOKUP(1,INDIRECT($C$73),2,0),\"\")","v":"803<"},{"$f":"IF(A31<>\"entfällt\",VLOOKUP(1,INDIRECT($C$73),3,0),\"\")","v":15},{"$f":"IF(A31<>\"entfällt\",VLOOKUP(1,INDIRECT($C$73),4,0),\"\")","v":3},1,{"$f":"IF(H2>12,\"Wert - Abzug\",\"entfällt\")","v":"Wert - Abzug"},{"$f":"IF(A31=\"entfällt\",0,IF(F31=\"\",0,D31-F31))","v":14}]
[{"$f":"IF($H$2>11,\"Verbindung Sprung 2\",\"entfällt\")","v":"Verbindung Sprung 2"},null,{"$f":"IF(A32<>\"entfällt\",VLOOKUP(2,INDIRECT($C$73),2,0),\"\")","v":"40<"},{"$f":"IF(A32<>\"entfällt\",VLOOKUP(2,INDIRECT($C$73),3,0),\"\")","v":6},{"$f":"IF(A32<>\"entfällt\",VLOOKUP(2,INDIRECT($C$73),4,0),\"\")","v":3},1,{"$f":"IF(H2>12,\"Wert - Abzug\",\"entfällt\")","v":"Wert - Abzug"},{"$f":"IF(A32=\"entfällt\",0,IF(F32=\"\",0,D32-F32))","v":5}]
[{"$f":"IF($H$2>11,\"Verbindung Sprung 3\",\"entfällt\")","v":"Verbindung Sprung 3"},null,{"$f":"IF(A33<>\"entfällt\",VLOOKUP(3,INDIRECT($C$73),2,0),\"\")","v":"801<"},{"$f":"IF(A33<>\"entfällt\",VLOOKUP(3,INDIRECT($C$73),3,0),\"\")","v":13},{"$f":"IF(A33<>\"entfällt\",VLOOKUP(3,INDIRECT($C$73),4,0),\"\")","v":3},1,{"$f":"IF(H2>12,\"Wert - Abzug\",\"entfällt\")","v":"Wert - Abzug"},12]
[{"$f":"IF($H$2>11,\"Verbindung Sprung 4\",\"entfällt\")","v":"Verbindung Sprung 4"},null,{"$f":"IF(A34<>\"entfällt\",VLOOKUP(4,INDIRECT($C$73),2,0),\"\")","v":"40/"},{"$f":"IF(A34<>\"entfällt\",VLOOKUP(4,INDIRECT($C$73),3,0),\"\")","v":6},{"$f":"IF(A34<>\"entfällt\",VLOOKUP(4,INDIRECT($C$73),4,0),\"\")","v":3},1,{"$f":"IF(H2>12,\"Wert - Abzug\",\"entfällt\")","v":"Wert - Abzug"},5]
[{"$f":"IF($H$2>11,\"Verbindung Sprung 5\",\"entfällt\")","v":"Verbindung Sprung 5"},null,{"$f":"IF(A35<>\"entfällt\",VLOOKUP(5,INDIRECT($C$73),2,0),\"\")","v":"41/"},{"$f":"IF(A35<>\"entfällt\",VLOOKUP(5,INDIRECT($C$73),3,0),\"\")","v":6},{"$f":"IF(A35<>\"entfällt\",VLOOKUP(5,INDIRECT($C$73),4,0),\"\")","v":3},1,{"$f":"IF(H2>12,\"Wert - Abzug\",\"entfällt\")","v":"Wert - Abzug"},5]
[{"$f":"IF($H$2>11,\"Verbindung Sprung 6\",\"entfällt\")","v":"Verbindung Sprung 6"},null,{"$f":"IF(A36<>\"entfällt\",VLOOKUP(6,INDIRECT($C$73),2,0),\"\")","v":"811<"},{"$f":"IF(A36<>\"entfällt\",VLOOKUP(6,INDIRECT($C$73),3,0),\"\")","v":14},{"$f":"IF(A36<>\"entfällt\",VLOOKUP(6,INDIRECT($C$73),4,0),\"\")","v":3},3,{"$f":"IF(H2>12,\"Wert - Abzug\",\"entfällt\")","v":"Wert - Abzug"},{"$f":"IF(A36=\"entfällt\",0,IF(F36=\"\",0,D36-F36))","v":11}]
["Gesamtpunktzahl Trampolin",null,null,null,null,null,null,{"$f":"SUM(H21:H36)","v":84.950000000000017}]
["Element",null,null,null,"Wert","Abzug","Berechnung","Punkte"]
[{"$f":"VLOOKUP(1,INDIRECT($C$70),2,0)","v":"Salto vorwärts gehockt aus dem Stand"},null,null,null,{"$f":"VLOOKUP(1,INDIRECT($C$70),3,0)","v":5},1,"Wert - Abzug",{"$f":"IF(E39=\" \",\"\",IF(F39=\"\",0,E39-F39))","v":4}]
[{"$f":"VLOOKUP(2,INDIRECT($C$70),2,0)","v":"Vorspreizen, Bestellschritt, Strecksprung 3/2 Drehung"},null,null,null,{"$f":"VLOOKUP(2,INDIRECT($C$70),3,0)","v":3},0.5,"Wert - Abzug",{"$f":"IF(E40=\" \",\"\",IF(F40=\"\",0,E40-F40))","v":2.5}]
[{"$f":"VLOOKUP(3,INDIRECT($C$70),2,0)","v":"Rolle rückwärts durch Handstand mit 1/2 Drehung"},null,null,null,{"$f":"VLOOKUP(3,INDIRECT($C$70),3,0)","v":4},1.5,"Wert - Abzug",2.5]
[{"$f":"VLOOKUP(4,INDIRECT($C$70),2,0)","v":"--> Strecksprung --> Salto vorwärts gehockt"},null,null,null,{"$f":"VLOOKUP(4,INDIRECT($C$70),3,0)","v":4},1.5,"Wert - Abzug",2.5]
[{"$f":"VLOOKUP(5,INDIRECT($C$70),2,0)","v":"Wiener, 1/2 Drehung, absenken zum Stand"},null,null,null,{"$f":"VLOOKUP(5,INDIRECT($C$70),3,0)","v":4},0,"Wert - Abzug",4]
[{"$f":"VLOOKUP(6,INDIRECT($C$70),2,0)","v":"Handstand mit zwei Hüpfern, abrollen"},null,null,null,{"$f":"VLOOKUP(6,INDIRECT($C$70),3,0)","v":2},0,"Wert - Abzug",2]
[{"$f":"VLOOKUP(7,INDIRECT($C$70),2,0)","v":"--> aufstehen mit gestreckten Beinen"},null,null,null,{"$f":"VLOOKUP(7,INDIRECT($C$70),3,0)","v":3},0,"Wert - Abzug",3]
[{"$f":"VLOOKUP(8,INDIRECT($C$70),2,0)","v":"Salto rückwärts gebückt"},null,null,null,{"$f":"VLOOKUP(8,INDIRECT($C$70),3,0)","v":5},2,"Wert - Abzug",3]
[{"$f":"VLOOKUP(9,INDIRECT($C$70),2,0)","v":" "},null,null,null,{"$f":"VLOOKUP(9,INDIRECT($C$70),3,0)","v":" "},null,{"$f":"IF(H2>16,\"\",\"Wert - Abzug\")","v":""},""]
[{"$f":"VLOOKUP(10,INDIRECT($C$70),2,0)","v":" "},null,null,null,{"$f":"VLOOKUP(10,INDIRECT($C$70),3,0)","v":" "},null,{"$f":"IF(H2>16,\"\",\"Wert - Abzug\")","v":""},""]
[{"$f":"VLOOKUP(11,INDIRECT($C$70),2,0)","v":" "},null,null,null,{"$f":"VLOOKUP(11,INDIRECT($C$70),3,0)","v":" "},null,{"$f":"IF(H2>13,\"\",\"Wert - Abzug\")","v":""},""]
[{"$f":"VLOOKUP(12,INDIRECT($C$70),2,0)","v":" "},null,null,null,{"$f":"VLOOKUP(12,INDIRECT($C$70),3,0)","v":" "},null,{"$f":"IF(OR(H2=9,H2=12,H2=13),\"Wert - Abzug\",\"\")","v":""},""]
["Gesamtpunktzahl Bodenkomplexübung",null,null,null,null,null,null,{"$f":"SUM(H39:H50)","v":23.5}]
["Gesamtpunktzahl",null,null,null,null,null,null,{"$f":"SUM(H9,H19,H37,H51)","v":200.45000000000002}]
[]
[]
[null,"Shuttles",{"$f":"\"Shuttles_\"&F1&IF(H2=9,\"_9\",IF(H2<12,\"_10_11\",IF(H2<14,\"_12_13\",IF(H2<17,\"_14_16\",\"_17\"))))","v":"Shuttles_weiblich_17"}]
[null,null,{"$f":"\"Shuttles_\"&F1&IF(H2=9,\"_9\",IF(H2<12,\"_10_11\",IF(H2<14,\"_12_13\",IF(H2<17,\"_14_16\",\"_17\"))))&\"[Shuttle]\"","v":"Shuttles_weiblich_17[Shuttle]"}]
[null,null,{"$f":"\"Shuttles_\"&F1&IF(H2=9,\"_9\",IF(H2<12,\"_10_11\",IF(H2<14,\"_12_13\",IF(H2<17,\"_14_16\",\"_17\"))))&\"[Punkte]\"","v":"Shuttles_weiblich_17[Punkte]"}]
[]
[null,"G_TBN TN BKÜ",{"$f":"IF(H2<13,\"beide\",F1)","v":"weiblich"}]
[null,"AK",{"$f":"IF(OR(H2=9,H2=12),H2,IF(H2<12,\"10_11\",IF(H2<15,\"13_14\",IF(H2<17,\"15_16\",IF(H2<19,\"17_18\",19)))))","v":19}]
[]
[null,"TBN",{"$f":"\"TBN_\"&C59&\"_\"&C60","v":"TBN_weiblich_19"}]
[null,null,{"$f":"C62&\"[Beschreibung]\"","v":"TBN_weiblich_19[Beschreibung]"}]
[]
[null,"TN",{"$f":"\"TN_\"&C59&\"_\"&C60","v":"TN_weiblich_19"}]
[null,null,{"$f":"C65&\"[Beschreibung]\"","v":"TN_weiblich_19[Beschreibung]"}]
[]
[null,"TV",{"$f":"\"TV_\"&F1&\"_\"&C60","v":"TV_weiblich_19"}]
[]
[null,"BKÜ",{"$f":"\"BKÜ\"&IF(H2=9,\"_9\",IF(H2<12,\"_10_11\",IF(H2<14,\"_12_13\",IF(H2<17,\"_14_16\",\"_17\"))))","v":"BKÜ_17"}]
[]
[null,"G_TV",{"$f":"IF(H2<17,\"beide\",F1)","v":"weiblich"}]
[null,"TV",{"$f":"\"TV_\"&C72&\"_\"&C60","v":"TV_weiblich_19"}]
[]
[null,{"$f":"SUM(H19,H9,H51)","v":115.5},"Vergleichspunktzahl aus Kraft, Beweglichkeit, Grundlagenausdauer, Bodenübung"]
[null,{"$f":"IF(B75>95,\"Ja\",\"Nein\")","v":"Ja"},"Vergleichspunktzahl erfüllt?"]
[null,{"$f":"IF(F1=\"Weiblich\",VLOOKUP(H2,Punktetabellen!$D$43:$F$49,3,1),VLOOKUP(H2,Punktetabellen!$D$43:$F$49,2,1))","v":178},"Mindest-Gesamtwert"]
[null,{"$f":"IF(H52>=B77,\"Ja\",\"Nein\")","v":"Ja"},"Gesamtwert erfüllt?"]
[null,{"$f":"IF(AND(B76=\"Ja\",B78=\"Ja\"),\"Ja\",\"Nein\")","v":"Ja"},"Alles erfüllt?"]

{"sheet":"GarmannLars","index":32,"n_rows":79,"n_cols":8,"rows_kept":79,"cut":false,"hidden":false,"merged":[[11,0,11,4],[0,1,0,4],[1,1,1,5],[2,0,2,4],[3,0,3,4],[4,0,4,4],[5,0,5,4],[6,0,6,4],[7,0,7,4],[8,0,8,6],[9,0,9,4],[10,0,10,4],[23,0,23,1],[12,0,12,4],[13,0,13,4],[14,0,14,4],[15,0,15,4],[16,0,16,1],[17,0,17,4],[18,0,18,6],[19,0,19,2],[20,0,20,2],[21,0,21,1],[22,0,22,1],[41,0,41,3],[30,0,30,1],[31,0,31,1],[32,0,32,1],[33,0,33,1],[34,0,34,1],[35,0,35,1],[36,0,36,6],[37,0,37,3],[38,0,38,3],[39,0,39,3],[40,0,40,3],[48,0,48,3],[49,0,49,3],[50,0,50,6],[51,0,51,6],[42,0,42,3],[43,0,43,3],[44,0,44,3],[45,0,45,3],[46,0,46,3],[47,0,47,3]]}
["Name","Garmann, Lars",null,null,null,"männlich","Jahrgang",2004]
["Verein","SC Cottbus",null,null,null,null,"AK",{"$f":"2020-H1","v":16}]
["Übung",null,null,null,null,"Wert","Berechnung","Punkte"]
["Fußdehnung",null,null,null,null,10,"Bild",{"$f":"F4","v":10}]
["Briefmarke mit Armrumpfwinkel",null,null,null,null,10,"Bild",{"$f":"F5","v":10}]
["Bückbeweglichkeit",null,null,null,null,18,"Tabelle",{"$f":"IF(F6=\"\",0,VLOOKUP(F6,Punktetabellen!A10:B15,2,1))","v":8}]
["Querspagat links",null,null,null,null,0,"Tabelle",{"$f":"IF(F7=\"\",0,VLOOKUP(F7,Punktetabellen!A3:B6,2,0))","v":10}]
["Querspagat rechts",null,null,null,null,0,"Tabelle",{"$f":"IF(F8=\"\",0,VLOOKUP(F8,Punktetabellen!A3:B6,2,0))","v":10}]
["Gesamtpunktzahl Beweglichkeit",null,null,null,null,null,null,{"$f":"SUM(H4:H8)","v":48}]
["Übung",null,null,null,null,"Wert","Berechnung","Punktzahl"]
["Klimmzug",null,null,null,null,12,"Tabelle",{"$f":"IF(F11=\"\",0,IF(H2<12,VLOOKUP(F11,Punktetabellen!D4:F14,3,1),VLOOKUP(F11,Punktetabellen!E4:F14,2,1)))","v":7}]
["Beinheben",null,null,null,null,3,"Tabelle",{"$f":"IF(H2=9,VLOOKUP(F12,Punktetabellen!D19:F29,3,1),VLOOKUP(F12,Punktetabellen!E19:F29,2,1))","v":1}]
["Flieger",null,null,null,null,80,"Tabelle",{"$f":"IF(H2=9,VLOOKUP(F13,Punktetabellen!H4:K9,4,1),IF(H2<12,VLOOKUP(F13,Punktetabellen!I4:K9,3,1),VLOOKUP(F13,Punktetabellen!J4:K9,2,1)))","v":2}]
["Rollenverbindung",null,null,null,null,29,"Tabelle",{"$f":"IF(H2=9,VLOOKUP(F14,Punktetabellen!H14:K24,4,1),IF(H2<12,VLOOKUP(F14,Punktetabellen!I14:K24,3,1),VLOOKUP(F14,Punktetabellen!J14:K24,2,1)))","v":10}]
["Prellsprünge",null,null,null,null,9,"Tabelle",{"$f":"IF(H2=9,VLOOKUP(F15,Punktetabellen!M4:Q14,5,1),IF(H2<12,VLOOKUP(F15,Punktetabellen!N4:Q14,4,1),IF(H2<14,VLOOKUP(F15,Punktetabellen!O4:Q14,3,1),VLOOKUP(F15,Punktetabellen!P4:Q14,2,1))))","v":9}]
["Handstandstehen",null,null,null,null,30,"Tabelle",{"$f":"IF(F16=\"\",0,IF(H2<10,VLOOKUP(F16,Punktetabellen!D34:F40,3,1),VLOOKUP(F16,Punktetabellen!E34:F40,2,1)))","v":10}]
["Schweizer, Wiener",null,{"$f":"IF(H2<12,\"\",IF(AND(H2>13,H2<17),\"Schweizer: \",\"Wiener: \"))","v":"Schweizer: "},0,{"$f":"IF(H2<12,\"\",IF(AND(H2>13,H2<17),\"Wiener: \",\"Schweizer: \"))","v":"Wiener: "},0,"Tabelle",{"$f":"IF(H2<12,VLOOKUP(F17,Punktetabellen!A20:B25,2,1),((MIN(5,1*D17)*2)+MIN(MAX(0,5-(1*D17)),(1*F17))))","v":0}]
["Bleep-Test",null,null,null,null,null,"Tabelle",{"$f":"IF(F18=\"\",0,VLOOKUP(F18,INDIRECT(C55),2,0))","v":0}]
["Gesamtpunktzahl Kraft/Kondition",null,null,null,null,null,null,{"$f":"SUM(H11:H18)","v":39}]
["Übung",null,null,"Max / Soll","Max. Abzug","Abzug / Ist","Berechnung","Punkte"]
["Standsprunghöhe",null,null,{"$f":"IF(F1=\"männlich\",VLOOKUP(H2,Standsprünge!A3:C15,3,0),VLOOKUP(H2,Standsprünge!A3:B15,2,0))","v":16.8},null,16.649999999999999,"(Ist - Soll) x 10",{"$f":"IF(F21=\"\",0,(F21-D21)*10)","v":-1.5000000000000213}]
[{"$f":"IF(H2>16,\"entfällt\",\"TBN\")","v":"TBN"},null,"11/4 (2 3/4) Salto vw c zum Rücken",{"$f":"IF(C22=\"\",\"\",VLOOKUP(C22,INDIRECT($C$62),2,0))","v":13},{"$f":"IF(C22=\"\",\"\",VLOOKUP(C22,INDIRECT($C$62),3,0))","v":6},4,{"$f":"IF(H2>16,\"entfällt\",\"Wert - Abzug\")","v":"Wert - Abzug"},{"$f":"IF(A22=\"entfällt\",0,IF(F22=\"\",0,D22-F22))","v":9}]
[{"$f":"IF(H2>16,\"entfällt\",\"TBN\")","v":"TBN"},null,"7/4 Salto rw c, 1/1 ein 1/2 aus",{"$f":"IF(C23=\"\",\"\",VLOOKUP(C23,INDIRECT($C$62),2,0))","v":11},{"$f":"IF(C23=\"\",\"\",VLOOKUP(C23,INDIRECT($C$62),3,0))","v":6},2,{"$f":"IF(H2>16,\"entfällt\",\"Wert - Abzug\")","v":"Wert - Abzug"},{"$f":"IF(A23=\"entfällt\",0,IF(F23=\"\",0,D23-F23))","v":9}]
[{"$f":"IF(H2>12,\"entfällt\",\"TBN\")","v":"entfällt"},null,null,{"$f":"IF(C24=\"\",\"\",VLOOKUP(C24,INDIRECT($C$62),2,0))","v":""},{"$f":"IF(C24=\"\",\"\",VLOOKUP(C24,INDIRECT($C$62),3,0))","v":""},null,{"$f":"IF(H2>16,\"entfällt\",\"Wert - Abzug\")","v":"Wert - Abzug"},0]
["TN",{"$f":"IF(C25=\"\",\"\",VLOOKUP(C25,INDIRECT($C$65),2,0))","v":"12001°"},"Triffis c",{"$f":"IF(C25=\"\",\"\",VLOOKUP(C25,INDIRECT($C$65),3,0))","v":17},{"$f":"IF(C25=\"\",\"\",VLOOKUP(C25,INDIRECT($C$65),4,0))","v":6},4,"Wert - Abzug",13]
["TN","803<","Fliffisrudi b",15,6,6,"Wert - Abzug",9]
["TN","811<","1/2 ein 1/2 aus b",14,6,6,"Wert - Abzug",8]
[{"$f":"IF(H2>12,\"TN\",\"entfällt\")","v":"TN"},"821<","1/1 ein 1/2 aus b",15,6,6,{"$f":"IF(H2>12,\"Wert - Abzug\",\"entfällt\")","v":"Wert - Abzug"},9]
[{"$f":"IF(H2>16,\"TN\",\"entfällt\")","v":"entfällt"},"",null,"","",null,{"$f":"IF(H2>16,\"Wert - Abzug\",\"entfällt\")","v":"entfällt"},0]
[{"$f":"IF(H2>16,\"TN\",\"entfällt\")","v":"entfällt"},"",null,"","",null,{"$f":"IF(H2>16,\"Wert - Abzug\",\"entfällt\")","v":"entfällt"},{"$f":"IF(A30=\"entfällt\",0,IF(F30=\"\",0,D30-F30))","v":0}]
[{"$f":"IF($H$2>11,\"Verbindung Sprung 1\",\"entfällt\")","v":"Verbindung Sprung 1"},null,{"$f":"IF(A31<>\"entfällt\",VLOOKUP(1,INDIRECT($C$73),2,0),\"\")","v":"801<"},{"$f":"IF(A31<>\"entfällt\",VLOOKUP(1,INDIRECT($C$73),3,0),\"\")","v":13},{"$f":"IF(A31<>\"entfällt\",VLOOKUP(1,INDIRECT($C$73),4,0),\"\")","v":3},1,{"$f":"IF(H2>12,\"Wert - Abzug\",\"entfällt\")","v":"Wert - Abzug"},{"$f":"IF(A31=\"entfällt\",0,IF(F31=\"\",0,D31-F31))","v":12}]
[{"$f":"IF($H$2>11,\"Verbindung Sprung 2\",\"entfällt\")","v":"Verbindung Sprung 2"},null,{"$f":"IF(A32<>\"entfällt\",VLOOKUP(2,INDIRECT($C$73),2,0),\"\")","v":"40<"},{"$f":"IF(A32<>\"entfällt\",VLOOKUP(2,INDIRECT($C$73),3,0),\"\")","v":6},{"$f":"IF(A32<>\"entfällt\",VLOOKUP(2,INDIRECT($C$73),4,0),\"\")","v":3},1,{"$f":"IF(H2>12,\"Wert - Abzug\",\"entfällt\")","v":"Wert - Abzug"},{"$f":"IF(A32=\"entfällt\",0,IF(F32=\"\",0,D32-F32))","v":5}]
[{"$f":"IF($H$2>11,\"Verbindung Sprung 3\",\"entfällt\")","v":"Verbindung Sprung 3"},null,{"$f":"IF(A33<>\"entfällt\",VLOOKUP(3,INDIRECT($C$73),2,0),\"\")","v":"801°"},{"$f":"IF(A33<>\"entfällt\",VLOOKUP(3,INDIRECT($C$73),3,0),\"\")","v":11},{"$f":"IF(A33<>\"entfällt\",VLOOKUP(3,INDIRECT($C$73),4,0),\"\")","v":3},1,{"$f":"IF(H2>12,\"Wert - Abzug\",\"entfällt\")","v":"Wert - Abzug"},10]
[{"$f":"IF($H$2>11,\"Verbindung Sprung 4\",\"entfällt\")","v":"Verbindung Sprung 4"},null,{"$f":"IF(A34<>\"entfällt\",VLOOKUP(4,INDIRECT($C$73),2,0),\"\")","v":"40/"},{"$f":"IF(A34<>\"entfällt\",VLOOKUP(4,INDIRECT($C$73),3,0),\"\")","v":6},{"$f":"IF(A34<>\"entfällt\",VLOOKUP(4,INDIRECT($C$73),4,0),\"\")","v":3},1,{"$f":"IF(H2>12,\"Wert - Abzug\",\"entfällt\")","v":"Wert - Abzug"},5]
[{"$f":"IF($H$2>11,\"Verbindung Sprung 5\",\"entfällt\")","v":"Verbindung Sprung 5"},null,{"$f":"IF(A35<>\"entfällt\",VLOOKUP(5,INDIRECT($C$73),2,0),\"\")","v":"41/"},{"$f":"IF(A35<>\"entfällt\",VLOOKUP(5,INDIRECT($C$73),3,0),\"\")","v":6},{"$f":"IF(A35<>\"entfällt\",VLOOKUP(5,INDIRECT($C$73),4,0),\"\")","v":3},1,{"$f":"IF(H2>12,\"Wert - Abzug\",\"entfällt\")","v":"Wert - Abzug"},5]
[{"$f":"IF($H$2>11,\"Verbindung Sprung 6\",\"entfällt\")","v":"Verbindung Sprung 6"},null,{"$f":"IF(A36<>\"entfällt\",VLOOKUP(6,INDIRECT($C$73),2,0),\"\")","v":"800°"},{"$f":"IF(A36<>\"entfällt\",VLOOKUP(6,INDIRECT($C$73),3,0),\"\")","v":10},{"$f":"IF(A36<>\"entfällt\",VLOOKUP(6,INDIRECT($C$73),4,0),\"\")","v":3},2,{"$f":"IF(H2>12,\"Wert - Abzug\",\"entfällt\")","v":"Wert - Abzug"},{"$f":"IF(A36=\"entfällt\",0,IF(F36=\"\",0,D36-F36))","v":8}]
["Gesamtpunktzahl Trampolin",null,null,null,null,null,null,{"$f":"SUM(H21:H36)","v":100.49999999999997}]
["Element",null,null,null,"Wert","Abzug","Berechnung","Punkte"]
[{"$f":"VLOOKUP(1,INDIRECT($C$70),2,0)","v":"Flugrolle mit Überstrecken mit Anlauf"},null,null,null,{"$f":"VLOOKUP(1,INDIRECT($C$70),3,0)","v":3},0,"Wert - Abzug",{"$f":"IF(E39=\" \",\"\",IF(F39=\"\",0,E39-F39))","v":3}]
[{"$f":"VLOOKUP(2,INDIRECT($C$70),2,0)","v":"--> Strecksprung, Salto vorwärts gehockt"},null,null,null,{"$f":"VLOOKUP(2,INDIRECT($C$70),3,0)","v":4.5},0.5,"Wert - Abzug",{"$f":"IF(E40=\" \",\"\",IF(F40=\"\",0,E40-F40))","v":4}]
[{"$f":"VLOOKUP(3,INDIRECT($C$70),2,0)","v":"Vorspreizen, Handstand mit 1/1 Drehung, abrollen"},null,null,null,{"$f":"VLOOKUP(3,INDIRECT($C$70),3,0)","v":3},0.5,"Wert - Abzug",2.5]
[{"$f":"VLOOKUP(4,INDIRECT($C$70),2,0)","v":"--> Aufstehen mit gestreckten Beinen"},null,null,null,{"$f":"VLOOKUP(4,INDIRECT($C$70),3,0)","v":3},0,"Wert - Abzug",3]
[{"$f":"VLOOKUP(5,INDIRECT($C$70),2,0)","v":"Vorspreizen, Bestellschritt, Strecksprung 3/2 Drehung"},null,null,null,{"$f":"VLOOKUP(5,INDIRECT($C$70),3,0)","v":3},1.5,"Wert - Abzug",1.5]
[{"$f":"VLOOKUP(6,INDIRECT($C$70),2,0)","v":"Salto rückwärts gehockt"},null,null,null,{"$f":"VLOOKUP(6,INDIRECT($C$70),3,0)","v":3},0,"Wert - Abzug",3]
[{"$f":"VLOOKUP(7,INDIRECT($C$70),2,0)","v":"Handstützüberschlag"},null,null,null,{"$f":"VLOOKUP(7,INDIRECT($C$70),3,0)","v":3},null,"Wert - Abzug",0]
[{"$f":"VLOOKUP(8,INDIRECT($C$70),2,0)","v":"--> Ansprung Schrittstellung, Handstand mit zwei Hüpfern"},null,null,null,{"$f":"VLOOKUP(8,INDIRECT($C$70),3,0)","v":3},0.5,"Wert - Abzug",2.5]
[{"$f":"VLOOKUP(9,INDIRECT($C$70),2,0)","v":"Abrollen --> Strecksprung 1/2 Drehung"},null,null,null,{"$f":"VLOOKUP(9,INDIRECT($C$70),3,0)","v":1.5},0,{"$f":"IF(H2>16,\"\",\"Wert - Abzug\")","v":"Wert - Abzug"},1.5]
[{"$f":"VLOOKUP(10,INDIRECT($C$70),2,0)","v":"Salto vorwärts gebückt mit Anlauf"},null,null,null,{"$f":"VLOOKUP(10,INDIRECT($C$70),3,0)","v":3},0,{"$f":"IF(H2>16,\"\",\"Wert - Abzug\")","v":"Wert - Abzug"},3]
[{"$f":"VLOOKUP(11,INDIRECT($C$70),2,0)","v":" "},null,null,null,{"$f":"VLOOKUP(11,INDIRECT($C$70),3,0)","v":" "},null,{"$f":"IF(H2>13,\"\",\"Wert - Abzug\")","v":""},""]
[{"$f":"VLOOKUP(12,INDIRECT($C$70),2,0)","v":" "},null,null,null,{"$f":"VLOOKUP(12,INDIRECT($C$70),3,0)","v":" "},null,{"$f":"IF(OR(H2=9,H2=12,H2=13),\"Wert - Abzug\",\"\")","v":""},""]
["Gesamtpunktzahl Bodenkomplexübung",null,null,null,null,null,null,{"$f":"SUM(H39:H50)","v":24}]
["Gesamtpunktzahl",null,null,null,null,null,null,{"$f":"SUM(H9,H19,H37,H51)","v":211.49999999999997}]
[]
[]
[null,"Shuttles",{"$f":"\"Shuttles_\"&F1&IF(H2=9,\"_9\",IF(H2<12,\"_10_11\",IF(H2<14,\"_12_13\",IF(H2<17,\"_14_16\",\"_17\"))))","v":"Shuttles_männlich_14_16"}]
[null,null,{"$f":"\"Shuttles_\"&F1&IF(H2=9,\"_9\",IF(H2<12,\"_10_11\",IF(H2<14,\"_12_13\",IF(H2<17,\"_14_16\",\"_17\"))))&\"[Shuttle]\"","v":"Shuttles_männlich_14_16[Shuttle]"}]
[null,null,{"$f":"\"Shuttles_\"&F1&IF(H2=9,\"_9\",IF(H2<12,\"_10_11\",IF(H2<14,\"_12_13\",IF(H2<17,\"_14_16\",\"_17\"))))&\"[Punkte]\"","v":"Shuttles_männlich_14_16[Punkte]"}]
[]
[null,"G_TBN TN BKÜ",{"$f":"IF(H2<13,\"beide\",F1)","v":"männlich"}]
[null,"AK",{"$f":"IF(OR(H2=9,H2=12),H2,IF(H2<12,\"10_11\",IF(H2<15,\"13_14\",IF(H2<17,\"15_16\",IF(H2<19,\"17_18\",19)))))","v":"15_16"}]
[]
[null,"TBN",{"$f":"\"TBN_\"&C59&\"_\"&C60","v":"TBN_männlich_15_16"}]
[null,null,{"$f":"C62&\"[Beschreibung]\"","v":"TBN_männlich_15_16[Beschreibung]"}]
[]
[null,"TN",{"$f":"\"TN_\"&C59&\"_\"&C60","v":"TN_männlich_15_16"}]
[null,null,{"$f":"C65&\"[Beschreibung]\"","v":"TN_männlich_15_16[Beschreibung]"}]
[]
[null,"TV",{"$f":"\"TV_\"&F1&\"_\"&C60","v":"TV_männlich_15_16"}]
[]
[null,"BKÜ",{"$f":"\"BKÜ\"&IF(H2=9,\"_9\",IF(H2<12,\"_10_11\",IF(H2<14,\"_12_13\",IF(H2<17,\"_14_16\",\"_17\"))))","v":"BKÜ_14_16"}]
[]
[null,"G_TV",{"$f":"IF(H2<17,\"beide\",F1)","v":"beide"}]
[null,"TV",{"$f":"\"TV_\"&C72&\"_\"&C60","v":"TV_beide_15_16"}]
[]
[null,{"$f":"SUM(H19,H9,H51)","v":111},"Vergleichspunktzahl aus Kraft, Beweglichkeit, Grundlagenausdauer, Bodenübung"]
[null,{"$f":"IF(B75>95,\"Ja\",\"Nein\")","v":"Ja"},"Vergleichspunktzahl erfüllt?"]
[null,{"$f":"IF(F1=\"Weiblich\",VLOOKUP(H2,Punktetabellen!$D$43:$F$49,3,1),VLOOKUP(H2,Punktetabellen!$D$43:$F$49,2,1))","v":162},"Mindest-Gesamtwert"]
[null,{"$f":"IF(H52>=B77,\"Ja\",\"Nein\")","v":"Ja"},"Gesamtwert erfüllt?"]
[null,{"$f":"IF(AND(B76=\"Ja\",B78=\"Ja\"),\"Ja\",\"Nein\")","v":"Ja"},"Alles erfüllt?"]

{"sheet":"SchuldtMatthias","index":33,"n_rows":79,"n_cols":8,"rows_kept":79,"cut":false,"hidden":false,"merged":[[11,0,11,4],[0,1,0,4],[1,1,1,5],[2,0,2,4],[3,0,3,4],[4,0,4,4],[5,0,5,4],[6,0,6,4],[7,0,7,4],[8,0,8,6],[9,0,9,4],[10,0,10,4],[23,0,23,1],[12,0,12,4],[13,0,13,4],[14,0,14,4],[15,0,15,4],[16,0,16,1],[17,0,17,4],[18,0,18,6],[19,0,19,2],[20,0,20,2],[21,0,21,1],[22,0,22,1],[41,0,41,3],[30,0,30,1],[31,0,31,1],[32,0,32,1],[33,0,33,1],[34,0,34,1],[35,0,35,1],[36,0,36,6],[37,0,37,3],[38,0,38,3],[39,0,39,3],[40,0,40,3],[48,0,48,3],[49,0,49,3],[50,0,50,6],[51,0,51,6],[42,0,42,3],[43,0,43,3],[44,0,44,3],[45,0,45,3],[46,0,46,3],[47,0,47,3]]}
["Name","Schuldt, Matthias",null,null,null,"männlich","Jahrgang",2000]
["Verein","Frankfurt Flyers",null,null,null,null,"AK",{"$f":"2020-H1","v":20}]
["Übung",null,null,null,null,"Wert","Berechnung","Punkte"]
["Fußdehnung",null,null,null,null,10,"Bild",{"$f":"F4","v":10}]
["Briefmarke mit Armrumpfwinkel",null,null,null,null,2,"Bild",{"$f":"F5","v":2}]
["Bückbeweglichkeit",null,null,null,null,16,"Tabelle",{"$f":"IF(F6=\"\",0,VLOOKUP(F6,Punktetabellen!A10:B15,2,1))","v":6}]
["Querspagat links",null,null,null,null,"<5 cm","Tabelle",{"$f":"IF(F7=\"\",0,VLOOKUP(F7,Punktetabellen!A3:B6,2,0))","v":6}]
["Querspagat rechts",null,null,null,null,"<5 cm","Tabelle",{"$f":"IF(F8=\"\",0,VLOOKUP(F8,Punktetabellen!A3:B6,2,0))","v":6}]
["Gesamtpunktzahl Beweglichkeit",null,null,null,null,null,null,{"$f":"SUM(H4:H8)","v":30}]
["Übung",null,null,null,null,"Wert","Berechnung","Punktzahl"]
["Klimmzug",null,null,null,null,13,"Tabelle",{"$f":"IF(F11=\"\",0,IF(H2<12,VLOOKUP(F11,Punktetabellen!D4:F14,3,1),VLOOKUP(F11,Punktetabellen!E4:F14,2,1)))","v":8}]
["Beinheben",null,null,null,null,5,"Tabelle",{"$f":"IF(H2=9,VLOOKUP(F12,Punktetabellen!D19:F29,3,1),VLOOKUP(F12,Punktetabellen!E19:F29,2,1))","v":2}]
["Flieger",null,null,null,null,120,"Tabelle",{"$f":"IF(H2=9,VLOOKUP(F13,Punktetabellen!H4:K9,4,1),IF(H2<12,VLOOKUP(F13,Punktetabellen!I4:K9,3,1),VLOOKUP(F13,Punktetabellen!J4:K9,2,1)))","v":10}]
["Rollenverbindung",null,null,null,null,29,"Tabelle",{"$f":"IF(H2=9,VLOOKUP(F14,Punktetabellen!H14:K24,4,1),IF(H2<12,VLOOKUP(F14,Punktetabellen!I14:K24,3,1),VLOOKUP(F14,Punktetabellen!J14:K24,2,1)))","v":10}]
["Prellsprünge",null,null,null,null,9,"Tabelle",{"$f":"IF(H2=9,VLOOKUP(F15,Punktetabellen!M4:Q14,5,1),IF(H2<12,VLOOKUP(F15,Punktetabellen!N4:Q14,4,1),IF(H2<14,VLOOKUP(F15,Punktetabellen!O4:Q14,3,1),VLOOKUP(F15,Punktetabellen!P4:Q14,2,1))))","v":9}]
["Handstandstehen",null,null,null,null,30,"Tabelle",{"$f":"IF(F16=\"\",0,IF(H2<10,VLOOKUP(F16,Punktetabellen!D34:F40,3,1),VLOOKUP(F16,Punktetabellen!E34:F40,2,1)))","v":10}]
["Schweizer, Wiener",null,{"$f":"IF(H2<12,\"\",IF(AND(H2>13,H2<17),\"Schweizer: \",\"Wiener: \"))","v":"Wiener: "},0,{"$f":"IF(H2<12,\"\",IF(AND(H2>13,H2<17),\"Wiener: \",\"Schweizer: \"))","v":"Schweizer: "},0,"Tabelle",{"$f":"IF(H2<12,VLOOKUP(F17,Punktetabellen!A20:B25,2,1),((MIN(5,1*D17)*2)+MIN(MAX(0,5-(1*D17)),(1*F17))))","v":0}]
["Bleep-Test",null,null,null,null,"L10 S5","Tabelle",{"$f":"IF(F18=\"\",0,VLOOKUP(F18,INDIRECT(C55),2,0))","v":4}]
["Gesamtpunktzahl Kraft/Kondition",null,null,null,null,null,null,{"$f":"SUM(H11:H18)","v":53}]
["Übung",null,null,"Max / Soll","Max. Abzug","Abzug / Ist","Berechnung","Punkte"]
["Standsprunghöhe",null,null,{"$f":"IF(F1=\"männlich\",VLOOKUP(H2,Standsprünge!A3:C15,3,0),VLOOKUP(H2,Standsprünge!A3:B15,2,0))","v":18.2},null,null,"(Ist - Soll) x 10",{"$f":"IF(F21=\"\",0,(F21-D21)*10)","v":0}]
[{"$f":"IF(H2>16,\"entfällt\",\"TBN\")","v":"entfällt"},null,null,{"$f":"IF(C22=\"\",\"\",VLOOKUP(C22,INDIRECT($C$62),2,0))","v":""},{"$f":"IF(C22=\"\",\"\",VLOOKUP(C22,INDIRECT($C$62),3,0))","v":""},null,{"$f":"IF(H2>16,\"entfällt\",\"Wert - Abzug\")","v":"entfällt"},{"$f":"IF(A22=\"entfällt\",0,IF(F22=\"\",0,D22-F22))","v":0}]
[{"$f":"IF(H2>16,\"entfällt\",\"TBN\")","v":"entfällt"},null,null,{"$f":"IF(C23=\"\",\"\",VLOOKUP(C23,INDIRECT($C$62),2,0))","v":""},{"$f":"IF(C23=\"\",\"\",VLOOKUP(C23,INDIRECT($C$62),3,0))","v":""},null,{"$f":"IF(H2>16,\"entfällt\",\"Wert - Abzug\")","v":"entfällt"},{"$f":"IF(A23=\"entfällt\",0,IF(F23=\"\",0,D23-F23))","v":0}]
[{"$f":"IF(H2>12,\"entfällt\",\"TBN\")","v":"entfällt"},null,null,{"$f":"IF(C24=\"\",\"\",VLOOKUP(C24,INDIRECT($C$62),2,0))","v":""},{"$f":"IF(C24=\"\",\"\",VLOOKUP(C24,INDIRECT($C$62),3,0))","v":""},null,{"$f":"IF(H2>16,\"entfällt\",\"Wert - Abzug\")","v":"entfällt"},0]
["TN",{"$f":"IF(C25=\"\",\"\",VLOOKUP(C25,INDIRECT($C$65),2,0))","v":""},null,{"$f":"IF(C25=\"\",\"\",VLOOKUP(C25,INDIRECT($C$65),3,0))","v":""},{"$f":"IF(C25=\"\",\"\",VLOOKUP(C25,INDIRECT($C$65),4,0))","v":""},null,"Wert - Abzug",0]
["TN","",null,"","",null,"Wert - Abzug",0]
["TN","",null,"","",null,"Wert - Abzug",0]
[{"$f":"IF(H2>12,\"TN\",\"entfällt\")","v":"TN"},"",null,"","",null,{"$f":"IF(H2>12,\"Wert - Abzug\",\"entfällt\")","v":"Wert - Abzug"},0]
[{"$f":"IF(H2>16,\"TN\",\"entfällt\")","v":"TN"},"",null,"","",null,{"$f":"IF(H2>16,\"Wert - Abzug\",\"entfällt\")","v":"Wert - Abzug"},0]
[{"$f":"IF(H2>16,\"TN\",\"entfällt\")","v":"TN"},"",null,"","",null,{"$f":"IF(H2>16,\"Wert - Abzug\",\"entfällt\")","v":"Wert - Abzug"},{"$f":"IF(A30=\"entfällt\",0,IF(F30=\"\",0,D30-F30))","v":0}]
[{"$f":"IF($H$2>11,\"Verbindung Sprung 1\",\"entfällt\")","v":"Verbindung Sprung 1"},null,{"$f":"IF(A31<>\"entfällt\",VLOOKUP(1,INDIRECT($C$73),2,0),\"\")","v":"12001<"},{"$f":"IF(A31<>\"entfällt\",VLOOKUP(1,INDIRECT($C$73),3,0),\"\")","v":20},{"$f":"IF(A31<>\"entfällt\",VLOOKUP(1,INDIRECT($C$73),4,0),\"\")","v":3},null,{"$f":"IF(H2>12,\"Wert - Abzug\",\"entfällt\")","v":"Wert - Abzug"},{"$f":"IF(A31=\"entfällt\",0,IF(F31=\"\",0,D31-F31))","v":0}]
[{"$f":"IF($H$2>11,\"Verbindung Sprung 2\",\"entfällt\")","v":"Verbindung Sprung 2"},null,{"$f":"IF(A32<>\"entfällt\",VLOOKUP(2,INDIRECT($C$73),2,0),\"\")","v":"40<"},{"$f":"IF(A32<>\"entfällt\",VLOOKUP(2,INDIRECT($C$73),3,0),\"\")","v":6},{"$f":"IF(A32<>\"entfällt\",VLOOKUP(2,INDIRECT($C$73),4,0),\"\")","v":3},null,{"$f":"IF(H2>12,\"Wert - Abzug\",\"entfällt\")","v":"Wert - Abzug"},{"$f":"IF(A32=\"entfällt\",0,IF(F32=\"\",0,D32-F32))","v":0}]
[{"$f":"IF($H$2>11,\"Verbindung Sprung 3\",\"entfällt\")","v":"Verbindung Sprung 3"},null,{"$f":"IF(A33<>\"entfällt\",VLOOKUP(3,INDIRECT($C$73),2,0),\"\")","v":"12001°"},{"$f":"IF(A33<>\"entfällt\",VLOOKUP(3,INDIRECT($C$73),3,0),\"\")","v":17},{"$f":"IF(A33<>\"entfällt\",VLOOKUP(3,INDIRECT($C$73),4,0),\"\")","v":3},null,{"$f":"IF(H2>12,\"Wert - Abzug\",\"entfällt\")","v":"Wert - Abzug"},0]
[{"$f":"IF($H$2>11,\"Verbindung Sprung 4\",\"entfällt\")","v":"Verbindung Sprung 4"},null,{"$f":"IF(A34<>\"entfällt\",VLOOKUP(4,INDIRECT($C$73),2,0),\"\")","v":"40/"},{"$f":"IF(A34<>\"entfällt\",VLOOKUP(4,INDIRECT($C$73),3,0),\"\")","v":6},{"$f":"IF(A34<>\"entfällt\",VLOOKUP(4,INDIRECT($C$73),4,0),\"\")","v":3},null,{"$f":"IF(H2>12,\"Wert - Abzug\",\"entfällt\")","v":"Wert - Abzug"},0]
[{"$f":"IF($H$2>11,\"Verbindung Sprung 5\",\"entfällt\")","v":"Verbindung Sprung 5"},null,{"$f":"IF(A35<>\"entfällt\",VLOOKUP(5,INDIRECT($C$73),2,0),\"\")","v":"801<"},{"$f":"IF(A35<>\"entfällt\",VLOOKUP(5,INDIRECT($C$73),3,0),\"\")","v":13},{"$f":"IF(A35<>\"entfällt\",VLOOKUP(5,INDIRECT($C$73),4,0),\"\")","v":3},null,{"$f":"IF(H2>12,\"Wert - Abzug\",\"entfällt\")","v":"Wert - Abzug"},0]
[{"$f":"IF($H$2>11,\"Verbindung Sprung 6\",\"entfällt\")","v":"Verbindung Sprung 6"},null,{"$f":"IF(A36<>\"entfällt\",VLOOKUP(6,INDIRECT($C$73),2,0),\"\")","v":"822/"},{"$f":"IF(A36<>\"entfällt\",VLOOKUP(6,INDIRECT($C$73),3,0),\"\")","v":16},{"$f":"IF(A36<>\"entfällt\",VLOOKUP(6,INDIRECT($C$73),4,0),\"\")","v":3},null,{"$f":"IF(H2>12,\"Wert - Abzug\",\"entfällt\")","v":"Wert - Abzug"},{"$f":"IF(A36=\"entfällt\",0,IF(F36=\"\",0,D36-F36))","v":0}]
["Gesamtpunktzahl Trampolin",null,null,null,null,null,null,{"$f":"SUM(H21:H36)","v":0}]
["Element",null,null,null,"Wert","Abzug","Berechnung","Punkte"]
[{"$f":"VLOOKUP(1,INDIRECT($C$70),2,0)","v":"Salto vorwärts gehockt aus dem Stand"},null,null,null,{"$f":"VLOOKUP(1,INDIRECT($C$70),3,0)","v":5},null,"Wert - Abzug",{"$f":"IF(E39=\" \",\"\",IF(F39=\"\",0,E39-F39))","v":0}]
[{"$f":"VLOOKUP(2,INDIRECT($C$70),2,0)","v":"Vorspreizen, Bestellschritt, Strecksprung 3/2 Drehung"},null,null,null,{"$f":"VLOOKUP(2,INDIRECT($C$70),3,0)","v":3},0,"Wert - Abzug",{"$f":"IF(E40=\" \",\"\",IF(F40=\"\",0,E40-F40))","v":3}]
[{"$f":"VLOOKUP(3,INDIRECT($C$70),2,0)","v":"Rolle rückwärts durch Handstand mit 1/2 Drehung"},null,null,null,{"$f":"VLOOKUP(3,INDIRECT($C$70),3,0)","v":4},0.5,"Wert - Abzug",3.5]
[{"$f":"VLOOKUP(4,INDIRECT($C$70),2,0)","v":"--> Strecksprung --> Salto vorwärts gehockt"},null,null,null,{"$f":"VLOOKUP(4,INDIRECT($C$70),3,0)","v":4},0,"Wert - Abzug",4]
[{"$f":"VLOOKUP(5,INDIRECT($C$70),2,0)","v":"Wiener, 1/2 Drehung, absenken zum Stand"},null,null,null,{"$f":"VLOOKUP(5,INDIRECT($C$70),3,0)","v":4},0,"Wert - Abzug",4]
[{"$f":"VLOOKUP(6,INDIRECT($C$70),2,0)","v":"Handstand mit zwei Hüpfern, abrollen"},null,null,null,{"$f":"VLOOKUP(6,INDIRECT($C$70),3,0)","v":2},0,"Wert - Abzug",2]
[{"$f":"VLOOKUP(7,INDIRECT($C$70),2,0)","v":"--> aufstehen mit gestreckten Beinen"},null,null,null,{"$f":"VLOOKUP(7,INDIRECT($C$70),3,0)","v":3},0.5,"Wert - Abzug",2.5]
[{"$f":"VLOOKUP(8,INDIRECT($C$70),2,0)","v":"Salto rückwärts gebückt"},null,null,null,{"$f":"VLOOKUP(8,INDIRECT($C$70),3,0)","v":5},1,"Wert - Abzug",4]
[{"$f":"VLOOKUP(9,INDIRECT($C$70),2,0)","v":" "},null,null,null,{"$f":"VLOOKUP(9,INDIRECT($C$70),3,0)","v":" "},null,{"$f":"IF(H2>16,\"\",\"Wert - Abzug\")","v":""},""]
[{"$f":"VLOOKUP(10,INDIRECT($C$70),2,0)","v":" "},null,null,null,{"$f":"VLOOKUP(10,INDIRECT($C$70),3,0)","v":" "},null,{"$f":"IF(H2>16,\"\",\"Wert - Abzug\")","v":""},""]
[{"$f":"VLOOKUP(11,INDIRECT($C$70),2,0)","v":" "},null,null,null,{"$f":"VLOOKUP(11,INDIRECT($C$70),3,0)","v":" "},null,{"$f":"IF(H2>13,\"\",\"Wert - Abzug\")","v":""},""]
[{"$f":"VLOOKUP(12,INDIRECT($C$70),2,0)","v":" "},null,null,null,{"$f":"VLOOKUP(12,INDIRECT($C$70),3,0)","v":" "},null,{"$f":"IF(OR(H2=9,H2=12,H2=13),\"Wert - Abzug\",\"\")","v":""},""]
["Gesamtpunktzahl Bodenkomplexübung",null,null,null,null,null,null,{"$f":"SUM(H39:H50)","v":23}]
["Gesamtpunktzahl",null,null,null,null,null,null,{"$f":"SUM(H9,H19,H37,H51)","v":106}]
[]
[]
[null,"Shuttles",{"$f":"\"Shuttles_\"&F1&IF(H2=9,\"_9\",IF(H2<12,\"_10_11\",IF(H2<14,\"_12_13\",IF(H2<17,\"_14_16\",\"_17\"))))","v":"Shuttles_männlich_17"}]
[null,null,{"$f":"\"Shuttles_\"&F1&IF(H2=9,\"_9\",IF(H2<12,\"_10_11\",IF(H2<14,\"_12_13\",IF(H2<17,\"_14_16\",\"_17\"))))&\"[Shuttle]\"","v":"Shuttles_männlich_17[Shuttle]"}]
[null,null,{"$f":"\"Shuttles_\"&F1&IF(H2=9,\"_9\",IF(H2<12,\"_10_11\",IF(H2<14,\"_12_13\",IF(H2<17,\"_14_16\",\"_17\"))))&\"[Punkte]\"","v":"Shuttles_männlich_17[Punkte]"}]
[]
[null,"G_TBN TN BKÜ",{"$f":"IF(H2<13,\"beide\",F1)","v":"männlich"}]
[null,"AK",{"$f":"IF(OR(H2=9,H2=12),H2,IF(H2<12,\"10_11\",IF(H2<15,\"13_14\",IF(H2<17,\"15_16\",IF(H2<19,\"17_18\",19)))))","v":19}]
[]
[null,"TBN",{"$f":"\"TBN_\"&C59&\"_\"&C60","v":"TBN_männlich_19"}]
[null,null,{"$f":"C62&\"[Beschreibung]\"","v":"TBN_männlich_19[Beschreibung]"}]
[]
[null,"TN",{"$f":"\"TN_\"&C59&\"_\"&C60","v":"TN_männlich_19"}]
[null,null,{"$f":"C65&\"[Beschreibung]\"","v":"TN_männlich_19[Beschreibung]"}]
[]
[null,"TV",{"$f":"\"TV_\"&F1&\"_\"&C60","v":"TV_männlich_19"}]
[]
[null,"BKÜ",{"$f":"\"BKÜ\"&IF(H2=9,\"_9\",IF(H2<12,\"_10_11\",IF(H2<14,\"_12_13\",IF(H2<17,\"_14_16\",\"_17\"))))","v":"BKÜ_17"}]
[]
[null,"G_TV",{"$f":"IF(H2<17,\"beide\",F1)","v":"männlich"}]
[null,"TV",{"$f":"\"TV_\"&C72&\"_\"&C60","v":"TV_männlich_19"}]
[]
[null,{"$f":"SUM(H19,H9,H51)","v":106},"Vergleichspunktzahl aus Kraft, Beweglichkeit, Grundlagenausdauer, Bodenübung"]
[null,{"$f":"IF(B75>95,\"Ja\",\"Nein\")","v":"Ja"},"Vergleichspunktzahl erfüllt?"]
[null,{"$f":"IF(F1=\"Weiblich\",VLOOKUP(H2,Punktetabellen!$D$43:$F$49,3,1),VLOOKUP(H2,Punktetabellen!$D$43:$F$49,2,1))","v":198},"Mindest-Gesamtwert"]
[null,{"$f":"IF(H52>=B77,\"Ja\",\"Nein\")","v":"Nein"},"Gesamtwert erfüllt?"]
[null,{"$f":"IF(AND(B76=\"Ja\",B78=\"Ja\"),\"Ja\",\"Nein\")","v":"Nein"},"Alles erfüllt?"]

{"sheet":"RöslerManuel","index":34,"n_rows":79,"n_cols":8,"rows_kept":79,"cut":false,"hidden":false,"merged":[[11,0,11,4],[0,1,0,4],[1,1,1,5],[2,0,2,4],[3,0,3,4],[4,0,4,4],[5,0,5,4],[6,0,6,4],[7,0,7,4],[8,0,8,6],[9,0,9,4],[10,0,10,4],[23,0,23,1],[12,0,12,4],[13,0,13,4],[14,0,14,4],[15,0,15,4],[16,0,16,1],[17,0,17,4],[18,0,18,6],[19,0,19,2],[20,0,20,2],[21,0,21,1],[22,0,22,1],[41,0,41,3],[30,0,30,1],[31,0,31,1],[32,0,32,1],[33,0,33,1],[34,0,34,1],[35,0,35,1],[36,0,36,6],[37,0,37,3],[38,0,38,3],[39,0,39,3],[40,0,40,3],[48,0,48,3],[49,0,49,3],[50,0,50,6],[51,0,51,6],[42,0,42,3],[43,0,43,3],[44,0,44,3],[45,0,45,3],[46,0,46,3],[47,0,47,3]]}
["Name","Rösler, Manuel",null,null,null,"männlich","Jahrgang",2002]
["Verein","MTV Stuttgart",null,null,null,null,"AK",{"$f":"2020-H1","v":18}]
["Übung",null,null,null,null,"Wert","Berechnung","Punkte"]
["Fußdehnung",null,null,null,null,10,"Bild",{"$f":"F4","v":10}]
["Briefmarke mit Armrumpfwinkel",null,null,null,null,6,"Bild",{"$f":"F5","v":6}]
["Bückbeweglichkeit",null,null,null,null,12,"Tabelle",{"$f":"IF(F6=\"\",0,VLOOKUP(F6,Punktetabellen!A10:B15,2,1))","v":2}]
["Querspagat links",null,null,null,null,"<5 cm","Tabelle",{"$f":"IF(F7=\"\",0,VLOOKUP(F7,Punktetabellen!A3:B6,2,0))","v":6}]
["Querspagat rechts",null,null,null,null,"<5 cm","Tabelle",{"$f":"IF(F8=\"\",0,VLOOKUP(F8,Punktetabellen!A3:B6,2,0))","v":6}]
["Gesamtpunktzahl Beweglichkeit",null,null,null,null,null,null,{"$f":"SUM(H4:H8)","v":30}]
["Übung",null,null,null,null,"Wert","Berechnung","Punktzahl"]
["Klimmzug",null,null,null,null,15,"Tabelle",{"$f":"IF(F11=\"\",0,IF(H2<12,VLOOKUP(F11,Punktetabellen!D4:F14,3,1),VLOOKUP(F11,Punktetabellen!E4:F14,2,1)))","v":10}]
["Beinheben",null,null,null,null,0,"Tabelle",{"$f":"IF(H2=9,VLOOKUP(F12,Punktetabellen!D19:F29,3,1),VLOOKUP(F12,Punktetabellen!E19:F29,2,1))","v":0}]
["Flieger",null,null,null,null,120,"Tabelle",{"$f":"IF(H2=9,VLOOKUP(F13,Punktetabellen!H4:K9,4,1),IF(H2<12,VLOOKUP(F13,Punktetabellen!I4:K9,3,1),VLOOKUP(F13,Punktetabellen!J4:K9,2,1)))","v":10}]
["Rollenverbindung",null,null,null,null,23,"Tabelle",{"$f":"IF(H2=9,VLOOKUP(F14,Punktetabellen!H14:K24,4,1),IF(H2<12,VLOOKUP(F14,Punktetabellen!I14:K24,3,1),VLOOKUP(F14,Punktetabellen!J14:K24,2,1)))","v":7}]
["Prellsprünge",null,null,null,null,9,"Tabelle",{"$f":"IF(H2=9,VLOOKUP(F15,Punktetabellen!M4:Q14,5,1),IF(H2<12,VLOOKUP(F15,Punktetabellen!N4:Q14,4,1),IF(H2<14,VLOOKUP(F15,Punktetabellen!O4:Q14,3,1),VLOOKUP(F15,Punktetabellen!P4:Q14,2,1))))","v":9}]
["Handstandstehen",null,null,null,null,30,"Tabelle",{"$f":"IF(F16=\"\",0,IF(H2<10,VLOOKUP(F16,Punktetabellen!D34:F40,3,1),VLOOKUP(F16,Punktetabellen!E34:F40,2,1)))","v":10}]
["Schweizer, Wiener",null,{"$f":"IF(H2<12,\"\",IF(AND(H2>13,H2<17),\"Schweizer: \",\"Wiener: \"))","v":"Wiener: "},0,{"$f":"IF(H2<12,\"\",IF(AND(H2>13,H2<17),\"Wiener: \",\"Schweizer: \"))","v":"Schweizer: "},0,"Tabelle",{"$f":"IF(H2<12,VLOOKUP(F17,Punktetabellen!A20:B25,2,1),((MIN(5,1*D17)*2)+MIN(MAX(0,5-(1*D17)),(1*F17))))","v":0}]
["Bleep-Test",null,null,null,null,"L13 S6","Tabelle",{"$f":"IF(F18=\"\",0,VLOOKUP(F18,INDIRECT(C55),2,0))","v":10}]
["Gesamtpunktzahl Kraft/Kondition",null,null,null,null,null,null,{"$f":"SUM(H11:H18)","v":56}]
["Übung",null,null,"Max / Soll","Max. Abzug","Abzug / Ist","Berechnung","Punkte"]
["Standsprunghöhe",null,null,{"$f":"IF(F1=\"männlich\",VLOOKUP(H2,Standsprünge!A3:C15,3,0),VLOOKUP(H2,Standsprünge!A3:B15,2,0))","v":17.600000000000001},null,18.86,"(Ist - Soll) x 10",{"$f":"IF(F21=\"\",0,(F21-D21)*10)","v":12.59999999999998}]
[{"$f":"IF(H2>16,\"entfällt\",\"TBN\")","v":"entfällt"},null,null,{"$f":"IF(C22=\"\",\"\",VLOOKUP(C22,INDIRECT($C$62),2,0))","v":""},{"$f":"IF(C22=\"\",\"\",VLOOKUP(C22,INDIRECT($C$62),3,0))","v":""},null,{"$f":"IF(H2>16,\"entfällt\",\"Wert - Abzug\")","v":"entfällt"},{"$f":"IF(A22=\"entfällt\",0,IF(F22=\"\",0,D22-F22))","v":0}]
[{"$f":"IF(H2>16,\"entfällt\",\"TBN\")","v":"entfällt"},null,null,{"$f":"IF(C23=\"\",\"\",VLOOKUP(C23,INDIRECT($C$62),2,0))","v":""},{"$f":"IF(C23=\"\",\"\",VLOOKUP(C23,INDIRECT($C$62),3,0))","v":""},null,{"$f":"IF(H2>16,\"entfällt\",\"Wert - Abzug\")","v":"entfällt"},{"$f":"IF(A23=\"entfällt\",0,IF(F23=\"\",0,D23-F23))","v":0}]
[{"$f":"IF(H2>12,\"entfällt\",\"TBN\")","v":"entfällt"},null,null,{"$f":"IF(C24=\"\",\"\",VLOOKUP(C24,INDIRECT($C$62),2,0))","v":""},{"$f":"IF(C24=\"\",\"\",VLOOKUP(C24,INDIRECT($C$62),3,0))","v":""},null,{"$f":"IF(H2>16,\"entfällt\",\"Wert - Abzug\")","v":"entfällt"},0]
["TN",{"$f":"IF(C25=\"\",\"\",VLOOKUP(C25,INDIRECT($C$65),2,0))","v":"11000<R"},"11/4 (2 3/4) vw b",{"$f":"IF(C25=\"\",\"\",VLOOKUP(C25,INDIRECT($C$65),3,0))","v":15},{"$f":"IF(C25=\"\",\"\",VLOOKUP(C25,INDIRECT($C$65),4,0))","v":6},2,"Wert - Abzug",13]
["TN","12001<","Triffis b",20,6,6,"Wert - Abzug",14]
["TN","12001°","Triffis c",17,6,2,"Wert - Abzug",15]
[{"$f":"IF(H2>12,\"TN\",\"entfällt\")","v":"TN"},"822/","1/1 ein 1/1 aus a",16,6,6,{"$f":"IF(H2>12,\"Wert - Abzug\",\"entfällt\")","v":"Wert - Abzug"},10]
[{"$f":"IF(H2>16,\"TN\",\"entfällt\")","v":"TN"},"821<","1/1 ein 1/2 aus b",15,6,4,{"$f":"IF(H2>16,\"Wert - Abzug\",\"entfällt\")","v":"Wert - Abzug"},11]
[{"$f":"IF(H2>16,\"TN\",\"entfällt\")","v":"TN"},"901<","Fliffis b aus der Rückenlage",14,6,4,{"$f":"IF(H2>16,\"Wert - Abzug\",\"entfällt\")","v":"Wert - Abzug"},{"$f":"IF(A30=\"entfällt\",0,IF(F30=\"\",0,D30-F30))","v":10}]
[{"$f":"IF($H$2>11,\"Verbindung Sprung 1\",\"entfällt\")","v":"Verbindung Sprung 1"},null,{"$f":"IF(A31<>\"entfällt\",VLOOKUP(1,INDIRECT($C$73),2,0),\"\")","v":"803<"},{"$f":"IF(A31<>\"entfällt\",VLOOKUP(1,INDIRECT($C$73),3,0),\"\")","v":15},{"$f":"IF(A31<>\"entfällt\",VLOOKUP(1,INDIRECT($C$73),4,0),\"\")","v":3},1,{"$f":"IF(H2>12,\"Wert - Abzug\",\"entfällt\")","v":"Wert - Abzug"},{"$f":"IF(A31=\"entfällt\",0,IF(F31=\"\",0,D31-F31))","v":14}]
[{"$f":"IF($H$2>11,\"Verbindung Sprung 2\",\"entfällt\")","v":"Verbindung Sprung 2"},null,{"$f":"IF(A32<>\"entfällt\",VLOOKUP(2,INDIRECT($C$73),2,0),\"\")","v":"800°"},{"$f":"IF(A32<>\"entfällt\",VLOOKUP(2,INDIRECT($C$73),3,0),\"\")","v":10},{"$f":"IF(A32<>\"entfällt\",VLOOKUP(2,INDIRECT($C$73),4,0),\"\")","v":3},1,{"$f":"IF(H2>12,\"Wert - Abzug\",\"entfällt\")","v":"Wert - Abzug"},{"$f":"IF(A32=\"entfällt\",0,IF(F32=\"\",0,D32-F32))","v":9}]
[{"$f":"IF($H$2>11,\"Verbindung Sprung 3\",\"entfällt\")","v":"Verbindung Sprung 3"},null,{"$f":"IF(A33<>\"entfällt\",VLOOKUP(3,INDIRECT($C$73),2,0),\"\")","v":"801<"},{"$f":"IF(A33<>\"entfällt\",VLOOKUP(3,INDIRECT($C$73),3,0),\"\")","v":13},{"$f":"IF(A33<>\"entfällt\",VLOOKUP(3,INDIRECT($C$73),4,0),\"\")","v":3},1,{"$f":"IF(H2>12,\"Wert - Abzug\",\"entfällt\")","v":"Wert - Abzug"},12]
[{"$f":"IF($H$2>11,\"Verbindung Sprung 4\",\"entfällt\")","v":"Verbindung Sprung 4"},null,{"$f":"IF(A34<>\"entfällt\",VLOOKUP(4,INDIRECT($C$73),2,0),\"\")","v":"40/"},{"$f":"IF(A34<>\"entfällt\",VLOOKUP(4,INDIRECT($C$73),3,0),\"\")","v":6},{"$f":"IF(A34<>\"entfällt\",VLOOKUP(4,INDIRECT($C$73),4,0),\"\")","v":3},1,{"$f":"IF(H2>12,\"Wert - Abzug\",\"entfällt\")","v":"Wert - Abzug"},5]
[{"$f":"IF($H$2>11,\"Verbindung Sprung 5\",\"entfällt\")","v":"Verbindung Sprung 5"},null,{"$f":"IF(A35<>\"entfällt\",VLOOKUP(5,INDIRECT($C$73),2,0),\"\")","v":"801°"},{"$f":"IF(A35<>\"entfällt\",VLOOKUP(5,INDIRECT($C$73),3,0),\"\")","v":11},{"$f":"IF(A35<>\"entfällt\",VLOOKUP(5,INDIRECT($C$73),4,0),\"\")","v":3},0,{"$f":"IF(H2>12,\"Wert - Abzug\",\"entfällt\")","v":"Wert - Abzug"},11]
[{"$f":"IF($H$2>11,\"Verbindung Sprung 6\",\"entfällt\")","v":"Verbindung Sprung 6"},null,{"$f":"IF(A36<>\"entfällt\",VLOOKUP(6,INDIRECT($C$73),2,0),\"\")","v":"811°"},{"$f":"IF(A36<>\"entfällt\",VLOOKUP(6,INDIRECT($C$73),3,0),\"\")","v":12},{"$f":"IF(A36<>\"entfällt\",VLOOKUP(6,INDIRECT($C$73),4,0),\"\")","v":3},2,{"$f":"IF(H2>12,\"Wert - Abzug\",\"entfällt\")","v":"Wert - Abzug"},{"$f":"IF(A36=\"entfällt\",0,IF(F36=\"\",0,D36-F36))","v":10}]
["Gesamtpunktzahl Trampolin",null,null,null,null,null,null,{"$f":"SUM(H21:H36)","v":146.59999999999997}]
["Element",null,null,null,"Wert","Abzug","Berechnung","Punkte"]
[{"$f":"VLOOKUP(1,INDIRECT($C$70),2,0)","v":"Salto vorwärts gehockt aus dem Stand"},null,null,null,{"$f":"VLOOKUP(1,INDIRECT($C$70),3,0)","v":5},0,"Wert - Abzug",{"$f":"IF(E39=\" \",\"\",IF(F39=\"\",0,E39-F39))","v":5}]
[{"$f":"VLOOKUP(2,INDIRECT($C$70),2,0)","v":"Vorspreizen, Bestellschritt, Strecksprung 3/2 Drehung"},null,null,null,{"$f":"VLOOKUP(2,INDIRECT($C$70),3,0)","v":3},null,"Wert - Abzug",{"$f":"IF(E40=\" \",\"\",IF(F40=\"\",0,E40-F40))","v":0}]
[{"$f":"VLOOKUP(3,INDIRECT($C$70),2,0)","v":"Rolle rückwärts durch Handstand mit 1/2 Drehung"},null,null,null,{"$f":"VLOOKUP(3,INDIRECT($C$70),3,0)","v":4},2,"Wert - Abzug",2]
[{"$f":"VLOOKUP(4,INDIRECT($C$70),2,0)","v":"--> Strecksprung --> Salto vorwärts gehockt"},null,null,null,{"$f":"VLOOKUP(4,INDIRECT($C$70),3,0)","v":4},0,"Wert - Abzug",4]
[{"$f":"VLOOKUP(5,INDIRECT($C$70),2,0)","v":"Wiener, 1/2 Drehung, absenken zum Stand"},null,null,null,{"$f":"VLOOKUP(5,INDIRECT($C$70),3,0)","v":4},1,"Wert - Abzug",3]
[{"$f":"VLOOKUP(6,INDIRECT($C$70),2,0)","v":"Handstand mit zwei Hüpfern, abrollen"},null,null,null,{"$f":"VLOOKUP(6,INDIRECT($C$70),3,0)","v":2},0,"Wert - Abzug",2]
[{"$f":"VLOOKUP(7,INDIRECT($C$70),2,0)","v":"--> aufstehen mit gestreckten Beinen"},null,null,null,{"$f":"VLOOKUP(7,INDIRECT($C$70),3,0)","v":3},1.5,"Wert - Abzug",1.5]
[{"$f":"VLOOKUP(8,INDIRECT($C$70),2,0)","v":"Salto rückwärts gebückt"},null,null,null,{"$f":"VLOOKUP(8,INDIRECT($C$70),3,0)","v":5},2,"Wert - Abzug",3]
[{"$f":"VLOOKUP(9,INDIRECT($C$70),2,0)","v":" "},null,null,null,{"$f":"VLOOKUP(9,INDIRECT($C$70),3,0)","v":" "},null,{"$f":"IF(H2>16,\"\",\"Wert - Abzug\")","v":""},""]
[{"$f":"VLOOKUP(10,INDIRECT($C$70),2,0)","v":" "},null,null,null,{"$f":"VLOOKUP(10,INDIRECT($C$70),3,0)","v":" "},null,{"$f":"IF(H2>16,\"\",\"Wert - Abzug\")","v":""},""]
[{"$f":"VLOOKUP(11,INDIRECT($C$70),2,0)","v":" "},null,null,null,{"$f":"VLOOKUP(11,INDIRECT($C$70),3,0)","v":" "},null,{"$f":"IF(H2>13,\"\",\"Wert - Abzug\")","v":""},""]
[{"$f":"VLOOKUP(12,INDIRECT($C$70),2,0)","v":" "},null,null,null,{"$f":"VLOOKUP(12,INDIRECT($C$70),3,0)","v":" "},null,{"$f":"IF(OR(H2=9,H2=12,H2=13),\"Wert - Abzug\",\"\")","v":""},""]
["Gesamtpunktzahl Bodenkomplexübung",null,null,null,null,null,null,{"$f":"SUM(H39:H50)","v":20.5}]
["Gesamtpunktzahl",null,null,null,null,null,null,{"$f":"SUM(H9,H19,H37,H51)","v":253.09999999999997}]
[]
[]
[null,"Shuttles",{"$f":"\"Shuttles_\"&F1&IF(H2=9,\"_9\",IF(H2<12,\"_10_11\",IF(H2<14,\"_12_13\",IF(H2<17,\"_14_16\",\"_17\"))))","v":"Shuttles_männlich_17"}]
[null,null,{"$f":"\"Shuttles_\"&F1&IF(H2=9,\"_9\",IF(H2<12,\"_10_11\",IF(H2<14,\"_12_13\",IF(H2<17,\"_14_16\",\"_17\"))))&\"[Shuttle]\"","v":"Shuttles_männlich_17[Shuttle]"}]
[null,null,{"$f":"\"Shuttles_\"&F1&IF(H2=9,\"_9\",IF(H2<12,\"_10_11\",IF(H2<14,\"_12_13\",IF(H2<17,\"_14_16\",\"_17\"))))&\"[Punkte]\"","v":"Shuttles_männlich_17[Punkte]"}]
[]
[null,"G_TBN TN BKÜ",{"$f":"IF(H2<13,\"beide\",F1)","v":"männlich"}]
[null,"AK",{"$f":"IF(OR(H2=9,H2=12),H2,IF(H2<12,\"10_11\",IF(H2<15,\"13_14\",IF(H2<17,\"15_16\",IF(H2<19,\"17_18\",19)))))","v":"17_18"}]
[]
[null,"TBN",{"$f":"\"TBN_\"&C59&\"_\"&C60","v":"TBN_männlich_17_18"}]
[null,null,{"$f":"C62&\"[Beschreibung]\"","v":"TBN_männlich_17_18[Beschreibung]"}]
[]
[null,"TN",{"$f":"\"TN_\"&C59&\"_\"&C60","v":"TN_männlich_17_18"}]
[null,null,{"$f":"C65&\"[Beschreibung]\"","v":"TN_männlich_17_18[Beschreibung]"}]
[]
[null,"TV",{"$f":"\"TV_\"&F1&\"_\"&C60","v":"TV_männlich_17_18"}]
[]
[null,"BKÜ",{"$f":"\"BKÜ\"&IF(H2=9,\"_9\",IF(H2<12,\"_10_11\",IF(H2<14,\"_12_13\",IF(H2<17,\"_14_16\",\"_17\"))))","v":"BKÜ_17"}]
[]
[null,"G_TV",{"$f":"IF(H2<17,\"beide\",F1)","v":"männlich"}]
[null,"TV",{"$f":"\"TV_\"&C72&\"_\"&C60","v":"TV_männlich_17_18"}]
[]
[null,{"$f":"SUM(H19,H9,H51)","v":106.5},"Vergleichspunktzahl aus Kraft, Beweglichkeit, Grundlagenausdauer, Bodenübung"]
[null,{"$f":"IF(B75>95,\"Ja\",\"Nein\")","v":"Ja"},"Vergleichspunktzahl erfüllt?"]
[null,{"$f":"IF(F1=\"Weiblich\",VLOOKUP(H2,Punktetabellen!$D$43:$F$49,3,1),VLOOKUP(H2,Punktetabellen!$D$43:$F$49,2,1))","v":186},"Mindest-Gesamtwert"]
[null,{"$f":"IF(H52>=B77,\"Ja\",\"Nein\")","v":"Ja"},"Gesamtwert erfüllt?"]
[null,{"$f":"IF(AND(B76=\"Ja\",B78=\"Ja\"),\"Ja\",\"Nein\")","v":"Ja"},"Alles erfüllt?"]

{"sheet":"LauxtermannCaio","index":35,"n_rows":79,"n_cols":8,"rows_kept":79,"cut":false,"hidden":false,"merged":[[11,0,11,4],[0,1,0,4],[1,1,1,5],[2,0,2,4],[3,0,3,4],[4,0,4,4],[5,0,5,4],[6,0,6,4],[7,0,7,4],[8,0,8,6],[9,0,9,4],[10,0,10,4],[23,0,23,1],[12,0,12,4],[13,0,13,4],[14,0,14,4],[15,0,15,4],[16,0,16,1],[17,0,17,4],[18,0,18,6],[19,0,19,2],[20,0,20,2],[21,0,21,1],[22,0,22,1],[41,0,41,3],[30,0,30,1],[31,0,31,1],[32,0,32,1],[33,0,33,1],[34,0,34,1],[35,0,35,1],[36,0,36,6],[37,0,37,3],[38,0,38,3],[39,0,39,3],[40,0,40,3],[48,0,48,3],[49,0,49,3],[50,0,50,6],[51,0,51,6],[42,0,42,3],[43,0,43,3],[44,0,44,3],[45,0,45,3],[46,0,46,3],[47,0,47,3]]}
["Name","Lauxtermann, Caio",null,null,null,"männlich","Jahrgang",2003]
["Verein","SC Cottbus",null,null,null,null,"AK",{"$f":"2020-H1","v":17}]
["Übung",null,null,null,null,"Wert","Berechnung","Punkte"]
["Fußdehnung",null,null,null,null,10,"Bild",{"$f":"F4","v":10}]
["Briefmarke mit Armrumpfwinkel",null,null,null,null,6,"Bild",{"$f":"F5","v":6}]
["Bückbeweglichkeit",null,null,null,null,19,"Tabelle",{"$f":"IF(F6=\"\",0,VLOOKUP(F6,Punktetabellen!A10:B15,2,1))","v":8}]
["Querspagat links",null,null,null,null,0,"Tabelle",{"$f":"IF(F7=\"\",0,VLOOKUP(F7,Punktetabellen!A3:B6,2,0))","v":10}]
["Querspagat rechts",null,null,null,null,"<5 cm","Tabelle",{"$f":"IF(F8=\"\",0,VLOOKUP(F8,Punktetabellen!A3:B6,2,0))","v":6}]
["Gesamtpunktzahl Beweglichkeit",null,null,null,null,null,null,{"$f":"SUM(H4:H8)","v":40}]
["Übung",null,null,null,null,"Wert","Berechnung","Punktzahl"]
["Klimmzug",null,null,null,null,15,"Tabelle",{"$f":"IF(F11=\"\",0,IF(H2<12,VLOOKUP(F11,Punktetabellen!D4:F14,3,1),VLOOKUP(F11,Punktetabellen!E4:F14,2,1)))","v":10}]
["Beinheben",null,null,null,null,4,"Tabelle",{"$f":"IF(H2=9,VLOOKUP(F12,Punktetabellen!D19:F29,3,1),VLOOKUP(F12,Punktetabellen!E19:F29,2,1))","v":1}]
["Flieger",null,null,null,null,80,"Tabelle",{"$f":"IF(H2=9,VLOOKUP(F13,Punktetabellen!H4:K9,4,1),IF(H2<12,VLOOKUP(F13,Punktetabellen!I4:K9,3,1),VLOOKUP(F13,Punktetabellen!J4:K9,2,1)))","v":2}]
["Rollenverbindung",null,null,null,null,29,"Tabelle",{"$f":"IF(H2=9,VLOOKUP(F14,Punktetabellen!H14:K24,4,1),IF(H2<12,VLOOKUP(F14,Punktetabellen!I14:K24,3,1),VLOOKUP(F14,Punktetabellen!J14:K24,2,1)))","v":10}]
["Prellsprünge",null,null,null,null,10,"Tabelle",{"$f":"IF(H2=9,VLOOKUP(F15,Punktetabellen!M4:Q14,5,1),IF(H2<12,VLOOKUP(F15,Punktetabellen!N4:Q14,4,1),IF(H2<14,VLOOKUP(F15,Punktetabellen!O4:Q14,3,1),VLOOKUP(F15,Punktetabellen!P4:Q14,2,1))))","v":10}]
["Handstandstehen",null,null,null,null,30,"Tabelle",{"$f":"IF(F16=\"\",0,IF(H2<10,VLOOKUP(F16,Punktetabellen!D34:F40,3,1),VLOOKUP(F16,Punktetabellen!E34:F40,2,1)))","v":10}]
["Schweizer, Wiener",null,{"$f":"IF(H2<12,\"\",IF(AND(H2>13,H2<17),\"Schweizer: \",\"Wiener: \"))","v":"Wiener: "},0,{"$f":"IF(H2<12,\"\",IF(AND(H2>13,H2<17),\"Wiener: \",\"Schweizer: \"))","v":"Schweizer: "},0,"Tabelle",{"$f":"IF(H2<12,VLOOKUP(F17,Punktetabellen!A20:B25,2,1),((MIN(5,1*D17)*2)+MIN(MAX(0,5-(1*D17)),(1*F17))))","v":0}]
["Bleep-Test",null,null,null,null,"L12 S6","Tabelle",{"$f":"IF(F18=\"\",0,VLOOKUP(F18,INDIRECT(C55),2,0))","v":8}]
["Gesamtpunktzahl Kraft/Kondition",null,null,null,null,null,null,{"$f":"SUM(H11:H18)","v":51}]
["Übung",null,null,"Max / Soll","Max. Abzug","Abzug / Ist","Berechnung","Punkte"]
["Standsprunghöhe",null,null,{"$f":"IF(F1=\"männlich\",VLOOKUP(H2,Standsprünge!A3:C15,3,0),VLOOKUP(H2,Standsprünge!A3:B15,2,0))","v":17.3},null,18.25,"(Ist - Soll) x 10",{"$f":"IF(F21=\"\",0,(F21-D21)*10)","v":9.4999999999999929}]
[{"$f":"IF(H2>16,\"entfällt\",\"TBN\")","v":"entfällt"},null,null,{"$f":"IF(C22=\"\",\"\",VLOOKUP(C22,INDIRECT($C$62),2,0))","v":""},{"$f":"IF(C22=\"\",\"\",VLOOKUP(C22,INDIRECT($C$62),3,0))","v":""},null,{"$f":"IF(H2>16,\"entfällt\",\"Wert - Abzug\")","v":"entfällt"},{"$f":"IF(A22=\"entfällt\",0,IF(F22=\"\",0,D22-F22))","v":0}]
[{"$f":"IF(H2>16,\"entfällt\",\"TBN\")","v":"entfällt"},null,null,{"$f":"IF(C23=\"\",\"\",VLOOKUP(C23,INDIRECT($C$62),2,0))","v":""},{"$f":"IF(C23=\"\",\"\",VLOOKUP(C23,INDIRECT($C$62),3,0))","v":""},null,{"$f":"IF(H2>16,\"entfällt\",\"Wert - Abzug\")","v":"entfällt"},{"$f":"IF(A23=\"entfällt\",0,IF(F23=\"\",0,D23-F23))","v":0}]
[{"$f":"IF(H2>12,\"entfällt\",\"TBN\")","v":"entfällt"},null,null,{"$f":"IF(C24=\"\",\"\",VLOOKUP(C24,INDIRECT($C$62),2,0))","v":""},{"$f":"IF(C24=\"\",\"\",VLOOKUP(C24,INDIRECT($C$62),3,0))","v":""},null,{"$f":"IF(H2>16,\"entfällt\",\"Wert - Abzug\")","v":"entfällt"},0]
["TN",{"$f":"IF(C25=\"\",\"\",VLOOKUP(C25,INDIRECT($C$65),2,0))","v":"12001<"},"Triffis b",{"$f":"IF(C25=\"\",\"\",VLOOKUP(C25,INDIRECT($C$65),3,0))","v":20},{"$f":"IF(C25=\"\",\"\",VLOOKUP(C25,INDIRECT($C$65),4,0))","v":6},2,"Wert - Abzug",18]
["TN","12001°","Triffis c",17,6,2,"Wert - Abzug",15]
["TN","831<","3/2 ein 1/2 aus b",16,6,4,"Wert - Abzug",12]
[{"$f":"IF(H2>12,\"TN\",\"entfällt\")","v":"TN"},"822/","1/1 ein 1/1 aus a",16,6,2,{"$f":"IF(H2>12,\"Wert - Abzug\",\"entfällt\")","v":"Wert - Abzug"},14]
[{"$f":"IF(H2>16,\"TN\",\"entfällt\")","v":"TN"},"821<","1/1 ein 1/2 aus b",15,6,2,{"$f":"IF(H2>16,\"Wert - Abzug\",\"entfällt\")","v":"Wert - Abzug"},13]
[{"$f":"IF(H2>16,\"TN\",\"entfällt\")","v":"TN"},"11000<R","11/4 (2 3/4) vw b",15,6,4,{"$f":"IF(H2>16,\"Wert - Abzug\",\"entfällt\")","v":"Wert - Abzug"},{"$f":"IF(A30=\"entfällt\",0,IF(F30=\"\",0,D30-F30))","v":11}]
[{"$f":"IF($H$2>11,\"Verbindung Sprung 1\",\"entfällt\")","v":"Verbindung Sprung 1"},null,{"$f":"IF(A31<>\"entfällt\",VLOOKUP(1,INDIRECT($C$73),2,0),\"\")","v":"803<"},{"$f":"IF(A31<>\"entfällt\",VLOOKUP(1,INDIRECT($C$73),3,0),\"\")","v":15},{"$f":"IF(A31<>\"entfällt\",VLOOKUP(1,INDIRECT($C$73),4,0),\"\")","v":3},2,{"$f":"IF(H2>12,\"Wert - Abzug\",\"entfällt\")","v":"Wert - Abzug"},{"$f":"IF(A31=\"entfällt\",0,IF(F31=\"\",0,D31-F31))","v":13}]
[{"$f":"IF($H$2>11,\"Verbindung Sprung 2\",\"entfällt\")","v":"Verbindung Sprung 2"},null,{"$f":"IF(A32<>\"entfällt\",VLOOKUP(2,INDIRECT($C$73),2,0),\"\")","v":"800°"},{"$f":"IF(A32<>\"entfällt\",VLOOKUP(2,INDIRECT($C$73),3,0),\"\")","v":10},{"$f":"IF(A32<>\"entfällt\",VLOOKUP(2,INDIRECT($C$73),4,0),\"\")","v":3},0,{"$f":"IF(H2>12,\"Wert - Abzug\",\"entfällt\")","v":"Wert - Abzug"},{"$f":"IF(A32=\"entfällt\",0,IF(F32=\"\",0,D32-F32))","v":10}]
[{"$f":"IF($H$2>11,\"Verbindung Sprung 3\",\"entfällt\")","v":"Verbindung Sprung 3"},null,{"$f":"IF(A33<>\"entfällt\",VLOOKUP(3,INDIRECT($C$73),2,0),\"\")","v":"801<"},{"$f":"IF(A33<>\"entfällt\",VLOOKUP(3,INDIRECT($C$73),3,0),\"\")","v":13},{"$f":"IF(A33<>\"entfällt\",VLOOKUP(3,INDIRECT($C$73),4,0),\"\")","v":3},1,{"$f":"IF(H2>12,\"Wert - Abzug\",\"entfällt\")","v":"Wert - Abzug"},12]
[{"$f":"IF($H$2>11,\"Verbindung Sprung 4\",\"entfällt\")","v":"Verbindung Sprung 4"},null,{"$f":"IF(A34<>\"entfällt\",VLOOKUP(4,INDIRECT($C$73),2,0),\"\")","v":"40/"},{"$f":"IF(A34<>\"entfällt\",VLOOKUP(4,INDIRECT($C$73),3,0),\"\")","v":6},{"$f":"IF(A34<>\"entfällt\",VLOOKUP(4,INDIRECT($C$73),4,0),\"\")","v":3},1,{"$f":"IF(H2>12,\"Wert - Abzug\",\"entfällt\")","v":"Wert - Abzug"},5]
[{"$f":"IF($H$2>11,\"Verbindung Sprung 5\",\"entfällt\")","v":"Verbindung Sprung 5"},null,{"$f":"IF(A35<>\"entfällt\",VLOOKUP(5,INDIRECT($C$73),2,0),\"\")","v":"801°"},{"$f":"IF(A35<>\"entfällt\",VLOOKUP(5,INDIRECT($C$73),3,0),\"\")","v":11},{"$f":"IF(A35<>\"entfällt\",VLOOKUP(5,INDIRECT($C$73),4,0),\"\")","v":3},1,{"$f":"IF(H2>12,\"Wert - Abzug\",\"entfällt\")","v":"Wert - Abzug"},10]
[{"$f":"IF($H$2>11,\"Verbindung Sprung 6\",\"entfällt\")","v":"Verbindung Sprung 6"},null,{"$f":"IF(A36<>\"entfällt\",VLOOKUP(6,INDIRECT($C$73),2,0),\"\")","v":"811°"},{"$f":"IF(A36<>\"entfällt\",VLOOKUP(6,INDIRECT($C$73),3,0),\"\")","v":12},{"$f":"IF(A36<>\"entfällt\",VLOOKUP(6,INDIRECT($C$73),4,0),\"\")","v":3},1,{"$f":"IF(H2>12,\"Wert - Abzug\",\"entfällt\")","v":"Wert - Abzug"},{"$f":"IF(A36=\"entfällt\",0,IF(F36=\"\",0,D36-F36))","v":11}]
["Gesamtpunktzahl Trampolin",null,null,null,null,null,null,{"$f":"SUM(H21:H36)","v":153.5}]
["Element",null,null,null,"Wert","Abzug","Berechnung","Punkte"]
[{"$f":"VLOOKUP(1,INDIRECT($C$70),2,0)","v":"Salto vorwärts gehockt aus dem Stand"},null,null,null,{"$f":"VLOOKUP(1,INDIRECT($C$70),3,0)","v":5},0,"Wert - Abzug",{"$f":"IF(E39=\" \",\"\",IF(F39=\"\",0,E39-F39))","v":5}]
[{"$f":"VLOOKUP(2,INDIRECT($C$70),2,0)","v":"Vorspreizen, Bestellschritt, Strecksprung 3/2 Drehung"},null,null,null,{"$f":"VLOOKUP(2,INDIRECT($C$70),3,0)","v":3},1.5,"Wert - Abzug",{"$f":"IF(E40=\" \",\"\",IF(F40=\"\",0,E40-F40))","v":1.5}]
[{"$f":"VLOOKUP(3,INDIRECT($C$70),2,0)","v":"Rolle rückwärts durch Handstand mit 1/2 Drehung"},null,null,null,{"$f":"VLOOKUP(3,INDIRECT($C$70),3,0)","v":4},2,"Wert - Abzug",2]
[{"$f":"VLOOKUP(4,INDIRECT($C$70),2,0)","v":"--> Strecksprung --> Salto vorwärts gehockt"},null,null,null,{"$f":"VLOOKUP(4,INDIRECT($C$70),3,0)","v":4},0,"Wert - Abzug",4]
[{"$f":"VLOOKUP(5,INDIRECT($C$70),2,0)","v":"Wiener, 1/2 Drehung, absenken zum Stand"},null,null,null,{"$f":"VLOOKUP(5,INDIRECT($C$70),3,0)","v":4},null,"Wert - Abzug",0]
[{"$f":"VLOOKUP(6,INDIRECT($C$70),2,0)","v":"Handstand mit zwei Hüpfern, abrollen"},null,null,null,{"$f":"VLOOKUP(6,INDIRECT($C$70),3,0)","v":2},1,"Wert - Abzug",1]
[{"$f":"VLOOKUP(7,INDIRECT($C$70),2,0)","v":"--> aufstehen mit gestreckten Beinen"},null,null,null,{"$f":"VLOOKUP(7,INDIRECT($C$70),3,0)","v":3},0,"Wert - Abzug",3]
[{"$f":"VLOOKUP(8,INDIRECT($C$70),2,0)","v":"Salto rückwärts gebückt"},null,null,null,{"$f":"VLOOKUP(8,INDIRECT($C$70),3,0)","v":5},0.5,"Wert - Abzug",4.5]
[{"$f":"VLOOKUP(9,INDIRECT($C$70),2,0)","v":" "},null,null,null,{"$f":"VLOOKUP(9,INDIRECT($C$70),3,0)","v":" "},null,{"$f":"IF(H2>16,\"\",\"Wert - Abzug\")","v":""},""]
[{"$f":"VLOOKUP(10,INDIRECT($C$70),2,0)","v":" "},null,null,null,{"$f":"VLOOKUP(10,INDIRECT($C$70),3,0)","v":" "},null,{"$f":"IF(H2>16,\"\",\"Wert - Abzug\")","v":""},""]
[{"$f":"VLOOKUP(11,INDIRECT($C$70),2,0)","v":" "},null,null,null,{"$f":"VLOOKUP(11,INDIRECT($C$70),3,0)","v":" "},null,{"$f":"IF(H2>13,\"\",\"Wert - Abzug\")","v":""},""]
[{"$f":"VLOOKUP(12,INDIRECT($C$70),2,0)","v":" "},null,null,null,{"$f":"VLOOKUP(12,INDIRECT($C$70),3,0)","v":" "},null,{"$f":"IF(OR(H2=9,H2=12,H2=13),\"Wert - Abzug\",\"\")","v":""},""]
["Gesamtpunktzahl Bodenkomplexübung",null,null,null,null,null,null,{"$f":"SUM(H39:H50)","v":21}]
["Gesamtpunktzahl",null,null,null,null,null,null,{"$f":"SUM(H9,H19,H37,H51)","v":265.5}]
[]
[]
[null,"Shuttles",{"$f":"\"Shuttles_\"&F1&IF(H2=9,\"_9\",IF(H2<12,\"_10_11\",IF(H2<14,\"_12_13\",IF(H2<17,\"_14_16\",\"_17\"))))","v":"Shuttles_männlich_17"}]
[null,null,{"$f":"\"Shuttles_\"&F1&IF(H2=9,\"_9\",IF(H2<12,\"_10_11\",IF(H2<14,\"_12_13\",IF(H2<17,\"_14_16\",\"_17\"))))&\"[Shuttle]\"","v":"Shuttles_männlich_17[Shuttle]"}]
[null,null,{"$f":"\"Shuttles_\"&F1&IF(H2=9,\"_9\",IF(H2<12,\"_10_11\",IF(H2<14,\"_12_13\",IF(H2<17,\"_14_16\",\"_17\"))))&\"[Punkte]\"","v":"Shuttles_männlich_17[Punkte]"}]
[]
[null,"G_TBN TN BKÜ",{"$f":"IF(H2<13,\"beide\",F1)","v":"männlich"}]
[null,"AK",{"$f":"IF(OR(H2=9,H2=12),H2,IF(H2<12,\"10_11\",IF(H2<15,\"13_14\",IF(H2<17,\"15_16\",IF(H2<19,\"17_18\",19)))))","v":"17_18"}]
[]
[null,"TBN",{"$f":"\"TBN_\"&C59&\"_\"&C60","v":"TBN_männlich_17_18"}]
[null,null,{"$f":"C62&\"[Beschreibung]\"","v":"TBN_männlich_17_18[Beschreibung]"}]
[]
[null,"TN",{"$f":"\"TN_\"&C59&\"_\"&C60","v":"TN_männlich_17_18"}]
[null,null,{"$f":"C65&\"[Beschreibung]\"","v":"TN_männlich_17_18[Beschreibung]"}]
[]
[null,"TV",{"$f":"\"TV_\"&F1&\"_\"&C60","v":"TV_männlich_17_18"}]
[]
[null,"BKÜ",{"$f":"\"BKÜ\"&IF(H2=9,\"_9\",IF(H2<12,\"_10_11\",IF(H2<14,\"_12_13\",IF(H2<17,\"_14_16\",\"_17\"))))","v":"BKÜ_17"}]
[]
[null,"G_TV",{"$f":"IF(H2<17,\"beide\",F1)","v":"männlich"}]
[null,"TV",{"$f":"\"TV_\"&C72&\"_\"&C60","v":"TV_männlich_17_18"}]
[]
[null,{"$f":"SUM(H19,H9,H51)","v":112},"Vergleichspunktzahl aus Kraft, Beweglichkeit, Grundlagenausdauer, Bodenübung"]
[null,{"$f":"IF(B75>95,\"Ja\",\"Nein\")","v":"Ja"},"Vergleichspunktzahl erfüllt?"]
[null,{"$f":"IF(F1=\"Weiblich\",VLOOKUP(H2,Punktetabellen!$D$43:$F$49,3,1),VLOOKUP(H2,Punktetabellen!$D$43:$F$49,2,1))","v":186},"Mindest-Gesamtwert"]
[null,{"$f":"IF(H52>=B77,\"Ja\",\"Nein\")","v":"Ja"},"Gesamtwert erfüllt?"]
[null,{"$f":"IF(AND(B76=\"Ja\",B78=\"Ja\"),\"Ja\",\"Nein\")","v":"Ja"},"Alles erfüllt?"]

{"sheet":"HoffmannSimon","index":36,"n_rows":79,"n_cols":8,"rows_kept":79,"cut":false,"hidden":true,"merged":[[11,0,11,4],[0,1,0,4],[1,1,1,5],[2,0,2,4],[3,0,3,4],[4,0,4,4],[5,0,5,4],[6,0,6,4],[7,0,7,4],[8,0,8,6],[9,0,9,4],[10,0,10,4],[23,0,23,1],[12,0,12,4],[13,0,13,4],[14,0,14,4],[15,0,15,4],[16,0,16,1],[17,0,17,4],[18,0,18,6],[19,0,19,2],[20,0,20,2],[21,0,21,1],[22,0,22,1],[41,0,41,3],[30,0,30,1],[31,0,31,1],[32,0,32,1],[33,0,33,1],[34,0,34,1],[35,0,35,1],[36,0,36,6],[37,0,37,3],[38,0,38,3],[39,0,39,3],[40,0,40,3],[48,0,48,3],[49,0,49,3],[50,0,50,6],[51,0,51,6],[42,0,42,3],[43,0,43,3],[44,0,44,3],[45,0,45,3],[46,0,46,3],[47,0,47,3]]}
["Name","Hoffmann, Simon",null,null,null,"männlich","Jahrgang",2003]
["Verein","TB Ruit",null,null,null,null,"AK",{"$f":"2020-H1","v":17}]
["Übung",null,null,null,null,"Wert","Berechnung","Punkte"]
["Fußdehnung",null,null,null,null,null,"Bild",{"$f":"F4","v":0}]
["Briefmarke mit Armrumpfwinkel",null,null,null,null,null,"Bild",{"$f":"F5","v":0}]
["Bückbeweglichkeit",null,null,null,null,null,"Tabelle",{"$f":"IF(F6=\"\",0,VLOOKUP(F6,Punktetabellen!A10:B15,2,1))","v":0}]
["Querspagat links",null,null,null,null,null,"Tabelle",{"$f":"IF(F7=\"\",0,VLOOKUP(F7,Punktetabellen!A3:B6,2,0))","v":0}]
["Querspagat rechts",null,null,null,null,null,"Tabelle",{"$f":"IF(F8=\"\",0,VLOOKUP(F8,Punktetabellen!A3:B6,2,0))","v":0}]
["Gesamtpunktzahl Beweglichkeit",null,null,null,null,null,null,{"$f":"SUM(H4:H8)","v":0}]
["Übung",null,null,null,null,"Wert","Berechnung","Punktzahl"]
["Klimmzug",null,null,null,null,null,"Tabelle",{"$f":"IF(F11=\"\",0,IF(H2<12,VLOOKUP(F11,Punktetabellen!D4:F14,3,1),VLOOKUP(F11,Punktetabellen!E4:F14,2,1)))","v":0}]
["Beinheben",null,null,null,null,null,"Tabelle",{"$f":"IF(H2=9,VLOOKUP(F12,Punktetabellen!D19:F29,3,1),VLOOKUP(F12,Punktetabellen!E19:F29,2,1))","v":0}]
["Flieger",null,null,null,null,null,"Tabelle",{"$f":"IF(H2=9,VLOOKUP(F13,Punktetabellen!H4:K9,4,1),IF(H2<12,VLOOKUP(F13,Punktetabellen!I4:K9,3,1),VLOOKUP(F13,Punktetabellen!J4:K9,2,1)))","v":0}]
["Rollenverbindung",null,null,null,null,null,"Tabelle",{"$f":"IF(H2=9,VLOOKUP(F14,Punktetabellen!H14:K24,4,1),IF(H2<12,VLOOKUP(F14,Punktetabellen!I14:K24,3,1),VLOOKUP(F14,Punktetabellen!J14:K24,2,1)))","v":0}]
["Prellsprünge",null,null,null,null,null,"Tabelle",{"$f":"IF(H2=9,VLOOKUP(F15,Punktetabellen!M4:Q14,5,1),IF(H2<12,VLOOKUP(F15,Punktetabellen!N4:Q14,4,1),IF(H2<14,VLOOKUP(F15,Punktetabellen!O4:Q14,3,1),VLOOKUP(F15,Punktetabellen!P4:Q14,2,1))))","v":0}]
["Handstandstehen",null,null,null,null,null,"Tabelle",{"$f":"IF(F16=\"\",0,IF(H2<10,VLOOKUP(F16,Punktetabellen!D34:F40,3,1),VLOOKUP(F16,Punktetabellen!E34:F40,2,1)))","v":0}]
["Schweizer, Wiener",null,{"$f":"IF(H2<12,\"\",IF(AND(H2>13,H2<17),\"Schweizer: \",\"Wiener: \"))","v":"Wiener: "},null,{"$f":"IF(H2<12,\"\",IF(AND(H2>13,H2<17),\"Wiener: \",\"Schweizer: \"))","v":"Schweizer: "},null,"Tabelle",{"$f":"IF(H2<12,VLOOKUP(F17,Punktetabellen!A20:B25,2,1),((MIN(5,1*D17)*2)+MIN(MAX(0,5-(1*D17)),(1*F17))))","v":0}]
["Bleep-Test",null,null,null,null,null,"Tabelle",{"$f":"IF(F18=\"\",0,VLOOKUP(F18,INDIRECT(C55),2,0))","v":0}]
["Gesamtpunktzahl Kraft/Kondition",null,null,null,null,null,null,{"$f":"SUM(H11:H18)","v":0}]
["Übung",null,null,"Max / Soll","Max. Abzug","Abzug / Ist","Berechnung","Punkte"]
["Standsprunghöhe",null,null,{"$f":"IF(F1=\"männlich\",VLOOKUP(H2,Standsprünge!A3:C15,3,0),VLOOKUP(H2,Standsprünge!A3:B15,2,0))","v":17.3},null,null,"(Ist - Soll) x 10",{"$f":"IF(F21=\"\",0,(F21-D21)*10)","v":0}]
[{"$f":"IF(H2>16,\"entfällt\",\"TBN\")","v":"entfällt"},null,null,{"$f":"IF(C22=\"\",\"\",VLOOKUP(C22,INDIRECT($C$62),2,0))","v":""},{"$f":"IF(C22=\"\",\"\",VLOOKUP(C22,INDIRECT($C$62),3,0))","v":""},null,{"$f":"IF(H2>16,\"entfällt\",\"Wert - Abzug\")","v":"entfällt"},{"$f":"IF(A22=\"entfällt\",0,IF(F22=\"\",0,D22-F22))","v":0}]
[{"$f":"IF(H2>16,\"entfällt\",\"TBN\")","v":"entfällt"},null,null,{"$f":"IF(C23=\"\",\"\",VLOOKUP(C23,INDIRECT($C$62),2,0))","v":""},{"$f":"IF(C23=\"\",\"\",VLOOKUP(C23,INDIRECT($C$62),3,0))","v":""},null,{"$f":"IF(H2>16,\"entfällt\",\"Wert - Abzug\")","v":"entfällt"},{"$f":"IF(A23=\"entfällt\",0,IF(F23=\"\",0,D23-F23))","v":0}]
[{"$f":"IF(H2>12,\"entfällt\",\"TBN\")","v":"entfällt"},null,null,{"$f":"IF(C24=\"\",\"\",VLOOKUP(C24,INDIRECT($C$62),2,0))","v":""},{"$f":"IF(C24=\"\",\"\",VLOOKUP(C24,INDIRECT($C$62),3,0))","v":""},null,{"$f":"IF(H2>16,\"entfällt\",\"Wert - Abzug\")","v":"entfällt"},0]
["TN",{"$f":"IF(C25=\"\",\"\",VLOOKUP(C25,INDIRECT($C$65),2,0))","v":""},null,{"$f":"IF(C25=\"\",\"\",VLOOKUP(C25,INDIRECT($C$65),3,0))","v":""},{"$f":"IF(C25=\"\",\"\",VLOOKUP(C25,INDIRECT($C$65),4,0))","v":""},null,"Wert - Abzug",0]
["TN","",null,"","",null,"Wert - Abzug",0]
["TN","",null,"","",null,"Wert - Abzug",0]
[{"$f":"IF(H2>12,\"TN\",\"entfällt\")","v":"TN"},"",null,"","",null,{"$f":"IF(H2>12,\"Wert - Abzug\",\"entfällt\")","v":"Wert - Abzug"},0]
[{"$f":"IF(H2>16,\"TN\",\"entfällt\")","v":"TN"},"",null,"","",null,{"$f":"IF(H2>16,\"Wert - Abzug\",\"entfällt\")","v":"Wert - Abzug"},0]
[{"$f":"IF(H2>16,\"TN\",\"entfällt\")","v":"TN"},"",null,"","",null,{"$f":"IF(H2>16,\"Wert - Abzug\",\"entfällt\")","v":"Wert - Abzug"},{"$f":"IF(A30=\"entfällt\",0,IF(F30=\"\",0,D30-F30))","v":0}]
[{"$f":"IF($H$2>11,\"Verbindung Sprung 1\",\"entfällt\")","v":"Verbindung Sprung 1"},null,{"$f":"IF(A31<>\"entfällt\",VLOOKUP(1,INDIRECT($C$73),2,0),\"\")","v":"803<"},{"$f":"IF(A31<>\"entfällt\",VLOOKUP(1,INDIRECT($C$73),3,0),\"\")","v":15},{"$f":"IF(A31<>\"entfällt\",VLOOKUP(1,INDIRECT($C$73),4,0),\"\")","v":3},null,{"$f":"IF(H2>12,\"Wert - Abzug\",\"entfällt\")","v":"Wert - Abzug"},{"$f":"IF(A31=\"entfällt\",0,IF(F31=\"\",0,D31-F31))","v":0}]
[{"$f":"IF($H$2>11,\"Verbindung Sprung 2\",\"entfällt\")","v":"Verbindung Sprung 2"},null,{"$f":"IF(A32<>\"entfällt\",VLOOKUP(2,INDIRECT($C$73),2,0),\"\")","v":"800°"},{"$f":"IF(A32<>\"entfällt\",VLOOKUP(2,INDIRECT($C$73),3,0),\"\")","v":10},{"$f":"IF(A32<>\"entfällt\",VLOOKUP(2,INDIRECT($C$73),4,0),\"\")","v":3},null,{"$f":"IF(H2>12,\"Wert - Abzug\",\"entfällt\")","v":"Wert - Abzug"},{"$f":"IF(A32=\"entfällt\",0,IF(F32=\"\",0,D32-F32))","v":0}]
[{"$f":"IF($H$2>11,\"Verbindung Sprung 3\",\"entfällt\")","v":"Verbindung Sprung 3"},null,{"$f":"IF(A33<>\"entfällt\",VLOOKUP(3,INDIRECT($C$73),2,0),\"\")","v":"801<"},{"$f":"IF(A33<>\"entfällt\",VLOOKUP(3,INDIRECT($C$73),3,0),\"\")","v":13},{"$f":"IF(A33<>\"entfällt\",VLOOKUP(3,INDIRECT($C$73),4,0),\"\")","v":3},null,{"$f":"IF(H2>12,\"Wert - Abzug\",\"entfällt\")","v":"Wert - Abzug"},0]
[{"$f":"IF($H$2>11,\"Verbindung Sprung 4\",\"entfällt\")","v":"Verbindung Sprung 4"},null,{"$f":"IF(A34<>\"entfällt\",VLOOKUP(4,INDIRECT($C$73),2,0),\"\")","v":"40/"},{"$f":"IF(A34<>\"entfällt\",VLOOKUP(4,INDIRECT($C$73),3,0),\"\")","v":6},{"$f":"IF(A34<>\"entfällt\",VLOOKUP(4,INDIRECT($C$73),4,0),\"\")","v":3},null,{"$f":"IF(H2>12,\"Wert - Abzug\",\"entfällt\")","v":"Wert - Abzug"},0]
[{"$f":"IF($H$2>11,\"Verbindung Sprung 5\",\"entfällt\")","v":"Verbindung Sprung 5"},null,{"$f":"IF(A35<>\"entfällt\",VLOOKUP(5,INDIRECT($C$73),2,0),\"\")","v":"801°"},{"$f":"IF(A35<>\"entfällt\",VLOOKUP(5,INDIRECT($C$73),3,0),\"\")","v":11},{"$f":"IF(A35<>\"entfällt\",VLOOKUP(5,INDIRECT($C$73),4,0),\"\")","v":3},null,{"$f":"IF(H2>12,\"Wert - Abzug\",\"entfällt\")","v":"Wert - Abzug"},0]
[{"$f":"IF($H$2>11,\"Verbindung Sprung 6\",\"entfällt\")","v":"Verbindung Sprung 6"},null,{"$f":"IF(A36<>\"entfällt\",VLOOKUP(6,INDIRECT($C$73),2,0),\"\")","v":"811°"},{"$f":"IF(A36<>\"entfällt\",VLOOKUP(6,INDIRECT($C$73),3,0),\"\")","v":12},{"$f":"IF(A36<>\"entfällt\",VLOOKUP(6,INDIRECT($C$73),4,0),\"\")","v":3},null,{"$f":"IF(H2>12,\"Wert - Abzug\",\"entfällt\")","v":"Wert - Abzug"},{"$f":"IF(A36=\"entfällt\",0,IF(F36=\"\",0,D36-F36))","v":0}]
["Gesamtpunktzahl Trampolin",null,null,null,null,null,null,{"$f":"SUM(H21:H36)","v":0}]
["Element",null,null,null,"Wert","Abzug","Berechnung","Punkte"]
[{"$f":"VLOOKUP(1,INDIRECT($C$70),2,0)","v":"Salto vorwärts gehockt aus dem Stand"},null,null,null,{"$f":"VLOOKUP(1,INDIRECT($C$70),3,0)","v":5},null,"Wert - Abzug",{"$f":"IF(E39=\" \",\"\",IF(F39=\"\",0,E39-F39))","v":0}]
[{"$f":"VLOOKUP(2,INDIRECT($C$70),2,0)","v":"Vorspreizen, Bestellschritt, Strecksprung 3/2 Drehung"},null,null,null,{"$f":"VLOOKUP(2,INDIRECT($C$70),3,0)","v":3},null,"Wert - Abzug",{"$f":"IF(E40=\" \",\"\",IF(F40=\"\",0,E40-F40))","v":0}]
[{"$f":"VLOOKUP(3,INDIRECT($C$70),2,0)","v":"Rolle rückwärts durch Handstand mit 1/2 Drehung"},null,null,null,{"$f":"VLOOKUP(3,INDIRECT($C$70),3,0)","v":4},null,"Wert - Abzug",0]
[{"$f":"VLOOKUP(4,INDIRECT($C$70),2,0)","v":"--> Strecksprung --> Salto vorwärts gehockt"},null,null,null,{"$f":"VLOOKUP(4,INDIRECT($C$70),3,0)","v":4},null,"Wert - Abzug",0]
[{"$f":"VLOOKUP(5,INDIRECT($C$70),2,0)","v":"Wiener, 1/2 Drehung, absenken zum Stand"},null,null,null,{"$f":"VLOOKUP(5,INDIRECT($C$70),3,0)","v":4},null,"Wert - Abzug",0]
[{"$f":"VLOOKUP(6,INDIRECT($C$70),2,0)","v":"Handstand mit zwei Hüpfern, abrollen"},null,null,null,{"$f":"VLOOKUP(6,INDIRECT($C$70),3,0)","v":2},null,"Wert - Abzug",0]
[{"$f":"VLOOKUP(7,INDIRECT($C$70),2,0)","v":"--> aufstehen mit gestreckten Beinen"},null,null,null,{"$f":"VLOOKUP(7,INDIRECT($C$70),3,0)","v":3},null,"Wert - Abzug",0]
[{"$f":"VLOOKUP(8,INDIRECT($C$70),2,0)","v":"Salto rückwärts gebückt"},null,null,null,{"$f":"VLOOKUP(8,INDIRECT($C$70),3,0)","v":5},null,"Wert - Abzug",0]
[{"$f":"VLOOKUP(9,INDIRECT($C$70),2,0)","v":" "},null,null,null,{"$f":"VLOOKUP(9,INDIRECT($C$70),3,0)","v":" "},null,{"$f":"IF(H2>16,\"\",\"Wert - Abzug\")","v":""},""]
[{"$f":"VLOOKUP(10,INDIRECT($C$70),2,0)","v":" "},null,null,null,{"$f":"VLOOKUP(10,INDIRECT($C$70),3,0)","v":" "},null,{"$f":"IF(H2>16,\"\",\"Wert - Abzug\")","v":""},""]
[{"$f":"VLOOKUP(11,INDIRECT($C$70),2,0)","v":" "},null,null,null,{"$f":"VLOOKUP(11,INDIRECT($C$70),3,0)","v":" "},null,{"$f":"IF(H2>13,\"\",\"Wert - Abzug\")","v":""},""]
[{"$f":"VLOOKUP(12,INDIRECT($C$70),2,0)","v":" "},null,null,null,{"$f":"VLOOKUP(12,INDIRECT($C$70),3,0)","v":" "},null,{"$f":"IF(OR(H2=9,H2=12,H2=13),\"Wert - Abzug\",\"\")","v":""},""]
["Gesamtpunktzahl Bodenkomplexübung",null,null,null,null,null,null,{"$f":"SUM(H39:H50)","v":0}]
["Gesamtpunktzahl",null,null,null,null,null,null,{"$f":"SUM(H9,H19,H37,H51)","v":0}]
[]
[]
[null,"Shuttles",{"$f":"\"Shuttles_\"&F1&IF(H2=9,\"_9\",IF(H2<12,\"_10_11\",IF(H2<14,\"_12_13\",IF(H2<17,\"_14_16\",\"_17\"))))","v":"Shuttles_männlich_17"}]
[null,null,{"$f":"\"Shuttles_\"&F1&IF(H2=9,\"_9\",IF(H2<12,\"_10_11\",IF(H2<14,\"_12_13\",IF(H2<17,\"_14_16\",\"_17\"))))&\"[Shuttle]\"","v":"Shuttles_männlich_17[Shuttle]"}]
[null,null,{"$f":"\"Shuttles_\"&F1&IF(H2=9,\"_9\",IF(H2<12,\"_10_11\",IF(H2<14,\"_12_13\",IF(H2<17,\"_14_16\",\"_17\"))))&\"[Punkte]\"","v":"Shuttles_männlich_17[Punkte]"}]
[]
[null,"G_TBN TN BKÜ",{"$f":"IF(H2<13,\"beide\",F1)","v":"männlich"}]
[null,"AK",{"$f":"IF(OR(H2=9,H2=12),H2,IF(H2<12,\"10_11\",IF(H2<15,\"13_14\",IF(H2<17,\"15_16\",IF(H2<19,\"17_18\",19)))))","v":"17_18"}]
[]
[null,"TBN",{"$f":"\"TBN_\"&C59&\"_\"&C60","v":"TBN_männlich_17_18"}]
[null,null,{"$f":"C62&\"[Beschreibung]\"","v":"TBN_männlich_17_18[Beschreibung]"}]
[]
[null,"TN",{"$f":"\"TN_\"&C59&\"_\"&C60","v":"TN_männlich_17_18"}]
[null,null,{"$f":"C65&\"[Beschreibung]\"","v":"TN_männlich_17_18[Beschreibung]"}]
[]
[null,"TV",{"$f":"\"TV_\"&F1&\"_\"&C60","v":"TV_männlich_17_18"}]
[]
[null,"BKÜ",{"$f":"\"BKÜ\"&IF(H2=9,\"_9\",IF(H2<12,\"_10_11\",IF(H2<14,\"_12_13\",IF(H2<17,\"_14_16\",\"_17\"))))","v":"BKÜ_17"}]
[]
[null,"G_TV",{"$f":"IF(H2<17,\"beide\",F1)","v":"männlich"}]
[null,"TV",{"$f":"\"TV_\"&C72&\"_\"&C60","v":"TV_männlich_17_18"}]
[]
[null,{"$f":"SUM(H19,H9,H51)","v":0},"Vergleichspunktzahl aus Kraft, Beweglichkeit, Grundlagenausdauer, Bodenübung"]
[null,{"$f":"IF(B75>95,\"Ja\",\"Nein\")","v":"Nein"},"Vergleichspunktzahl erfüllt?"]
[null,{"$f":"IF(F1=\"Weiblich\",VLOOKUP(H2,Punktetabellen!$D$43:$F$49,3,1),VLOOKUP(H2,Punktetabellen!$D$43:$F$49,2,1))","v":186},"Mindest-Gesamtwert"]
[null,{"$f":"IF(H52>=B77,\"Ja\",\"Nein\")","v":"Nein"},"Gesamtwert erfüllt?"]
[null,{"$f":"IF(AND(B76=\"Ja\",B78=\"Ja\"),\"Ja\",\"Nein\")","v":"Nein"},"Alles erfüllt?"]

{"sheet":"BuddeMax","index":37,"n_rows":79,"n_cols":8,"rows_kept":79,"cut":false,"hidden":false,"merged":[[11,0,11,4],[0,1,0,4],[1,1,1,5],[2,0,2,4],[3,0,3,4],[4,0,4,4],[5,0,5,4],[6,0,6,4],[7,0,7,4],[8,0,8,6],[9,0,9,4],[10,0,10,4],[23,0,23,1],[12,0,12,4],[13,0,13,4],[14,0,14,4],[15,0,15,4],[16,0,16,1],[17,0,17,4],[18,0,18,6],[19,0,19,2],[20,0,20,2],[21,0,21,1],[22,0,22,1],[41,0,41,3],[30,0,30,1],[31,0,31,1],[32,0,32,1],[33,0,33,1],[34,0,34,1],[35,0,35,1],[36,0,36,6],[37,0,37,3],[38,0,38,3],[39,0,39,3],[40,0,40,3],[48,0,48,3],[49,0,49,3],[50,0,50,6],[51,0,51,6],[42,0,42,3],[43,0,43,3],[44,0,44,3],[45,0,45,3],[46,0,46,3],[47,0,47,3]]}
["Name","Budde, Max",null,null,null,"männlich","Jahrgang",2002]
["Verein","SC Cottbus",null,null,null,null,"AK",{"$f":"2020-H1","v":18}]
["Übung",null,null,null,null,"Wert","Berechnung","Punkte"]
["Fußdehnung",null,null,null,null,10,"Bild",{"$f":"F4","v":10}]
["Briefmarke mit Armrumpfwinkel",null,null,null,null,10,"Bild",{"$f":"F5","v":10}]
["Bückbeweglichkeit",null,null,null,null,20,"Tabelle",{"$f":"IF(F6=\"\",0,VLOOKUP(F6,Punktetabellen!A10:B15,2,1))","v":10}]
["Querspagat links",null,null,null,null,"<5 cm","Tabelle",{"$f":"IF(F7=\"\",0,VLOOKUP(F7,Punktetabellen!A3:B6,2,0))","v":6}]
["Querspagat rechts",null,null,null,null,"<5 cm","Tabelle",{"$f":"IF(F8=\"\",0,VLOOKUP(F8,Punktetabellen!A3:B6,2,0))","v":6}]
["Gesamtpunktzahl Beweglichkeit",null,null,null,null,null,null,{"$f":"SUM(H4:H8)","v":42}]
["Übung",null,null,null,null,"Wert","Berechnung","Punktzahl"]
["Klimmzug",null,null,null,null,14,"Tabelle",{"$f":"IF(F11=\"\",0,IF(H2<12,VLOOKUP(F11,Punktetabellen!D4:F14,3,1),VLOOKUP(F11,Punktetabellen!E4:F14,2,1)))","v":9}]
["Beinheben",null,null,null,null,5,"Tabelle",{"$f":"IF(H2=9,VLOOKUP(F12,Punktetabellen!D19:F29,3,1),VLOOKUP(F12,Punktetabellen!E19:F29,2,1))","v":2}]
["Flieger",null,null,null,null,100,"Tabelle",{"$f":"IF(H2=9,VLOOKUP(F13,Punktetabellen!H4:K9,4,1),IF(H2<12,VLOOKUP(F13,Punktetabellen!I4:K9,3,1),VLOOKUP(F13,Punktetabellen!J4:K9,2,1)))","v":6}]
["Rollenverbindung",null,null,null,null,29,"Tabelle",{"$f":"IF(H2=9,VLOOKUP(F14,Punktetabellen!H14:K24,4,1),IF(H2<12,VLOOKUP(F14,Punktetabellen!I14:K24,3,1),VLOOKUP(F14,Punktetabellen!J14:K24,2,1)))","v":10}]
["Prellsprünge",null,null,null,null,9,"Tabelle",{"$f":"IF(H2=9,VLOOKUP(F15,Punktetabellen!M4:Q14,5,1),IF(H2<12,VLOOKUP(F15,Punktetabellen!N4:Q14,4,1),IF(H2<14,VLOOKUP(F15,Punktetabellen!O4:Q14,3,1),VLOOKUP(F15,Punktetabellen!P4:Q14,2,1))))","v":9}]
["Handstandstehen",null,null,null,null,30,"Tabelle",{"$f":"IF(F16=\"\",0,IF(H2<10,VLOOKUP(F16,Punktetabellen!D34:F40,3,1),VLOOKUP(F16,Punktetabellen!E34:F40,2,1)))","v":10}]
["Schweizer, Wiener",null,{"$f":"IF(H2<12,\"\",IF(AND(H2>13,H2<17),\"Schweizer: \",\"Wiener: \"))","v":"Wiener: "},2,{"$f":"IF(H2<12,\"\",IF(AND(H2>13,H2<17),\"Wiener: \",\"Schweizer: \"))","v":"Schweizer: "},0,"Tabelle",{"$f":"IF(H2<12,VLOOKUP(F17,Punktetabellen!A20:B25,2,1),((MIN(5,1*D17)*2)+MIN(MAX(0,5-(1*D17)),(1*F17))))","v":4}]
["Bleep-Test",null,null,null,null,"L10 S11","Tabelle",{"$f":"IF(F18=\"\",0,VLOOKUP(F18,INDIRECT(C55),2,0))","v":5}]
["Gesamtpunktzahl Kraft/Kondition",null,null,null,null,null,null,{"$f":"SUM(H11:H18)","v":55}]
["Übung",null,null,"Max / Soll","Max. Abzug","Abzug / Ist","Berechnung","Punkte"]
["Standsprunghöhe",null,null,{"$f":"IF(F1=\"männlich\",VLOOKUP(H2,Standsprünge!A3:C15,3,0),VLOOKUP(H2,Standsprünge!A3:B15,2,0))","v":17.600000000000001},null,18.364999999999998,"(Ist - Soll) x 10",{"$f":"IF(F21=\"\",0,(F21-D21)*10)","v":7.6499999999999702}]
[{"$f":"IF(H2>16,\"entfällt\",\"TBN\")","v":"entfällt"},null,null,{"$f":"IF(C22=\"\",\"\",VLOOKUP(C22,INDIRECT($C$62),2,0))","v":""},{"$f":"IF(C22=\"\",\"\",VLOOKUP(C22,INDIRECT($C$62),3,0))","v":""},null,{"$f":"IF(H2>16,\"entfällt\",\"Wert - Abzug\")","v":"entfällt"},{"$f":"IF(A22=\"entfällt\",0,IF(F22=\"\",0,D22-F22))","v":0}]
[{"$f":"IF(H2>16,\"entfällt\",\"TBN\")","v":"entfällt"},null,null,{"$f":"IF(C23=\"\",\"\",VLOOKUP(C23,INDIRECT($C$62),2,0))","v":""},{"$f":"IF(C23=\"\",\"\",VLOOKUP(C23,INDIRECT($C$62),3,0))","v":""},null,{"$f":"IF(H2>16,\"entfällt\",\"Wert - Abzug\")","v":"entfällt"},{"$f":"IF(A23=\"entfällt\",0,IF(F23=\"\",0,D23-F23))","v":0}]
[{"$f":"IF(H2>12,\"entfällt\",\"TBN\")","v":"entfällt"},null,null,{"$f":"IF(C24=\"\",\"\",VLOOKUP(C24,INDIRECT($C$62),2,0))","v":""},{"$f":"IF(C24=\"\",\"\",VLOOKUP(C24,INDIRECT($C$62),3,0))","v":""},null,{"$f":"IF(H2>16,\"entfällt\",\"Wert - Abzug\")","v":"entfällt"},0]
["TN",{"$f":"IF(C25=\"\",\"\",VLOOKUP(C25,INDIRECT($C$65),2,0))","v":"12001<"},"Triffis b",{"$f":"IF(C25=\"\",\"\",VLOOKUP(C25,INDIRECT($C$65),3,0))","v":20},{"$f":"IF(C25=\"\",\"\",VLOOKUP(C25,INDIRECT($C$65),4,0))","v":6},4,"Wert - Abzug",16]
["TN","12001°","Triffis c",17,6,4,"Wert - Abzug",13]
["TN","805<","Fliffisrandi b",17,6,6,"Wert - Abzug",11]
[{"$f":"IF(H2>12,\"TN\",\"entfällt\")","v":"TN"},"901<","Fliffis b aus der Rückenlage",14,6,2,{"$f":"IF(H2>12,\"Wert - Abzug\",\"entfällt\")","v":"Wert - Abzug"},12]
[{"$f":"IF(H2>16,\"TN\",\"entfällt\")","v":"TN"},"822/","1/1 ein 1/1 aus a",16,6,4,{"$f":"IF(H2>16,\"Wert - Abzug\",\"entfällt\")","v":"Wert - Abzug"},12]
[{"$f":"IF(H2>16,\"TN\",\"entfällt\")","v":"TN"},"805°","Fliffisrandi c",15,6,4,{"$f":"IF(H2>16,\"Wert - Abzug\",\"entfällt\")","v":"Wert - Abzug"},{"$f":"IF(A30=\"entfällt\",0,IF(F30=\"\",0,D30-F30))","v":11}]
[{"$f":"IF($H$2>11,\"Verbindung Sprung 1\",\"entfällt\")","v":"Verbindung Sprung 1"},null,{"$f":"IF(A31<>\"entfällt\",VLOOKUP(1,INDIRECT($C$73),2,0),\"\")","v":"803<"},{"$f":"IF(A31<>\"entfällt\",VLOOKUP(1,INDIRECT($C$73),3,0),\"\")","v":15},{"$f":"IF(A31<>\"entfällt\",VLOOKUP(1,INDIRECT($C$73),4,0),\"\")","v":3},2,{"$f":"IF(H2>12,\"Wert - Abzug\",\"entfällt\")","v":"Wert - Abzug"},{"$f":"IF(A31=\"entfällt\",0,IF(F31=\"\",0,D31-F31))","v":13}]
[{"$f":"IF($H$2>11,\"Verbindung Sprung 2\",\"entfällt\")","v":"Verbindung Sprung 2"},null,{"$f":"IF(A32<>\"entfällt\",VLOOKUP(2,INDIRECT($C$73),2,0),\"\")","v":"800°"},{"$f":"IF(A32<>\"entfällt\",VLOOKUP(2,INDIRECT($C$73),3,0),\"\")","v":10},{"$f":"IF(A32<>\"entfällt\",VLOOKUP(2,INDIRECT($C$73),4,0),\"\")","v":3},1,{"$f":"IF(H2>12,\"Wert - Abzug\",\"entfällt\")","v":"Wert - Abzug"},{"$f":"IF(A32=\"entfällt\",0,IF(F32=\"\",0,D32-F32))","v":9}]
[{"$f":"IF($H$2>11,\"Verbindung Sprung 3\",\"entfällt\")","v":"Verbindung Sprung 3"},null,{"$f":"IF(A33<>\"entfällt\",VLOOKUP(3,INDIRECT($C$73),2,0),\"\")","v":"801<"},{"$f":"IF(A33<>\"entfällt\",VLOOKUP(3,INDIRECT($C$73),3,0),\"\")","v":13},{"$f":"IF(A33<>\"entfällt\",VLOOKUP(3,INDIRECT($C$73),4,0),\"\")","v":3},1,{"$f":"IF(H2>12,\"Wert - Abzug\",\"entfällt\")","v":"Wert - Abzug"},12]
[{"$f":"IF($H$2>11,\"Verbindung Sprung 4\",\"entfällt\")","v":"Verbindung Sprung 4"},null,{"$f":"IF(A34<>\"entfällt\",VLOOKUP(4,INDIRECT($C$73),2,0),\"\")","v":"40/"},{"$f":"IF(A34<>\"entfällt\",VLOOKUP(4,INDIRECT($C$73),3,0),\"\")","v":6},{"$f":"IF(A34<>\"entfällt\",VLOOKUP(4,INDIRECT($C$73),4,0),\"\")","v":3},1,{"$f":"IF(H2>12,\"Wert - Abzug\",\"entfällt\")","v":"Wert - Abzug"},5]
[{"$f":"IF($H$2>11,\"Verbindung Sprung 5\",\"entfällt\")","v":"Verbindung Sprung 5"},null,{"$f":"IF(A35<>\"entfällt\",VLOOKUP(5,INDIRECT($C$73),2,0),\"\")","v":"801°"},{"$f":"IF(A35<>\"entfällt\",VLOOKUP(5,INDIRECT($C$73),3,0),\"\")","v":11},{"$f":"IF(A35<>\"entfällt\",VLOOKUP(5,INDIRECT($C$73),4,0),\"\")","v":3},0,{"$f":"IF(H2>12,\"Wert - Abzug\",\"entfällt\")","v":"Wert - Abzug"},11]
[{"$f":"IF($H$2>11,\"Verbindung Sprung 6\",\"entfällt\")","v":"Verbindung Sprung 6"},null,{"$f":"IF(A36<>\"entfällt\",VLOOKUP(6,INDIRECT($C$73),2,0),\"\")","v":"811°"},{"$f":"IF(A36<>\"entfällt\",VLOOKUP(6,INDIRECT($C$73),3,0),\"\")","v":12},{"$f":"IF(A36<>\"entfällt\",VLOOKUP(6,INDIRECT($C$73),4,0),\"\")","v":3},2,{"$f":"IF(H2>12,\"Wert - Abzug\",\"entfällt\")","v":"Wert - Abzug"},{"$f":"IF(A36=\"entfällt\",0,IF(F36=\"\",0,D36-F36))","v":10}]
["Gesamtpunktzahl Trampolin",null,null,null,null,null,null,{"$f":"SUM(H21:H36)","v":142.64999999999998}]
["Element",null,null,null,"Wert","Abzug","Berechnung","Punkte"]
[{"$f":"VLOOKUP(1,INDIRECT($C$70),2,0)","v":"Salto vorwärts gehockt aus dem Stand"},null,null,null,{"$f":"VLOOKUP(1,INDIRECT($C$70),3,0)","v":5},1,"Wert - Abzug",{"$f":"IF(E39=\" \",\"\",IF(F39=\"\",0,E39-F39))","v":4}]
[{"$f":"VLOOKUP(2,INDIRECT($C$70),2,0)","v":"Vorspreizen, Bestellschritt, Strecksprung 3/2 Drehung"},null,null,null,{"$f":"VLOOKUP(2,INDIRECT($C$70),3,0)","v":3},null,"Wert - Abzug",{"$f":"IF(E40=\" \",\"\",IF(F40=\"\",0,E40-F40))","v":0}]
[{"$f":"VLOOKUP(3,INDIRECT($C$70),2,0)","v":"Rolle rückwärts durch Handstand mit 1/2 Drehung"},null,null,null,{"$f":"VLOOKUP(3,INDIRECT($C$70),3,0)","v":4},1,"Wert - Abzug",3]
[{"$f":"VLOOKUP(4,INDIRECT($C$70),2,0)","v":"--> Strecksprung --> Salto vorwärts gehockt"},null,null,null,{"$f":"VLOOKUP(4,INDIRECT($C$70),3,0)","v":4},0,"Wert - Abzug",4]
[{"$f":"VLOOKUP(5,INDIRECT($C$70),2,0)","v":"Wiener, 1/2 Drehung, absenken zum Stand"},null,null,null,{"$f":"VLOOKUP(5,INDIRECT($C$70),3,0)","v":4},0,"Wert - Abzug",4]
[{"$f":"VLOOKUP(6,INDIRECT($C$70),2,0)","v":"Handstand mit zwei Hüpfern, abrollen"},null,null,null,{"$f":"VLOOKUP(6,INDIRECT($C$70),3,0)","v":2},0,"Wert - Abzug",2]
[{"$f":"VLOOKUP(7,INDIRECT($C$70),2,0)","v":"--> aufstehen mit gestreckten Beinen"},null,null,null,{"$f":"VLOOKUP(7,INDIRECT($C$70),3,0)","v":3},0,"Wert - Abzug",3]
[{"$f":"VLOOKUP(8,INDIRECT($C$70),2,0)","v":"Salto rückwärts gebückt"},null,null,null,{"$f":"VLOOKUP(8,INDIRECT($C$70),3,0)","v":5},2,"Wert - Abzug",3]
[{"$f":"VLOOKUP(9,INDIRECT($C$70),2,0)","v":" "},null,null,null,{"$f":"VLOOKUP(9,INDIRECT($C$70),3,0)","v":" "},null,{"$f":"IF(H2>16,\"\",\"Wert - Abzug\")","v":""},""]
[{"$f":"VLOOKUP(10,INDIRECT($C$70),2,0)","v":" "},null,null,null,{"$f":"VLOOKUP(10,INDIRECT($C$70),3,0)","v":" "},null,{"$f":"IF(H2>16,\"\",\"Wert - Abzug\")","v":""},""]
[{"$f":"VLOOKUP(11,INDIRECT($C$70),2,0)","v":" "},null,null,null,{"$f":"VLOOKUP(11,INDIRECT($C$70),3,0)","v":" "},null,{"$f":"IF(H2>13,\"\",\"Wert - Abzug\")","v":""},""]
[{"$f":"VLOOKUP(12,INDIRECT($C$70),2,0)","v":" "},null,null,null,{"$f":"VLOOKUP(12,INDIRECT($C$70),3,0)","v":" "},null,{"$f":"IF(OR(H2=9,H2=12,H2=13),\"Wert - Abzug\",\"\")","v":""},""]
["Gesamtpunktzahl Bodenkomplexübung",null,null,null,null,null,null,{"$f":"SUM(H39:H50)","v":23}]
["Gesamtpunktzahl",null,null,null,null,null,null,{"$f":"SUM(H9,H19,H37,H51)","v":262.64999999999998}]
[]
[]
[null,"Shuttles",{"$f":"\"Shuttles_\"&F1&IF(H2=9,\"_9\",IF(H2<12,\"_10_11\",IF(H2<14,\"_12_13\",IF(H2<17,\"_14_16\",\"_17\"))))","v":"Shuttles_männlich_17"}]
[null,null,{"$f":"\"Shuttles_\"&F1&IF(H2=9,\"_9\",IF(H2<12,\"_10_11\",IF(H2<14,\"_12_13\",IF(H2<17,\"_14_16\",\"_17\"))))&\"[Shuttle]\"","v":"Shuttles_männlich_17[Shuttle]"}]
[null,null,{"$f":"\"Shuttles_\"&F1&IF(H2=9,\"_9\",IF(H2<12,\"_10_11\",IF(H2<14,\"_12_13\",IF(H2<17,\"_14_16\",\"_17\"))))&\"[Punkte]\"","v":"Shuttles_männlich_17[Punkte]"}]
[]
[null,"G_TBN TN BKÜ",{"$f":"IF(H2<13,\"beide\",F1)","v":"männlich"}]
[null,"AK",{"$f":"IF(OR(H2=9,H2=12),H2,IF(H2<12,\"10_11\",IF(H2<15,\"13_14\",IF(H2<17,\"15_16\",IF(H2<19,\"17_18\",19)))))","v":"17_18"}]
[]
[null,"TBN",{"$f":"\"TBN_\"&C59&\"_\"&C60","v":"TBN_männlich_17_18"}]
[null,null,{"$f":"C62&\"[Beschreibung]\"","v":"TBN_männlich_17_18[Beschreibung]"}]
[]
[null,"TN",{"$f":"\"TN_\"&C59&\"_\"&C60","v":"TN_männlich_17_18"}]
[null,null,{"$f":"C65&\"[Beschreibung]\"","v":"TN_männlich_17_18[Beschreibung]"}]
[]
[null,"TV",{"$f":"\"TV_\"&F1&\"_\"&C60","v":"TV_männlich_17_18"}]
[]
[null,"BKÜ",{"$f":"\"BKÜ\"&IF(H2=9,\"_9\",IF(H2<12,\"_10_11\",IF(H2<14,\"_12_13\",IF(H2<17,\"_14_16\",\"_17\"))))","v":"BKÜ_17"}]
[]
[null,"G_TV",{"$f":"IF(H2<17,\"beide\",F1)","v":"männlich"}]
[null,"TV",{"$f":"\"TV_\"&C72&\"_\"&C60","v":"TV_männlich_17_18"}]
[]
[null,{"$f":"SUM(H19,H9,H51)","v":120},"Vergleichspunktzahl aus Kraft, Beweglichkeit, Grundlagenausdauer, Bodenübung"]
[null,{"$f":"IF(B75>95,\"Ja\",\"Nein\")","v":"Ja"},"Vergleichspunktzahl erfüllt?"]
[null,{"$f":"IF(F1=\"Weiblich\",VLOOKUP(H2,Punktetabellen!$D$43:$F$49,3,1),VLOOKUP(H2,Punktetabellen!$D$43:$F$49,2,1))","v":186},"Mindest-Gesamtwert"]
[null,{"$f":"IF(H52>=B77,\"Ja\",\"Nein\")","v":"Ja"},"Gesamtwert erfüllt?"]
[null,{"$f":"IF(AND(B76=\"Ja\",B78=\"Ja\"),\"Ja\",\"Nein\")","v":"Ja"},"Alles erfüllt?"]

{"sheet":"BubnerJacob","index":38,"n_rows":79,"n_cols":8,"rows_kept":79,"cut":false,"hidden":false,"merged":[[11,0,11,4],[0,1,0,4],[1,1,1,5],[2,0,2,4],[3,0,3,4],[4,0,4,4],[5,0,5,4],[6,0,6,4],[7,0,7,4],[8,0,8,6],[9,0,9,4],[10,0,10,4],[23,0,23,1],[12,0,12,4],[13,0,13,4],[14,0,14,4],[15,0,15,4],[16,0,16,1],[17,0,17,4],[18,0,18,6],[19,0,19,2],[20,0,20,2],[21,0,21,1],[22,0,22,1],[41,0,41,3],[30,0,30,1],[31,0,31,1],[32,0,32,1],[33,0,33,1],[34,0,34,1],[35,0,35,1],[36,0,36,6],[37,0,37,3],[38,0,38,3],[39,0,39,3],[40,0,40,3],[48,0,48,3],[49,0,49,3],[50,0,50,6],[51,0,51,6],[42,0,42,3],[43,0,43,3],[44,0,44,3],[45,0,45,3],[46,0,46,3],[47,0,47,3]]}
["Name","Bubner, Jacob",null,null,null,"männlich","Jahrgang",2001]
["Verein","SC Cottbus",null,null,null,null,"AK",{"$f":"2020-H1","v":19}]
["Übung",null,null,null,null,"Wert","Berechnung","Punkte"]
["Fußdehnung",null,null,null,null,10,"Bild",{"$f":"F4","v":10}]
["Briefmarke mit Armrumpfwinkel",null,null,null,null,6,"Bild",{"$f":"F5","v":6}]
["Bückbeweglichkeit",null,null,null,null,15,"Tabelle",{"$f":"IF(F6=\"\",0,VLOOKUP(F6,Punktetabellen!A10:B15,2,1))","v":4}]
["Querspagat links",null,null,null,null,"<10 cm","Tabelle",{"$f":"IF(F7=\"\",0,VLOOKUP(F7,Punktetabellen!A3:B6,2,0))","v":2}]
["Querspagat rechts",null,null,null,null,"<5 cm","Tabelle",{"$f":"IF(F8=\"\",0,VLOOKUP(F8,Punktetabellen!A3:B6,2,0))","v":6}]
["Gesamtpunktzahl Beweglichkeit",null,null,null,null,null,null,{"$f":"SUM(H4:H8)","v":28}]
["Übung",null,null,null,null,"Wert","Berechnung","Punktzahl"]
["Klimmzug",null,null,null,null,15,"Tabelle",{"$f":"IF(F11=\"\",0,IF(H2<12,VLOOKUP(F11,Punktetabellen!D4:F14,3,1),VLOOKUP(F11,Punktetabellen!E4:F14,2,1)))","v":10}]
["Beinheben",null,null,null,null,10,"Tabelle",{"$f":"IF(H2=9,VLOOKUP(F12,Punktetabellen!D19:F29,3,1),VLOOKUP(F12,Punktetabellen!E19:F29,2,1))","v":6}]
["Flieger",null,null,null,null,99,"Tabelle",{"$f":"IF(H2=9,VLOOKUP(F13,Punktetabellen!H4:K9,4,1),IF(H2<12,VLOOKUP(F13,Punktetabellen!I4:K9,3,1),VLOOKUP(F13,Punktetabellen!J4:K9,2,1)))","v":4}]
["Rollenverbindung",null,null,null,null,29,"Tabelle",{"$f":"IF(H2=9,VLOOKUP(F14,Punktetabellen!H14:K24,4,1),IF(H2<12,VLOOKUP(F14,Punktetabellen!I14:K24,3,1),VLOOKUP(F14,Punktetabellen!J14:K24,2,1)))","v":10}]
["Prellsprünge",null,null,null,null,9,"Tabelle",{"$f":"IF(H2=9,VLOOKUP(F15,Punktetabellen!M4:Q14,5,1),IF(H2<12,VLOOKUP(F15,Punktetabellen!N4:Q14,4,1),IF(H2<14,VLOOKUP(F15,Punktetabellen!O4:Q14,3,1),VLOOKUP(F15,Punktetabellen!P4:Q14,2,1))))","v":9}]
["Handstandstehen",null,null,null,null,30,"Tabelle",{"$f":"IF(F16=\"\",0,IF(H2<10,VLOOKUP(F16,Punktetabellen!D34:F40,3,1),VLOOKUP(F16,Punktetabellen!E34:F40,2,1)))","v":10}]
["Schweizer, Wiener",null,{"$f":"IF(H2<12,\"\",IF(AND(H2>13,H2<17),\"Schweizer: \",\"Wiener: \"))","v":"Wiener: "},1,{"$f":"IF(H2<12,\"\",IF(AND(H2>13,H2<17),\"Wiener: \",\"Schweizer: \"))","v":"Schweizer: "},1,"Tabelle",{"$f":"IF(H2<12,VLOOKUP(F17,Punktetabellen!A20:B25,2,1),((MIN(5,1*D17)*2)+MIN(MAX(0,5-(1*D17)),(1*F17))))","v":3}]
["Bleep-Test",null,null,null,null,"L11 S12","Tabelle",{"$f":"IF(F18=\"\",0,VLOOKUP(F18,INDIRECT(C55),2,0))","v":7}]
["Gesamtpunktzahl Kraft/Kondition",null,null,null,null,null,null,{"$f":"SUM(H11:H18)","v":59}]
["Übung",null,null,"Max / Soll","Max. Abzug","Abzug / Ist","Berechnung","Punkte"]
["Standsprunghöhe",null,null,{"$f":"IF(F1=\"männlich\",VLOOKUP(H2,Standsprünge!A3:C15,3,0),VLOOKUP(H2,Standsprünge!A3:B15,2,0))","v":17.899999999999999},null,17.425000000000001,"(Ist - Soll) x 10",{"$f":"IF(F21=\"\",0,(F21-D21)*10)","v":-4.7499999999999787}]
[{"$f":"IF(H2>16,\"entfällt\",\"TBN\")","v":"entfällt"},null,null,{"$f":"IF(C22=\"\",\"\",VLOOKUP(C22,INDIRECT($C$62),2,0))","v":""},{"$f":"IF(C22=\"\",\"\",VLOOKUP(C22,INDIRECT($C$62),3,0))","v":""},null,{"$f":"IF(H2>16,\"entfällt\",\"Wert - Abzug\")","v":"entfällt"},{"$f":"IF(A22=\"entfällt\",0,IF(F22=\"\",0,D22-F22))","v":0}]
[{"$f":"IF(H2>16,\"entfällt\",\"TBN\")","v":"entfällt"},null,null,{"$f":"IF(C23=\"\",\"\",VLOOKUP(C23,INDIRECT($C$62),2,0))","v":""},{"$f":"IF(C23=\"\",\"\",VLOOKUP(C23,INDIRECT($C$62),3,0))","v":""},null,{"$f":"IF(H2>16,\"entfällt\",\"Wert - Abzug\")","v":"entfällt"},{"$f":"IF(A23=\"entfällt\",0,IF(F23=\"\",0,D23-F23))","v":0}]
[{"$f":"IF(H2>12,\"entfällt\",\"TBN\")","v":"entfällt"},null,null,{"$f":"IF(C24=\"\",\"\",VLOOKUP(C24,INDIRECT($C$62),2,0))","v":""},{"$f":"IF(C24=\"\",\"\",VLOOKUP(C24,INDIRECT($C$62),3,0))","v":""},null,{"$f":"IF(H2>16,\"entfällt\",\"Wert - Abzug\")","v":"entfällt"},0]
["TN",{"$f":"IF(C25=\"\",\"\",VLOOKUP(C25,INDIRECT($C$65),2,0))","v":"12001<"},"Triffis b",{"$f":"IF(C25=\"\",\"\",VLOOKUP(C25,INDIRECT($C$65),3,0))","v":20},{"$f":"IF(C25=\"\",\"\",VLOOKUP(C25,INDIRECT($C$65),4,0))","v":6},4,"Wert - Abzug",16]
["TN","12201°","1/1 ein Triffis c",19,6,6,"Wert - Abzug",13]
["TN","12101°","1/2 ein 1/2 aus Triffis c",18,6,6,"Wert - Abzug",12]
[{"$f":"IF(H2>12,\"TN\",\"entfällt\")","v":"TN"},"12101<","1/2 ein 1/2 aus Triffis b",21,6,6,{"$f":"IF(H2>12,\"Wert - Abzug\",\"entfällt\")","v":"Wert - Abzug"},15]
[{"$f":"IF(H2>16,\"TN\",\"entfällt\")","v":"TN"},"",null,"","",null,{"$f":"IF(H2>16,\"Wert - Abzug\",\"entfällt\")","v":"Wert - Abzug"},0]
[{"$f":"IF(H2>16,\"TN\",\"entfällt\")","v":"TN"},"",null,"","",null,{"$f":"IF(H2>16,\"Wert - Abzug\",\"entfällt\")","v":"Wert - Abzug"},{"$f":"IF(A30=\"entfällt\",0,IF(F30=\"\",0,D30-F30))","v":0}]
[{"$f":"IF($H$2>11,\"Verbindung Sprung 1\",\"entfällt\")","v":"Verbindung Sprung 1"},null,{"$f":"IF(A31<>\"entfällt\",VLOOKUP(1,INDIRECT($C$73),2,0),\"\")","v":"12001<"},{"$f":"IF(A31<>\"entfällt\",VLOOKUP(1,INDIRECT($C$73),3,0),\"\")","v":20},{"$f":"IF(A31<>\"entfällt\",VLOOKUP(1,INDIRECT($C$73),4,0),\"\")","v":3},3,{"$f":"IF(H2>12,\"Wert - Abzug\",\"entfällt\")","v":"Wert - Abzug"},{"$f":"IF(A31=\"entfällt\",0,IF(F31=\"\",0,D31-F31))","v":17}]
[{"$f":"IF($H$2>11,\"Verbindung Sprung 2\",\"entfällt\")","v":"Verbindung Sprung 2"},null,{"$f":"IF(A32<>\"entfällt\",VLOOKUP(2,INDIRECT($C$73),2,0),\"\")","v":"40<"},{"$f":"IF(A32<>\"entfällt\",VLOOKUP(2,INDIRECT($C$73),3,0),\"\")","v":6},{"$f":"IF(A32<>\"entfällt\",VLOOKUP(2,INDIRECT($C$73),4,0),\"\")","v":3},3,{"$f":"IF(H2>12,\"Wert - Abzug\",\"entfällt\")","v":"Wert - Abzug"},{"$f":"IF(A32=\"entfällt\",0,IF(F32=\"\",0,D32-F32))","v":3}]
[{"$f":"IF($H$2>11,\"Verbindung Sprung 3\",\"entfällt\")","v":"Verbindung Sprung 3"},null,{"$f":"IF(A33<>\"entfällt\",VLOOKUP(3,INDIRECT($C$73),2,0),\"\")","v":"12001°"},{"$f":"IF(A33<>\"entfällt\",VLOOKUP(3,INDIRECT($C$73),3,0),\"\")","v":17},{"$f":"IF(A33<>\"entfällt\",VLOOKUP(3,INDIRECT($C$73),4,0),\"\")","v":3},3,{"$f":"IF(H2>12,\"Wert - Abzug\",\"entfällt\")","v":"Wert - Abzug"},14]
[{"$f":"IF($H$2>11,\"Verbindung Sprung 4\",\"entfällt\")","v":"Verbindung Sprung 4"},null,{"$f":"IF(A34<>\"entfällt\",VLOOKUP(4,INDIRECT($C$73),2,0),\"\")","v":"40/"},{"$f":"IF(A34<>\"entfällt\",VLOOKUP(4,INDIRECT($C$73),3,0),\"\")","v":6},{"$f":"IF(A34<>\"entfällt\",VLOOKUP(4,INDIRECT($C$73),4,0),\"\")","v":3},3,{"$f":"IF(H2>12,\"Wert - Abzug\",\"entfällt\")","v":"Wert - Abzug"},3]
[{"$f":"IF($H$2>11,\"Verbindung Sprung 5\",\"entfällt\")","v":"Verbindung Sprung 5"},null,{"$f":"IF(A35<>\"entfällt\",VLOOKUP(5,INDIRECT($C$73),2,0),\"\")","v":"801<"},{"$f":"IF(A35<>\"entfällt\",VLOOKUP(5,INDIRECT($C$73),3,0),\"\")","v":13},{"$f":"IF(A35<>\"entfällt\",VLOOKUP(5,INDIRECT($C$73),4,0),\"\")","v":3},3,{"$f":"IF(H2>12,\"Wert - Abzug\",\"entfällt\")","v":"Wert - Abzug"},10]
[{"$f":"IF($H$2>11,\"Verbindung Sprung 6\",\"entfällt\")","v":"Verbindung Sprung 6"},null,{"$f":"IF(A36<>\"entfällt\",VLOOKUP(6,INDIRECT($C$73),2,0),\"\")","v":"822/"},{"$f":"IF(A36<>\"entfällt\",VLOOKUP(6,INDIRECT($C$73),3,0),\"\")","v":16},{"$f":"IF(A36<>\"entfällt\",VLOOKUP(6,INDIRECT($C$73),4,0),\"\")","v":3},null,{"$f":"IF(H2>12,\"Wert - Abzug\",\"entfällt\")","v":"Wert - Abzug"},{"$f":"IF(A36=\"entfällt\",0,IF(F36=\"\",0,D36-F36))","v":0}]
["Gesamtpunktzahl Trampolin",null,null,null,null,null,null,{"$f":"SUM(H21:H36)","v":98.250000000000028}]
["Element",null,null,null,"Wert","Abzug","Berechnung","Punkte"]
[{"$f":"VLOOKUP(1,INDIRECT($C$70),2,0)","v":"Salto vorwärts gehockt aus dem Stand"},null,null,null,{"$f":"VLOOKUP(1,INDIRECT($C$70),3,0)","v":5},0,"Wert - Abzug",{"$f":"IF(E39=\" \",\"\",IF(F39=\"\",0,E39-F39))","v":5}]
[{"$f":"VLOOKUP(2,INDIRECT($C$70),2,0)","v":"Vorspreizen, Bestellschritt, Strecksprung 3/2 Drehung"},null,null,null,{"$f":"VLOOKUP(2,INDIRECT($C$70),3,0)","v":3},1.5,"Wert - Abzug",{"$f":"IF(E40=\" \",\"\",IF(F40=\"\",0,E40-F40))","v":1.5}]
[{"$f":"VLOOKUP(3,INDIRECT($C$70),2,0)","v":"Rolle rückwärts durch Handstand mit 1/2 Drehung"},null,null,null,{"$f":"VLOOKUP(3,INDIRECT($C$70),3,0)","v":4},1,"Wert - Abzug",3]
[{"$f":"VLOOKUP(4,INDIRECT($C$70),2,0)","v":"--> Strecksprung --> Salto vorwärts gehockt"},null,null,null,{"$f":"VLOOKUP(4,INDIRECT($C$70),3,0)","v":4},0,"Wert - Abzug",4]
[{"$f":"VLOOKUP(5,INDIRECT($C$70),2,0)","v":"Wiener, 1/2 Drehung, absenken zum Stand"},null,null,null,{"$f":"VLOOKUP(5,INDIRECT($C$70),3,0)","v":4},2,"Wert - Abzug",2]
[{"$f":"VLOOKUP(6,INDIRECT($C$70),2,0)","v":"Handstand mit zwei Hüpfern, abrollen"},null,null,null,{"$f":"VLOOKUP(6,INDIRECT($C$70),3,0)","v":2},0,"Wert - Abzug",2]
[{"$f":"VLOOKUP(7,INDIRECT($C$70),2,0)","v":"--> aufstehen mit gestreckten Beinen"},null,null,null,{"$f":"VLOOKUP(7,INDIRECT($C$70),3,0)","v":3},0,"Wert - Abzug",3]
[{"$f":"VLOOKUP(8,INDIRECT($C$70),2,0)","v":"Salto rückwärts gebückt"},null,null,null,{"$f":"VLOOKUP(8,INDIRECT($C$70),3,0)","v":5},0,"Wert - Abzug",5]
[{"$f":"VLOOKUP(9,INDIRECT($C$70),2,0)","v":" "},null,null,null,{"$f":"VLOOKUP(9,INDIRECT($C$70),3,0)","v":" "},null,{"$f":"IF(H2>16,\"\",\"Wert - Abzug\")","v":""},""]
[{"$f":"VLOOKUP(10,INDIRECT($C$70),2,0)","v":" "},null,null,null,{"$f":"VLOOKUP(10,INDIRECT($C$70),3,0)","v":" "},null,{"$f":"IF(H2>16,\"\",\"Wert - Abzug\")","v":""},""]
[{"$f":"VLOOKUP(11,INDIRECT($C$70),2,0)","v":" "},null,null,null,{"$f":"VLOOKUP(11,INDIRECT($C$70),3,0)","v":" "},null,{"$f":"IF(H2>13,\"\",\"Wert - Abzug\")","v":""},""]
[{"$f":"VLOOKUP(12,INDIRECT($C$70),2,0)","v":" "},null,null,null,{"$f":"VLOOKUP(12,INDIRECT($C$70),3,0)","v":" "},null,{"$f":"IF(OR(H2=9,H2=12,H2=13),\"Wert - Abzug\",\"\")","v":""},""]
["Gesamtpunktzahl Bodenkomplexübung",null,null,null,null,null,null,{"$f":"SUM(H39:H50)","v":25.5}]
["Gesamtpunktzahl",null,null,null,null,null,null,{"$f":"SUM(H9,H19,H37,H51)","v":210.75000000000003}]
[]
[]
[null,"Shuttles",{"$f":"\"Shuttles_\"&F1&IF(H2=9,\"_9\",IF(H2<12,\"_10_11\",IF(H2<14,\"_12_13\",IF(H2<17,\"_14_16\",\"_17\"))))","v":"Shuttles_männlich_17"}]
[null,null,{"$f":"\"Shuttles_\"&F1&IF(H2=9,\"_9\",IF(H2<12,\"_10_11\",IF(H2<14,\"_12_13\",IF(H2<17,\"_14_16\",\"_17\"))))&\"[Shuttle]\"","v":"Shuttles_männlich_17[Shuttle]"}]
[null,null,{"$f":"\"Shuttles_\"&F1&IF(H2=9,\"_9\",IF(H2<12,\"_10_11\",IF(H2<14,\"_12_13\",IF(H2<17,\"_14_16\",\"_17\"))))&\"[Punkte]\"","v":"Shuttles_männlich_17[Punkte]"}]
[]
[null,"G_TBN TN BKÜ",{"$f":"IF(H2<13,\"beide\",F1)","v":"männlich"}]
[null,"AK",{"$f":"IF(OR(H2=9,H2=12),H2,IF(H2<12,\"10_11\",IF(H2<15,\"13_14\",IF(H2<17,\"15_16\",IF(H2<19,\"17_18\",19)))))","v":19}]
[]
[null,"TBN",{"$f":"\"TBN_\"&C59&\"_\"&C60","v":"TBN_männlich_19"}]
[null,null,{"$f":"C62&\"[Beschreibung]\"","v":"TBN_männlich_19[Beschreibung]"}]
[]
[null,"TN",{"$f":"\"TN_\"&C59&\"_\"&C60","v":"TN_männlich_19"}]
[null,null,{"$f":"C65&\"[Beschreibung]\"","v":"TN_männlich_19[Beschreibung]"}]
[]
[null,"TV",{"$f":"\"TV_\"&F1&\"_\"&C60","v":"TV_männlich_19"}]
[]
[null,"BKÜ",{"$f":"\"BKÜ\"&IF(H2=9,\"_9\",IF(H2<12,\"_10_11\",IF(H2<14,\"_12_13\",IF(H2<17,\"_14_16\",\"_17\"))))","v":"BKÜ_17"}]
[]
[null,"G_TV",{"$f":"IF(H2<17,\"beide\",F1)","v":"männlich"}]
[null,"TV",{"$f":"\"TV_\"&C72&\"_\"&C60","v":"TV_männlich_19"}]
[]
[null,{"$f":"SUM(H19,H9,H51)","v":112.5},"Vergleichspunktzahl aus Kraft, Beweglichkeit, Grundlagenausdauer, Bodenübung"]
[null,{"$f":"IF(B75>95,\"Ja\",\"Nein\")","v":"Ja"},"Vergleichspunktzahl erfüllt?"]
[null,{"$f":"IF(F1=\"Weiblich\",VLOOKUP(H2,Punktetabellen!$D$43:$F$49,3,1),VLOOKUP(H2,Punktetabellen!$D$43:$F$49,2,1))","v":198},"Mindest-Gesamtwert"]
[null,{"$f":"IF(H52>=B77,\"Ja\",\"Nein\")","v":"Ja"},"Gesamtwert erfüllt?"]
[null,{"$f":"IF(AND(B76=\"Ja\",B78=\"Ja\"),\"Ja\",\"Nein\")","v":"Ja"},"Alles erfüllt?"]

{"sheet":"BrandtDominic","index":39,"n_rows":79,"n_cols":8,"rows_kept":79,"cut":false,"hidden":false,"merged":[[11,0,11,4],[0,1,0,4],[1,1,1,5],[2,0,2,4],[3,0,3,4],[4,0,4,4],[5,0,5,4],[6,0,6,4],[7,0,7,4],[8,0,8,6],[9,0,9,4],[10,0,10,4],[23,0,23,1],[12,0,12,4],[13,0,13,4],[14,0,14,4],[15,0,15,4],[16,0,16,1],[17,0,17,4],[18,0,18,6],[19,0,19,2],[20,0,20,2],[21,0,21,1],[22,0,22,1],[41,0,41,3],[30,0,30,1],[31,0,31,1],[32,0,32,1],[33,0,33,1],[34,0,34,1],[35,0,35,1],[36,0,36,6],[37,0,37,3],[38,0,38,3],[39,0,39,3],[40,0,40,3],[48,0,48,3],[49,0,49,3],[50,0,50,6],[51,0,51,6],[42,0,42,3],[43,0,43,3],[44,0,44,3],[45,0,45,3],[46,0,46,3],[47,0,47,3]]}
["Name","Brandt, Dominic",null,null,null,"männlich","Jahrgang",2001]
["Verein","SC Cottbus",null,null,null,null,"AK",{"$f":"2020-H1","v":19}]
["Übung",null,null,null,null,"Wert","Berechnung","Punkte"]
["Fußdehnung",null,null,null,null,null,"Bild",{"$f":"F4","v":0}]
["Briefmarke mit Armrumpfwinkel",null,null,null,null,6,"Bild",{"$f":"F5","v":6}]
["Bückbeweglichkeit",null,null,null,null,21,"Tabelle",{"$f":"IF(F6=\"\",0,VLOOKUP(F6,Punktetabellen!A10:B15,2,1))","v":10}]
["Querspagat links",null,null,null,null,"<5 cm","Tabelle",{"$f":"IF(F7=\"\",0,VLOOKUP(F7,Punktetabellen!A3:B6,2,0))","v":6}]
["Querspagat rechts",null,null,null,null,"<5 cm","Tabelle",{"$f":"IF(F8=\"\",0,VLOOKUP(F8,Punktetabellen!A3:B6,2,0))","v":6}]
["Gesamtpunktzahl Beweglichkeit",null,null,null,null,null,null,{"$f":"SUM(H4:H8)","v":28}]
["Übung",null,null,null,null,"Wert","Berechnung","Punktzahl"]
["Klimmzug",null,null,null,null,15,"Tabelle",{"$f":"IF(F11=\"\",0,IF(H2<12,VLOOKUP(F11,Punktetabellen!D4:F14,3,1),VLOOKUP(F11,Punktetabellen!E4:F14,2,1)))","v":10}]
["Beinheben",null,null,null,null,6,"Tabelle",{"$f":"IF(H2=9,VLOOKUP(F12,Punktetabellen!D19:F29,3,1),VLOOKUP(F12,Punktetabellen!E19:F29,2,1))","v":2}]
["Flieger",null,null,null,null,68,"Tabelle",{"$f":"IF(H2=9,VLOOKUP(F13,Punktetabellen!H4:K9,4,1),IF(H2<12,VLOOKUP(F13,Punktetabellen!I4:K9,3,1),VLOOKUP(F13,Punktetabellen!J4:K9,2,1)))","v":0}]
["Rollenverbindung",null,null,null,null,29,"Tabelle",{"$f":"IF(H2=9,VLOOKUP(F14,Punktetabellen!H14:K24,4,1),IF(H2<12,VLOOKUP(F14,Punktetabellen!I14:K24,3,1),VLOOKUP(F14,Punktetabellen!J14:K24,2,1)))","v":10}]
["Prellsprünge",null,null,null,null,null,"Tabelle",{"$f":"IF(H2=9,VLOOKUP(F15,Punktetabellen!M4:Q14,5,1),IF(H2<12,VLOOKUP(F15,Punktetabellen!N4:Q14,4,1),IF(H2<14,VLOOKUP(F15,Punktetabellen!O4:Q14,3,1),VLOOKUP(F15,Punktetabellen!P4:Q14,2,1))))","v":0}]
["Handstandstehen",null,null,null,null,30,"Tabelle",{"$f":"IF(F16=\"\",0,IF(H2<10,VLOOKUP(F16,Punktetabellen!D34:F40,3,1),VLOOKUP(F16,Punktetabellen!E34:F40,2,1)))","v":10}]
["Schweizer, Wiener",null,{"$f":"IF(H2<12,\"\",IF(AND(H2>13,H2<17),\"Schweizer: \",\"Wiener: \"))","v":"Wiener: "},3,{"$f":"IF(H2<12,\"\",IF(AND(H2>13,H2<17),\"Wiener: \",\"Schweizer: \"))","v":"Schweizer: "},1,"Tabelle",{"$f":"IF(H2<12,VLOOKUP(F17,Punktetabellen!A20:B25,2,1),((MIN(5,1*D17)*2)+MIN(MAX(0,5-(1*D17)),(1*F17))))","v":7}]
["Bleep-Test",null,null,null,null,null,"Tabelle",{"$f":"IF(F18=\"\",0,VLOOKUP(F18,INDIRECT(C55),2,0))","v":0}]
["Gesamtpunktzahl Kraft/Kondition",null,null,null,null,null,null,{"$f":"SUM(H11:H18)","v":39}]
["Übung",null,null,"Max / Soll","Max. Abzug","Abzug / Ist","Berechnung","Punkte"]
["Standsprunghöhe",null,null,{"$f":"IF(F1=\"männlich\",VLOOKUP(H2,Standsprünge!A3:C15,3,0),VLOOKUP(H2,Standsprünge!A3:B15,2,0))","v":17.899999999999999},null,17.239999999999998,"(Ist - Soll) x 10",{"$f":"IF(F21=\"\",0,(F21-D21)*10)","v":-6.6000000000000014}]
[{"$f":"IF(H2>16,\"entfällt\",\"TBN\")","v":"entfällt"},null,null,{"$f":"IF(C22=\"\",\"\",VLOOKUP(C22,INDIRECT($C$62),2,0))","v":""},{"$f":"IF(C22=\"\",\"\",VLOOKUP(C22,INDIRECT($C$62),3,0))","v":""},null,{"$f":"IF(H2>16,\"entfällt\",\"Wert - Abzug\")","v":"entfällt"},{"$f":"IF(A22=\"entfällt\",0,IF(F22=\"\",0,D22-F22))","v":0}]
[{"$f":"IF(H2>16,\"entfällt\",\"TBN\")","v":"entfällt"},null,null,{"$f":"IF(C23=\"\",\"\",VLOOKUP(C23,INDIRECT($C$62),2,0))","v":""},{"$f":"IF(C23=\"\",\"\",VLOOKUP(C23,INDIRECT($C$62),3,0))","v":""},null,{"$f":"IF(H2>16,\"entfällt\",\"Wert - Abzug\")","v":"entfällt"},{"$f":"IF(A23=\"entfällt\",0,IF(F23=\"\",0,D23-F23))","v":0}]
[{"$f":"IF(H2>12,\"entfällt\",\"TBN\")","v":"entfällt"},null,null,{"$f":"IF(C24=\"\",\"\",VLOOKUP(C24,INDIRECT($C$62),2,0))","v":""},{"$f":"IF(C24=\"\",\"\",VLOOKUP(C24,INDIRECT($C$62),3,0))","v":""},null,{"$f":"IF(H2>16,\"entfällt\",\"Wert - Abzug\")","v":"entfällt"},0]
["TN",{"$f":"IF(C25=\"\",\"\",VLOOKUP(C25,INDIRECT($C$65),2,0))","v":"12001<"},"Triffis b",{"$f":"IF(C25=\"\",\"\",VLOOKUP(C25,INDIRECT($C$65),3,0))","v":20},{"$f":"IF(C25=\"\",\"\",VLOOKUP(C25,INDIRECT($C$65),4,0))","v":6},6,"Wert - Abzug",14]
["TN","",null,"","",null,"Wert - Abzug",0]
["TN","",null,"","",null,"Wert - Abzug",0]
[{"$f":"IF(H2>12,\"TN\",\"entfällt\")","v":"TN"},"",null,"","",null,{"$f":"IF(H2>12,\"Wert - Abzug\",\"entfällt\")","v":"Wert - Abzug"},0]
[{"$f":"IF(H2>16,\"TN\",\"entfällt\")","v":"TN"},"",null,"","",null,{"$f":"IF(H2>16,\"Wert - Abzug\",\"entfällt\")","v":"Wert - Abzug"},0]
[{"$f":"IF(H2>16,\"TN\",\"entfällt\")","v":"TN"},"",null,"","",null,{"$f":"IF(H2>16,\"Wert - Abzug\",\"entfällt\")","v":"Wert - Abzug"},{"$f":"IF(A30=\"entfällt\",0,IF(F30=\"\",0,D30-F30))","v":0}]
[{"$f":"IF($H$2>11,\"Verbindung Sprung 1\",\"entfällt\")","v":"Verbindung Sprung 1"},null,{"$f":"IF(A31<>\"entfällt\",VLOOKUP(1,INDIRECT($C$73),2,0),\"\")","v":"12001<"},{"$f":"IF(A31<>\"entfällt\",VLOOKUP(1,INDIRECT($C$73),3,0),\"\")","v":20},{"$f":"IF(A31<>\"entfällt\",VLOOKUP(1,INDIRECT($C$73),4,0),\"\")","v":3},3,{"$f":"IF(H2>12,\"Wert - Abzug\",\"entfällt\")","v":"Wert - Abzug"},{"$f":"IF(A31=\"entfällt\",0,IF(F31=\"\",0,D31-F31))","v":17}]
[{"$f":"IF($H$2>11,\"Verbindung Sprung 2\",\"entfällt\")","v":"Verbindung Sprung 2"},null,{"$f":"IF(A32<>\"entfällt\",VLOOKUP(2,INDIRECT($C$73),2,0),\"\")","v":"40<"},{"$f":"IF(A32<>\"entfällt\",VLOOKUP(2,INDIRECT($C$73),3,0),\"\")","v":6},{"$f":"IF(A32<>\"entfällt\",VLOOKUP(2,INDIRECT($C$73),4,0),\"\")","v":3},3,{"$f":"IF(H2>12,\"Wert - Abzug\",\"entfällt\")","v":"Wert - Abzug"},{"$f":"IF(A32=\"entfällt\",0,IF(F32=\"\",0,D32-F32))","v":3}]
[{"$f":"IF($H$2>11,\"Verbindung Sprung 3\",\"entfällt\")","v":"Verbindung Sprung 3"},null,{"$f":"IF(A33<>\"entfällt\",VLOOKUP(3,INDIRECT($C$73),2,0),\"\")","v":"12001°"},{"$f":"IF(A33<>\"entfällt\",VLOOKUP(3,INDIRECT($C$73),3,0),\"\")","v":17},{"$f":"IF(A33<>\"entfällt\",VLOOKUP(3,INDIRECT($C$73),4,0),\"\")","v":3},3,{"$f":"IF(H2>12,\"Wert - Abzug\",\"entfällt\")","v":"Wert - Abzug"},14]
[{"$f":"IF($H$2>11,\"Verbindung Sprung 4\",\"entfällt\")","v":"Verbindung Sprung 4"},null,{"$f":"IF(A34<>\"entfällt\",VLOOKUP(4,INDIRECT($C$73),2,0),\"\")","v":"40/"},{"$f":"IF(A34<>\"entfällt\",VLOOKUP(4,INDIRECT($C$73),3,0),\"\")","v":6},{"$f":"IF(A34<>\"entfällt\",VLOOKUP(4,INDIRECT($C$73),4,0),\"\")","v":3},null,{"$f":"IF(H2>12,\"Wert - Abzug\",\"entfällt\")","v":"Wert - Abzug"},0]
[{"$f":"IF($H$2>11,\"Verbindung Sprung 5\",\"entfällt\")","v":"Verbindung Sprung 5"},null,{"$f":"IF(A35<>\"entfällt\",VLOOKUP(5,INDIRECT($C$73),2,0),\"\")","v":"801<"},{"$f":"IF(A35<>\"entfällt\",VLOOKUP(5,INDIRECT($C$73),3,0),\"\")","v":13},{"$f":"IF(A35<>\"entfällt\",VLOOKUP(5,INDIRECT($C$73),4,0),\"\")","v":3},null,{"$f":"IF(H2>12,\"Wert - Abzug\",\"entfällt\")","v":"Wert - Abzug"},0]
[{"$f":"IF($H$2>11,\"Verbindung Sprung 6\",\"entfällt\")","v":"Verbindung Sprung 6"},null,{"$f":"IF(A36<>\"entfällt\",VLOOKUP(6,INDIRECT($C$73),2,0),\"\")","v":"822/"},{"$f":"IF(A36<>\"entfällt\",VLOOKUP(6,INDIRECT($C$73),3,0),\"\")","v":16},{"$f":"IF(A36<>\"entfällt\",VLOOKUP(6,INDIRECT($C$73),4,0),\"\")","v":3},null,{"$f":"IF(H2>12,\"Wert - Abzug\",\"entfällt\")","v":"Wert - Abzug"},{"$f":"IF(A36=\"entfällt\",0,IF(F36=\"\",0,D36-F36))","v":0}]
["Gesamtpunktzahl Trampolin",null,null,null,null,null,null,{"$f":"SUM(H21:H36)","v":41.4}]
["Element",null,null,null,"Wert","Abzug","Berechnung","Punkte"]
[{"$f":"VLOOKUP(1,INDIRECT($C$70),2,0)","v":"Salto vorwärts gehockt aus dem Stand"},null,null,null,{"$f":"VLOOKUP(1,INDIRECT($C$70),3,0)","v":5},null,"Wert - Abzug",{"$f":"IF(E39=\" \",\"\",IF(F39=\"\",0,E39-F39))","v":0}]
[{"$f":"VLOOKUP(2,INDIRECT($C$70),2,0)","v":"Vorspreizen, Bestellschritt, Strecksprung 3/2 Drehung"},null,null,null,{"$f":"VLOOKUP(2,INDIRECT($C$70),3,0)","v":3},null,"Wert - Abzug",{"$f":"IF(E40=\" \",\"\",IF(F40=\"\",0,E40-F40))","v":0}]
[{"$f":"VLOOKUP(3,INDIRECT($C$70),2,0)","v":"Rolle rückwärts durch Handstand mit 1/2 Drehung"},null,null,null,{"$f":"VLOOKUP(3,INDIRECT($C$70),3,0)","v":4},null,"Wert - Abzug",0]
[{"$f":"VLOOKUP(4,INDIRECT($C$70),2,0)","v":"--> Strecksprung --> Salto vorwärts gehockt"},null,null,null,{"$f":"VLOOKUP(4,INDIRECT($C$70),3,0)","v":4},null,"Wert - Abzug",0]
[{"$f":"VLOOKUP(5,INDIRECT($C$70),2,0)","v":"Wiener, 1/2 Drehung, absenken zum Stand"},null,null,null,{"$f":"VLOOKUP(5,INDIRECT($C$70),3,0)","v":4},null,"Wert - Abzug",0]
[{"$f":"VLOOKUP(6,INDIRECT($C$70),2,0)","v":"Handstand mit zwei Hüpfern, abrollen"},null,null,null,{"$f":"VLOOKUP(6,INDIRECT($C$70),3,0)","v":2},null,"Wert - Abzug",0]
[{"$f":"VLOOKUP(7,INDIRECT($C$70),2,0)","v":"--> aufstehen mit gestreckten Beinen"},null,null,null,{"$f":"VLOOKUP(7,INDIRECT($C$70),3,0)","v":3},null,"Wert - Abzug",0]
[{"$f":"VLOOKUP(8,INDIRECT($C$70),2,0)","v":"Salto rückwärts gebückt"},null,null,null,{"$f":"VLOOKUP(8,INDIRECT($C$70),3,0)","v":5},null,"Wert - Abzug",0]
[{"$f":"VLOOKUP(9,INDIRECT($C$70),2,0)","v":" "},null,null,null,{"$f":"VLOOKUP(9,INDIRECT($C$70),3,0)","v":" "},null,{"$f":"IF(H2>16,\"\",\"Wert - Abzug\")","v":""},""]
[{"$f":"VLOOKUP(10,INDIRECT($C$70),2,0)","v":" "},null,null,null,{"$f":"VLOOKUP(10,INDIRECT($C$70),3,0)","v":" "},null,{"$f":"IF(H2>16,\"\",\"Wert - Abzug\")","v":""},""]
[{"$f":"VLOOKUP(11,INDIRECT($C$70),2,0)","v":" "},null,null,null,{"$f":"VLOOKUP(11,INDIRECT($C$70),3,0)","v":" "},null,{"$f":"IF(H2>13,\"\",\"Wert - Abzug\")","v":""},""]
[{"$f":"VLOOKUP(12,INDIRECT($C$70),2,0)","v":" "},null,null,null,{"$f":"VLOOKUP(12,INDIRECT($C$70),3,0)","v":" "},null,{"$f":"IF(OR(H2=9,H2=12,H2=13),\"Wert - Abzug\",\"\")","v":""},""]
["Gesamtpunktzahl Bodenkomplexübung",null,null,null,null,null,null,{"$f":"SUM(H39:H50)","v":0}]
["Gesamtpunktzahl",null,null,null,null,null,null,{"$f":"SUM(H9,H19,H37,H51)","v":108.4}]
[]
[]
[null,"Shuttles",{"$f":"\"Shuttles_\"&F1&IF(H2=9,\"_9\",IF(H2<12,\"_10_11\",IF(H2<14,\"_12_13\",IF(H2<17,\"_14_16\",\"_17\"))))","v":"Shuttles_männlich_17"}]
[null,null,{"$f":"\"Shuttles_\"&F1&IF(H2=9,\"_9\",IF(H2<12,\"_10_11\",IF(H2<14,\"_12_13\",IF(H2<17,\"_14_16\",\"_17\"))))&\"[Shuttle]\"","v":"Shuttles_männlich_17[Shuttle]"}]
[null,null,{"$f":"\"Shuttles_\"&F1&IF(H2=9,\"_9\",IF(H2<12,\"_10_11\",IF(H2<14,\"_12_13\",IF(H2<17,\"_14_16\",\"_17\"))))&\"[Punkte]\"","v":"Shuttles_männlich_17[Punkte]"}]
[]
[null,"G_TBN TN BKÜ",{"$f":"IF(H2<13,\"beide\",F1)","v":"männlich"}]
[null,"AK",{"$f":"IF(OR(H2=9,H2=12),H2,IF(H2<12,\"10_11\",IF(H2<15,\"13_14\",IF(H2<17,\"15_16\",IF(H2<19,\"17_18\",19)))))","v":19}]
[]
[null,"TBN",{"$f":"\"TBN_\"&C59&\"_\"&C60","v":"TBN_männlich_19"}]
[null,null,{"$f":"C62&\"[Beschreibung]\"","v":"TBN_männlich_19[Beschreibung]"}]
[]
[null,"TN",{"$f":"\"TN_\"&C59&\"_\"&C60","v":"TN_männlich_19"}]
[null,null,{"$f":"C65&\"[Beschreibung]\"","v":"TN_männlich_19[Beschreibung]"}]
[]
[null,"TV",{"$f":"\"TV_\"&F1&\"_\"&C60","v":"TV_männlich_19"}]
[]
[null,"BKÜ",{"$f":"\"BKÜ\"&IF(H2=9,\"_9\",IF(H2<12,\"_10_11\",IF(H2<14,\"_12_13\",IF(H2<17,\"_14_16\",\"_17\"))))","v":"BKÜ_17"}]
[]
[null,"G_TV",{"$f":"IF(H2<17,\"beide\",F1)","v":"männlich"}]
[null,"TV",{"$f":"\"TV_\"&C72&\"_\"&C60","v":"TV_männlich_19"}]
[]
[null,{"$f":"SUM(H19,H9,H51)","v":67},"Vergleichspunktzahl aus Kraft, Beweglichkeit, Grundlagenausdauer, Bodenübung"]
[null,{"$f":"IF(B75>95,\"Ja\",\"Nein\")","v":"Nein"},"Vergleichspunktzahl erfüllt?"]
[null,{"$f":"IF(F1=\"Weiblich\",VLOOKUP(H2,Punktetabellen!$D$43:$F$49,3,1),VLOOKUP(H2,Punktetabellen!$D$43:$F$49,2,1))","v":198},"Mindest-Gesamtwert"]
[null,{"$f":"IF(H52>=B77,\"Ja\",\"Nein\")","v":"Nein"},"Gesamtwert erfüllt?"]
[null,{"$f":"IF(AND(B76=\"Ja\",B78=\"Ja\"),\"Ja\",\"Nein\")","v":"Nein"},"Alles erfüllt?"]

{"sheet":"BestMoritz","index":40,"n_rows":79,"n_cols":8,"rows_kept":79,"cut":false,"hidden":false,"merged":[[11,0,11,4],[0,1,0,4],[1,1,1,5],[2,0,2,4],[3,0,3,4],[4,0,4,4],[5,0,5,4],[6,0,6,4],[7,0,7,4],[8,0,8,6],[9,0,9,4],[10,0,10,4],[23,0,23,1],[12,0,12,4],[13,0,13,4],[14,0,14,4],[15,0,15,4],[16,0,16,1],[17,0,17,4],[18,0,18,6],[19,0,19,2],[20,0,20,2],[21,0,21,1],[22,0,22,1],[41,0,41,3],[30,0,30,1],[31,0,31,1],[32,0,32,1],[33,0,33,1],[34,0,34,1],[35,0,35,1],[36,0,36,6],[37,0,37,3],[38,0,38,3],[39,0,39,3],[40,0,40,3],[48,0,48,3],[49,0,49,3],[50,0,50,6],[51,0,51,6],[42,0,42,3],[43,0,43,3],[44,0,44,3],[45,0,45,3],[46,0,46,3],[47,0,47,3]]}
["Name","Best, Moritz",null,null,null,"männlich","Jahrgang",2000]
["Verein","MTV Bad Kreuznach",null,null,null,null,"AK",{"$f":"2020-H1","v":20}]
["Übung",null,null,null,null,"Wert","Berechnung","Punkte"]
["Fußdehnung",null,null,null,null,6,"Bild",{"$f":"F4","v":6}]
["Briefmarke mit Armrumpfwinkel",null,null,null,null,6,"Bild",{"$f":"F5","v":6}]
["Bückbeweglichkeit",null,null,null,null,21,"Tabelle",{"$f":"IF(F6=\"\",0,VLOOKUP(F6,Punktetabellen!A10:B15,2,1))","v":10}]
["Querspagat links",null,null,null,null,"<5 cm","Tabelle",{"$f":"IF(F7=\"\",0,VLOOKUP(F7,Punktetabellen!A3:B6,2,0))","v":6}]
["Querspagat rechts",null,null,null,null,"<10 cm","Tabelle",{"$f":"IF(F8=\"\",0,VLOOKUP(F8,Punktetabellen!A3:B6,2,0))","v":2}]
["Gesamtpunktzahl Beweglichkeit",null,null,null,null,null,null,{"$f":"SUM(H4:H8)","v":30}]
["Übung",null,null,null,null,"Wert","Berechnung","Punktzahl"]
["Klimmzug",null,null,null,null,12,"Tabelle",{"$f":"IF(F11=\"\",0,IF(H2<12,VLOOKUP(F11,Punktetabellen!D4:F14,3,1),VLOOKUP(F11,Punktetabellen!E4:F14,2,1)))","v":7}]
["Beinheben",null,null,null,null,6,"Tabelle",{"$f":"IF(H2=9,VLOOKUP(F12,Punktetabellen!D19:F29,3,1),VLOOKUP(F12,Punktetabellen!E19:F29,2,1))","v":2}]
["Flieger",null,null,null,null,85,"Tabelle",{"$f":"IF(H2=9,VLOOKUP(F13,Punktetabellen!H4:K9,4,1),IF(H2<12,VLOOKUP(F13,Punktetabellen!I4:K9,3,1),VLOOKUP(F13,Punktetabellen!J4:K9,2,1)))","v":2}]
["Rollenverbindung",null,null,null,null,29,"Tabelle",{"$f":"IF(H2=9,VLOOKUP(F14,Punktetabellen!H14:K24,4,1),IF(H2<12,VLOOKUP(F14,Punktetabellen!I14:K24,3,1),VLOOKUP(F14,Punktetabellen!J14:K24,2,1)))","v":10}]
["Prellsprünge",null,null,null,null,8,"Tabelle",{"$f":"IF(H2=9,VLOOKUP(F15,Punktetabellen!M4:Q14,5,1),IF(H2<12,VLOOKUP(F15,Punktetabellen!N4:Q14,4,1),IF(H2<14,VLOOKUP(F15,Punktetabellen!O4:Q14,3,1),VLOOKUP(F15,Punktetabellen!P4:Q14,2,1))))","v":8}]
["Handstandstehen",null,null,null,null,30,"Tabelle",{"$f":"IF(F16=\"\",0,IF(H2<10,VLOOKUP(F16,Punktetabellen!D34:F40,3,1),VLOOKUP(F16,Punktetabellen!E34:F40,2,1)))","v":10}]
["Schweizer, Wiener",null,{"$f":"IF(H2<12,\"\",IF(AND(H2>13,H2<17),\"Schweizer: \",\"Wiener: \"))","v":"Wiener: "},0,{"$f":"IF(H2<12,\"\",IF(AND(H2>13,H2<17),\"Wiener: \",\"Schweizer: \"))","v":"Schweizer: "},0,"Tabelle",{"$f":"IF(H2<12,VLOOKUP(F17,Punktetabellen!A20:B25,2,1),((MIN(5,1*D17)*2)+MIN(MAX(0,5-(1*D17)),(1*F17))))","v":0}]
["Bleep-Test",null,null,null,null,"L12 S6","Tabelle",{"$f":"IF(F18=\"\",0,VLOOKUP(F18,INDIRECT(C55),2,0))","v":8}]
["Gesamtpunktzahl Kraft/Kondition",null,null,null,null,null,null,{"$f":"SUM(H11:H18)","v":47}]
["Übung",null,null,"Max / Soll","Max. Abzug","Abzug / Ist","Berechnung","Punkte"]
["Standsprunghöhe",null,null,{"$f":"IF(F1=\"männlich\",VLOOKUP(H2,Standsprünge!A3:C15,3,0),VLOOKUP(H2,Standsprünge!A3:B15,2,0))","v":18.2},null,17.875,"(Ist - Soll) x 10",{"$f":"IF(F21=\"\",0,(F21-D21)*10)","v":-3.2499999999999929}]
[{"$f":"IF(H2>16,\"entfällt\",\"TBN\")","v":"entfällt"},null,null,{"$f":"IF(C22=\"\",\"\",VLOOKUP(C22,INDIRECT($C$62),2,0))","v":""},{"$f":"IF(C22=\"\",\"\",VLOOKUP(C22,INDIRECT($C$62),3,0))","v":""},null,{"$f":"IF(H2>16,\"entfällt\",\"Wert - Abzug\")","v":"entfällt"},{"$f":"IF(A22=\"entfällt\",0,IF(F22=\"\",0,D22-F22))","v":0}]
[{"$f":"IF(H2>16,\"entfällt\",\"TBN\")","v":"entfällt"},null,null,{"$f":"IF(C23=\"\",\"\",VLOOKUP(C23,INDIRECT($C$62),2,0))","v":""},{"$f":"IF(C23=\"\",\"\",VLOOKUP(C23,INDIRECT($C$62),3,0))","v":""},null,{"$f":"IF(H2>16,\"entfällt\",\"Wert - Abzug\")","v":"entfällt"},{"$f":"IF(A23=\"entfällt\",0,IF(F23=\"\",0,D23-F23))","v":0}]
[{"$f":"IF(H2>12,\"entfällt\",\"TBN\")","v":"entfällt"},null,null,{"$f":"IF(C24=\"\",\"\",VLOOKUP(C24,INDIRECT($C$62),2,0))","v":""},{"$f":"IF(C24=\"\",\"\",VLOOKUP(C24,INDIRECT($C$62),3,0))","v":""},null,{"$f":"IF(H2>16,\"entfällt\",\"Wert - Abzug\")","v":"entfällt"},0]
["TN",{"$f":"IF(C25=\"\",\"\",VLOOKUP(C25,INDIRECT($C$65),2,0))","v":"12001<"},"Triffis b",{"$f":"IF(C25=\"\",\"\",VLOOKUP(C25,INDIRECT($C$65),3,0))","v":20},{"$f":"IF(C25=\"\",\"\",VLOOKUP(C25,INDIRECT($C$65),4,0))","v":6},4,"Wert - Abzug",16]
["TN","12101°","1/2 ein 1/2 aus Triffis c",18,6,4,"Wert - Abzug",14]
["TN","823<","1/1 ein 3/2 aus b",17,6,2,"Wert - Abzug",15]
[{"$f":"IF(H2>12,\"TN\",\"entfällt\")","v":"TN"},"824/","1/1 ein 2/1 aus a",18,6,4,{"$f":"IF(H2>12,\"Wert - Abzug\",\"entfällt\")","v":"Wert - Abzug"},14]
[{"$f":"IF(H2>16,\"TN\",\"entfällt\")","v":"TN"},"",null,"","",null,{"$f":"IF(H2>16,\"Wert - Abzug\",\"entfällt\")","v":"Wert - Abzug"},0]
[{"$f":"IF(H2>16,\"TN\",\"entfällt\")","v":"TN"},"",null,"","",null,{"$f":"IF(H2>16,\"Wert - Abzug\",\"entfällt\")","v":"Wert - Abzug"},{"$f":"IF(A30=\"entfällt\",0,IF(F30=\"\",0,D30-F30))","v":0}]
[{"$f":"IF($H$2>11,\"Verbindung Sprung 1\",\"entfällt\")","v":"Verbindung Sprung 1"},null,{"$f":"IF(A31<>\"entfällt\",VLOOKUP(1,INDIRECT($C$73),2,0),\"\")","v":"12001<"},{"$f":"IF(A31<>\"entfällt\",VLOOKUP(1,INDIRECT($C$73),3,0),\"\")","v":20},{"$f":"IF(A31<>\"entfällt\",VLOOKUP(1,INDIRECT($C$73),4,0),\"\")","v":3},2,{"$f":"IF(H2>12,\"Wert - Abzug\",\"entfällt\")","v":"Wert - Abzug"},{"$f":"IF(A31=\"entfällt\",0,IF(F31=\"\",0,D31-F31))","v":18}]
[{"$f":"IF($H$2>11,\"Verbindung Sprung 2\",\"entfällt\")","v":"Verbindung Sprung 2"},null,{"$f":"IF(A32<>\"entfällt\",VLOOKUP(2,INDIRECT($C$73),2,0),\"\")","v":"40<"},{"$f":"IF(A32<>\"entfällt\",VLOOKUP(2,INDIRECT($C$73),3,0),\"\")","v":6},{"$f":"IF(A32<>\"entfällt\",VLOOKUP(2,INDIRECT($C$73),4,0),\"\")","v":3},1,{"$f":"IF(H2>12,\"Wert - Abzug\",\"entfällt\")","v":"Wert - Abzug"},{"$f":"IF(A32=\"entfällt\",0,IF(F32=\"\",0,D32-F32))","v":5}]
[{"$f":"IF($H$2>11,\"Verbindung Sprung 3\",\"entfällt\")","v":"Verbindung Sprung 3"},null,{"$f":"IF(A33<>\"entfällt\",VLOOKUP(3,INDIRECT($C$73),2,0),\"\")","v":"12001°"},{"$f":"IF(A33<>\"entfällt\",VLOOKUP(3,INDIRECT($C$73),3,0),\"\")","v":17},{"$f":"IF(A33<>\"entfällt\",VLOOKUP(3,INDIRECT($C$73),4,0),\"\")","v":3},3,{"$f":"IF(H2>12,\"Wert - Abzug\",\"entfällt\")","v":"Wert - Abzug"},14]
[{"$f":"IF($H$2>11,\"Verbindung Sprung 4\",\"entfällt\")","v":"Verbindung Sprung 4"},null,{"$f":"IF(A34<>\"entfällt\",VLOOKUP(4,INDIRECT($C$73),2,0),\"\")","v":"40/"},{"$f":"IF(A34<>\"entfällt\",VLOOKUP(4,INDIRECT($C$73),3,0),\"\")","v":6},{"$f":"IF(A34<>\"entfällt\",VLOOKUP(4,INDIRECT($C$73),4,0),\"\")","v":3},2,{"$f":"IF(H2>12,\"Wert - Abzug\",\"entfällt\")","v":"Wert - Abzug"},4]
[{"$f":"IF($H$2>11,\"Verbindung Sprung 5\",\"entfällt\")","v":"Verbindung Sprung 5"},null,{"$f":"IF(A35<>\"entfällt\",VLOOKUP(5,INDIRECT($C$73),2,0),\"\")","v":"801<"},{"$f":"IF(A35<>\"entfällt\",VLOOKUP(5,INDIRECT($C$73),3,0),\"\")","v":13},{"$f":"IF(A35<>\"entfällt\",VLOOKUP(5,INDIRECT($C$73),4,0),\"\")","v":3},2,{"$f":"IF(H2>12,\"Wert - Abzug\",\"entfällt\")","v":"Wert - Abzug"},11]
[{"$f":"IF($H$2>11,\"Verbindung Sprung 6\",\"entfällt\")","v":"Verbindung Sprung 6"},null,{"$f":"IF(A36<>\"entfällt\",VLOOKUP(6,INDIRECT($C$73),2,0),\"\")","v":"822/"},{"$f":"IF(A36<>\"entfällt\",VLOOKUP(6,INDIRECT($C$73),3,0),\"\")","v":16},{"$f":"IF(A36<>\"entfällt\",VLOOKUP(6,INDIRECT($C$73),4,0),\"\")","v":3},3,{"$f":"IF(H2>12,\"Wert - Abzug\",\"entfällt\")","v":"Wert - Abzug"},{"$f":"IF(A36=\"entfällt\",0,IF(F36=\"\",0,D36-F36))","v":13}]
["Gesamtpunktzahl Trampolin",null,null,null,null,null,null,{"$f":"SUM(H21:H36)","v":120.75}]
["Element",null,null,null,"Wert","Abzug","Berechnung","Punkte"]
[{"$f":"VLOOKUP(1,INDIRECT($C$70),2,0)","v":"Salto vorwärts gehockt aus dem Stand"},null,null,null,{"$f":"VLOOKUP(1,INDIRECT($C$70),3,0)","v":5},1,"Wert - Abzug",{"$f":"IF(E39=\" \",\"\",IF(F39=\"\",0,E39-F39))","v":4}]
[{"$f":"VLOOKUP(2,INDIRECT($C$70),2,0)","v":"Vorspreizen, Bestellschritt, Strecksprung 3/2 Drehung"},null,null,null,{"$f":"VLOOKUP(2,INDIRECT($C$70),3,0)","v":3},null,"Wert - Abzug",{"$f":"IF(E40=\" \",\"\",IF(F40=\"\",0,E40-F40))","v":0}]
[{"$f":"VLOOKUP(3,INDIRECT($C$70),2,0)","v":"Rolle rückwärts durch Handstand mit 1/2 Drehung"},null,null,null,{"$f":"VLOOKUP(3,INDIRECT($C$70),3,0)","v":4},1.5,"Wert - Abzug",2.5]
[{"$f":"VLOOKUP(4,INDIRECT($C$70),2,0)","v":"--> Strecksprung --> Salto vorwärts gehockt"},null,null,null,{"$f":"VLOOKUP(4,INDIRECT($C$70),3,0)","v":4},0,"Wert - Abzug",4]
[{"$f":"VLOOKUP(5,INDIRECT($C$70),2,0)","v":"Wiener, 1/2 Drehung, absenken zum Stand"},null,null,null,{"$f":"VLOOKUP(5,INDIRECT($C$70),3,0)","v":4},null,"Wert - Abzug",0]
[{"$f":"VLOOKUP(6,INDIRECT($C$70),2,0)","v":"Handstand mit zwei Hüpfern, abrollen"},null,null,null,{"$f":"VLOOKUP(6,INDIRECT($C$70),3,0)","v":2},null,"Wert - Abzug",0]
[{"$f":"VLOOKUP(7,INDIRECT($C$70),2,0)","v":"--> aufstehen mit gestreckten Beinen"},null,null,null,{"$f":"VLOOKUP(7,INDIRECT($C$70),3,0)","v":3},null,"Wert - Abzug",0]
[{"$f":"VLOOKUP(8,INDIRECT($C$70),2,0)","v":"Salto rückwärts gebückt"},null,null,null,{"$f":"VLOOKUP(8,INDIRECT($C$70),3,0)","v":5},1.5,"Wert - Abzug",3.5]
[{"$f":"VLOOKUP(9,INDIRECT($C$70),2,0)","v":" "},null,null,null,{"$f":"VLOOKUP(9,INDIRECT($C$70),3,0)","v":" "},null,{"$f":"IF(H2>16,\"\",\"Wert - Abzug\")","v":""},""]
[{"$f":"VLOOKUP(10,INDIRECT($C$70),2,0)","v":" "},null,null,null,{"$f":"VLOOKUP(10,INDIRECT($C$70),3,0)","v":" "},null,{"$f":"IF(H2>16,\"\",\"Wert - Abzug\")","v":""},""]
[{"$f":"VLOOKUP(11,INDIRECT($C$70),2,0)","v":" "},null,null,null,{"$f":"VLOOKUP(11,INDIRECT($C$70),3,0)","v":" "},null,{"$f":"IF(H2>13,\"\",\"Wert - Abzug\")","v":""},""]
[{"$f":"VLOOKUP(12,INDIRECT($C$70),2,0)","v":" "},null,null,null,{"$f":"VLOOKUP(12,INDIRECT($C$70),3,0)","v":" "},null,{"$f":"IF(OR(H2=9,H2=12,H2=13),\"Wert - Abzug\",\"\")","v":""},""]
["Gesamtpunktzahl Bodenkomplexübung",null,null,null,null,null,null,{"$f":"SUM(H39:H50)","v":14}]
["Gesamtpunktzahl",null,null,null,null,null,null,{"$f":"SUM(H9,H19,H37,H51)","v":211.75}]
[]
[]
[null,"Shuttles",{"$f":"\"Shuttles_\"&F1&IF(H2=9,\"_9\",IF(H2<12,\"_10_11\",IF(H2<14,\"_12_13\",IF(H2<17,\"_14_16\",\"_17\"))))","v":"Shuttles_männlich_17"}]
[null,null,{"$f":"\"Shuttles_\"&F1&IF(H2=9,\"_9\",IF(H2<12,\"_10_11\",IF(H2<14,\"_12_13\",IF(H2<17,\"_14_16\",\"_17\"))))&\"[Shuttle]\"","v":"Shuttles_männlich_17[Shuttle]"}]
[null,null,{"$f":"\"Shuttles_\"&F1&IF(H2=9,\"_9\",IF(H2<12,\"_10_11\",IF(H2<14,\"_12_13\",IF(H2<17,\"_14_16\",\"_17\"))))&\"[Punkte]\"","v":"Shuttles_männlich_17[Punkte]"}]
[]
[null,"G_TBN TN BKÜ",{"$f":"IF(H2<13,\"beide\",F1)","v":"männlich"}]
[null,"AK",{"$f":"IF(OR(H2=9,H2=12),H2,IF(H2<12,\"10_11\",IF(H2<15,\"13_14\",IF(H2<17,\"15_16\",IF(H2<19,\"17_18\",19)))))","v":19}]
[]
[null,"TBN",{"$f":"\"TBN_\"&C59&\"_\"&C60","v":"TBN_männlich_19"}]
[null,null,{"$f":"C62&\"[Beschreibung]\"","v":"TBN_männlich_19[Beschreibung]"}]
[]
[null,"TN",{"$f":"\"TN_\"&C59&\"_\"&C60","v":"TN_männlich_19"}]
[null,null,{"$f":"C65&\"[Beschreibung]\"","v":"TN_männlich_19[Beschreibung]"}]
[]
[null,"TV",{"$f":"\"TV_\"&F1&\"_\"&C60","v":"TV_männlich_19"}]
[]
[null,"BKÜ",{"$f":"\"BKÜ\"&IF(H2=9,\"_9\",IF(H2<12,\"_10_11\",IF(H2<14,\"_12_13\",IF(H2<17,\"_14_16\",\"_17\"))))","v":"BKÜ_17"}]
[]
[null,"G_TV",{"$f":"IF(H2<17,\"beide\",F1)","v":"männlich"}]
[null,"TV",{"$f":"\"TV_\"&C72&\"_\"&C60","v":"TV_männlich_19"}]
[]
[null,{"$f":"SUM(H19,H9,H51)","v":91},"Vergleichspunktzahl aus Kraft, Beweglichkeit, Grundlagenausdauer, Bodenübung"]
[null,{"$f":"IF(B75>95,\"Ja\",\"Nein\")","v":"Nein"},"Vergleichspunktzahl erfüllt?"]
[null,{"$f":"IF(F1=\"Weiblich\",VLOOKUP(H2,Punktetabellen!$D$43:$F$49,3,1),VLOOKUP(H2,Punktetabellen!$D$43:$F$49,2,1))","v":198},"Mindest-Gesamtwert"]
[null,{"$f":"IF(H52>=B77,\"Ja\",\"Nein\")","v":"Ja"},"Gesamtwert erfüllt?"]
[null,{"$f":"IF(AND(B76=\"Ja\",B78=\"Ja\"),\"Ja\",\"Nein\")","v":"Nein"},"Alles erfüllt?"]

{"sheet":"Vorlage","index":41,"n_rows":79,"n_cols":8,"rows_kept":79,"cut":false,"hidden":true,"merged":[[19,0,19,2],[18,0,18,6],[48,0,48,3],[21,0,21,1],[22,0,22,1],[20,0,20,2],[31,0,31,1],[32,0,32,1],[30,0,30,1],[40,0,40,3],[41,0,41,3],[42,0,42,3],[51,0,51,6],[35,0,35,1],[36,0,36,6],[50,0,50,6],[23,0,23,1],[38,0,38,3],[39,0,39,3],[37,0,37,3],[43,0,43,3],[44,0,44,3],[45,0,45,3],[46,0,46,3],[33,0,33,1],[34,0,34,1],[49,0,49,3],[47,0,47,3],[0,1,0,4],[2,0,2,4],[3,0,3,4],[4,0,4,4],[5,0,5,4],[1,1,1,5],[15,0,15,4],[17,0,17,4],[6,0,6,4],[7,0,7,4],[9,0,9,4],[10,0,10,4],[11,0,11,4],[8,0,8,6],[14,0,14,4],[12,0,12,4],[13,0,13,4],[16,0,16,1]]}
["Name","NAME",null,null,null,"weiblich","Jahrgang",2010]
["Verein","VEREIN",null,null,null,null,"AK",{"$f":"2020-H1","v":10}]
["Übung",null,null,null,null,"Wert","Berechnung","Punkte"]
["Fußdehnung",null,null,null,null,null,"Bild",{"$f":"F4","v":0}]
["Briefmarke mit Armrumpfwinkel",null,null,null,null,null,"Bild",{"$f":"F5","v":0}]
["Bückbeweglichkeit",null,null,null,null,null,"Tabelle",{"$f":"IF(F6=\"\",0,VLOOKUP(F6,Punktetabellen!A10:B15,2,1))","v":0}]
["Querspagat links",null,null,null,null,null,"Tabelle",{"$f":"IF(F7=\"\",0,VLOOKUP(F7,Punktetabellen!A3:B6,2,0))","v":0}]
["Querspagat rechts",null,null,null,null,null,"Tabelle",{"$f":"IF(F8=\"\",0,VLOOKUP(F8,Punktetabellen!A3:B6,2,0))","v":0}]
["Gesamtpunktzahl Beweglichkeit",null,null,null,null,null,null,{"$f":"SUM(H4:H8)","v":0}]
["Übung",null,null,null,null,"Wert","Berechnung","Punktzahl"]
["Klimmzug",null,null,null,null,null,"Tabelle",{"$f":"IF(F11=\"\",0,IF(H2<12,VLOOKUP(F11,Punktetabellen!D4:F14,3,1),VLOOKUP(F11,Punktetabellen!E4:F14,2,1)))","v":0}]
["Beinheben",null,null,null,null,null,"Tabelle",{"$f":"IF(H2=9,VLOOKUP(F12,Punktetabellen!D19:F29,3,1),VLOOKUP(F12,Punktetabellen!E19:F29,2,1))","v":0}]
["Flieger",null,null,null,null,null,"Tabelle",{"$f":"IF(H2=9,VLOOKUP(F13,Punktetabellen!H4:K9,4,1),IF(H2<12,VLOOKUP(F13,Punktetabellen!I4:K9,3,1),VLOOKUP(F13,Punktetabellen!J4:K9,2,1)))","v":0}]
["Rollenverbindung",null,null,null,null,null,"Tabelle",{"$f":"IF(H2=9,VLOOKUP(F14,Punktetabellen!H14:K24,4,1),IF(H2<12,VLOOKUP(F14,Punktetabellen!I14:K24,3,1),VLOOKUP(F14,Punktetabellen!J14:K24,2,1)))","v":0}]
["Prellsprünge",null,null,null,null,null,"Tabelle",{"$f":"IF(H2=9,VLOOKUP(F15,Punktetabellen!M4:Q14,5,1),IF(H2<12,VLOOKUP(F15,Punktetabellen!N4:Q14,4,1),IF(H2<14,VLOOKUP(F15,Punktetabellen!O4:Q14,3,1),VLOOKUP(F15,Punktetabellen!P4:Q14,2,1))))","v":0}]
["Handstandstehen",null,null,null,null,null,"Tabelle",{"$f":"IF(F16=\"\",0,IF(H2<10,VLOOKUP(F16,Punktetabellen!D34:F40,3,1),VLOOKUP(F16,Punktetabellen!E34:F40,2,1)))","v":0}]
["Schweizer, Wiener",null,{"$f":"IF(H2<12,\"\",IF(AND(H2>13,H2<17),\"Schweizer: \",\"Wiener: \"))","v":""},null,{"$f":"IF(H2<12,\"\",IF(AND(H2>13,H2<17),\"Wiener: \",\"Schweizer: \"))","v":""},null,"Tabelle",{"$f":"IF(H2<12,VLOOKUP(F17,Punktetabellen!A20:B25,2,1),((MIN(5,1*D17)*2)+MIN(MAX(0,5-(1*D17)),(1*F17))))","v":0}]
["Bleep-Test",null,null,null,null,null,"Tabelle",{"$f":"IF(F18=\"\",0,VLOOKUP(F18,INDIRECT(C55),2,0))","v":0}]
["Gesamtpunktzahl Kraft/Kondition",null,null,null,null,null,null,{"$f":"SUM(H11:H18)","v":0}]
["Übung",null,null,"Max / Soll","Max. Abzug","Abzug / Ist","Berechnung","Punkte"]
["Standsprunghöhe",null,null,{"$f":"IF(F1=\"männlich\",VLOOKUP(H2,Standsprünge!A3:C15,3,0),VLOOKUP(H2,Standsprünge!A3:B15,2,0))","v":13.5},null,null,"(Ist - Soll) x 10",{"$f":"IF(F21=\"\",0,(F21-D21)*10)","v":0}]
[{"$f":"IF(H2>16,\"entfällt\",\"TBN\")","v":"TBN"},null,null,{"$f":"IF(C22=\"\",\"\",VLOOKUP(C22,INDIRECT($C$62),2,0))","v":""},{"$f":"IF(C22=\"\",\"\",VLOOKUP(C22,INDIRECT($C$62),3,0))","v":""},null,{"$f":"IF(H2>16,\"entfällt\",\"Wert - Abzug\")","v":"Wert - Abzug"},{"$f":"IF(A22=\"entfällt\",0,IF(F22=\"\",0,D22-F22))","v":0}]
[{"$f":"IF(H2>16,\"entfällt\",\"TBN\")","v":"TBN"},null,null,{"$f":"IF(C23=\"\",\"\",VLOOKUP(C23,INDIRECT($C$62),2,0))","v":""},{"$f":"IF(C23=\"\",\"\",VLOOKUP(C23,INDIRECT($C$62),3,0))","v":""},null,{"$f":"IF(H2>16,\"entfällt\",\"Wert - Abzug\")","v":"Wert - Abzug"},{"$f":"IF(A23=\"entfällt\",0,IF(F23=\"\",0,D23-F23))","v":0}]
[{"$f":"IF(H2>12,\"entfällt\",\"TBN\")","v":"TBN"},null,null,{"$f":"IF(C24=\"\",\"\",VLOOKUP(C24,INDIRECT($C$62),2,0))","v":""},{"$f":"IF(C24=\"\",\"\",VLOOKUP(C24,INDIRECT($C$62),3,0))","v":""},null,{"$f":"IF(H2>16,\"entfällt\",\"Wert - Abzug\")","v":"Wert - Abzug"},0]
["TN",{"$f":"IF(C25=\"\",\"\",VLOOKUP(C25,INDIRECT($C$65),2,0))","v":""},null,{"$f":"IF(C25=\"\",\"\",VLOOKUP(C25,INDIRECT($C$65),3,0))","v":""},{"$f":"IF(C25=\"\",\"\",VLOOKUP(C25,INDIRECT($C$65),4,0))","v":""},null,"Wert - Abzug",0]
["TN","",null,"","",null,"Wert - Abzug",0]
["TN","",null,"","",null,"Wert - Abzug",0]
[{"$f":"IF(H2>12,\"TN\",\"entfällt\")","v":"entfällt"},"",null,"","",null,{"$f":"IF(H2>12,\"Wert - Abzug\",\"entfällt\")","v":"entfällt"},0]
[{"$f":"IF(H2>16,\"TN\",\"entfällt\")","v":"entfällt"},"",null,"","",null,{"$f":"IF(H2>16,\"Wert - Abzug\",\"entfällt\")","v":"entfällt"},0]
[{"$f":"IF(H2>16,\"TN\",\"entfällt\")","v":"entfällt"},"",null,"","",null,{"$f":"IF(H2>16,\"Wert - Abzug\",\"entfällt\")","v":"entfällt"},{"$f":"IF(A30=\"entfällt\",0,IF(F30=\"\",0,D30-F30))","v":0}]
[{"$f":"IF($H$2>11,\"Verbindung Sprung 1\",\"entfällt\")","v":"entfällt"},null,{"$f":"IF(A31<>\"entfällt\",VLOOKUP(1,INDIRECT($C$73),2,0),\"\")","v":""},{"$f":"IF(A31<>\"entfällt\",VLOOKUP(1,INDIRECT($C$73),3,0),\"\")","v":""},{"$f":"IF(A31<>\"entfällt\",VLOOKUP(1,INDIRECT($C$73),4,0),\"\")","v":""},null,{"$f":"IF(H2>12,\"Wert - Abzug\",\"entfällt\")","v":"entfällt"},{"$f":"IF(A31=\"entfällt\",0,IF(F31=\"\",0,D31-F31))","v":0}]
[{"$f":"IF($H$2>11,\"Verbindung Sprung 2\",\"entfällt\")","v":"entfällt"},null,{"$f":"IF(A32<>\"entfällt\",VLOOKUP(2,INDIRECT($C$73),2,0),\"\")","v":""},{"$f":"IF(A32<>\"entfällt\",VLOOKUP(2,INDIRECT($C$73),3,0),\"\")","v":""},{"$f":"IF(A32<>\"entfällt\",VLOOKUP(2,INDIRECT($C$73),4,0),\"\")","v":""},null,{"$f":"IF(H2>12,\"Wert - Abzug\",\"entfällt\")","v":"entfällt"},{"$f":"IF(A32=\"entfällt\",0,IF(F32=\"\",0,D32-F32))","v":0}]
[{"$f":"IF($H$2>11,\"Verbindung Sprung 3\",\"entfällt\")","v":"entfällt"},null,{"$f":"IF(A33<>\"entfällt\",VLOOKUP(3,INDIRECT($C$73),2,0),\"\")","v":""},{"$f":"IF(A33<>\"entfällt\",VLOOKUP(3,INDIRECT($C$73),3,0),\"\")","v":""},{"$f":"IF(A33<>\"entfällt\",VLOOKUP(3,INDIRECT($C$73),4,0),\"\")","v":""},null,{"$f":"IF(H2>12,\"Wert - Abzug\",\"entfällt\")","v":"entfällt"},0]
[{"$f":"IF($H$2>11,\"Verbindung Sprung 4\",\"entfällt\")","v":"entfällt"},null,{"$f":"IF(A34<>\"entfällt\",VLOOKUP(4,INDIRECT($C$73),2,0),\"\")","v":""},{"$f":"IF(A34<>\"entfällt\",VLOOKUP(4,INDIRECT($C$73),3,0),\"\")","v":""},{"$f":"IF(A34<>\"entfällt\",VLOOKUP(4,INDIRECT($C$73),4,0),\"\")","v":""},null,{"$f":"IF(H2>12,\"Wert - Abzug\",\"entfällt\")","v":"entfällt"},0]
[{"$f":"IF($H$2>11,\"Verbindung Sprung 5\",\"entfällt\")","v":"entfällt"},null,{"$f":"IF(A35<>\"entfällt\",VLOOKUP(5,INDIRECT($C$73),2,0),\"\")","v":""},{"$f":"IF(A35<>\"entfällt\",VLOOKUP(5,INDIRECT($C$73),3,0),\"\")","v":""},{"$f":"IF(A35<>\"entfällt\",VLOOKUP(5,INDIRECT($C$73),4,0),\"\")","v":""},null,{"$f":"IF(H2>12,\"Wert - Abzug\",\"entfällt\")","v":"entfällt"},0]
[{"$f":"IF($H$2>11,\"Verbindung Sprung 6\",\"entfällt\")","v":"entfällt"},null,{"$f":"IF(A36<>\"entfällt\",VLOOKUP(6,INDIRECT($C$73),2,0),\"\")","v":""},{"$f":"IF(A36<>\"entfällt\",VLOOKUP(6,INDIRECT($C$73),3,0),\"\")","v":""},{"$f":"IF(A36<>\"entfällt\",VLOOKUP(6,INDIRECT($C$73),4,0),\"\")","v":""},null,{"$f":"IF(H2>12,\"Wert - Abzug\",\"entfällt\")","v":"entfällt"},{"$f":"IF(A36=\"entfällt\",0,IF(F36=\"\",0,D36-F36))","v":0}]
["Gesamtpunktzahl Trampolin",null,null,null,null,null,null,{"$f":"SUM(H21:H36)","v":0}]
["Element",null,null,null,"Wert","Abzug","Berechnung","Punkte"]
[{"$f":"VLOOKUP(1,INDIRECT($C$70),2,0)","v":"Flugrolle mit Anlauf"},null,null,null,{"$f":"VLOOKUP(1,INDIRECT($C$70),3,0)","v":3},null,"Wert - Abzug",{"$f":"IF(E39=\" \",\"\",IF(F39=\"\",0,E39-F39))","v":0}]
[{"$f":"VLOOKUP(2,INDIRECT($C$70),2,0)","v":"Grätschwinkelsprung"},null,null,null,{"$f":"VLOOKUP(2,INDIRECT($C$70),3,0)","v":3},null,"Wert - Abzug",{"$f":"IF(E40=\" \",\"\",IF(F40=\"\",0,E40-F40))","v":0}]
[{"$f":"VLOOKUP(3,INDIRECT($C$70),2,0)","v":"Vorspreizen, Handstandhüpfer, Abrollen Hockstand"},null,null,null,{"$f":"VLOOKUP(3,INDIRECT($C$70),3,0)","v":3},null,"Wert - Abzug",0]
[{"$f":"VLOOKUP(4,INDIRECT($C$70),2,0)","v":"Absprung gehockt zum Handstand"},null,null,null,{"$f":"VLOOKUP(4,INDIRECT($C$70),3,0)","v":2},null,"Wert - Abzug",0]
[{"$f":"VLOOKUP(5,INDIRECT($C$70),2,0)","v":"1/2 Drehung, abrollen in den Stand"},null,null,null,{"$f":"VLOOKUP(5,INDIRECT($C$70),3,0)","v":4},null,"Wert - Abzug",0]
[{"$f":"VLOOKUP(6,INDIRECT($C$70),2,0)","v":"Vorspreizen, Beistellschritt, Strecksprung 1/1 Drehung"},null,null,null,{"$f":"VLOOKUP(6,INDIRECT($C$70),3,0)","v":3},null,"Wert - Abzug",0]
[{"$f":"VLOOKUP(7,INDIRECT($C$70),2,0)","v":"Vorspreizen, Standwaage"},null,null,null,{"$f":"VLOOKUP(7,INDIRECT($C$70),3,0)","v":2},null,"Wert - Abzug",0]
[{"$f":"VLOOKUP(8,INDIRECT($C$70),2,0)","v":"Vorspreizen, Standwaage andere Seite"},null,null,null,{"$f":"VLOOKUP(8,INDIRECT($C$70),3,0)","v":2},null,"Wert - Abzug",0]
[{"$f":"VLOOKUP(9,INDIRECT($C$70),2,0)","v":"Rolle rückwärts durch Handstand"},null,null,null,{"$f":"VLOOKUP(9,INDIRECT($C$70),3,0)","v":4},null,{"$f":"IF(H2>16,\"\",\"Wert - Abzug\")","v":"Wert - Abzug"},0]
[{"$f":"VLOOKUP(10,INDIRECT($C$70),2,0)","v":"Vorspreizen, Rad"},null,null,null,{"$f":"VLOOKUP(10,INDIRECT($C$70),3,0)","v":2},null,{"$f":"IF(H2>16,\"\",\"Wert - Abzug\")","v":"Wert - Abzug"},0]
[{"$f":"VLOOKUP(11,INDIRECT($C$70),2,0)","v":"Vorspreizen, Rad, andere Richtung"},null,null,null,{"$f":"VLOOKUP(11,INDIRECT($C$70),3,0)","v":2},null,{"$f":"IF(H2>13,\"\",\"Wert - Abzug\")","v":"Wert - Abzug"},0]
[{"$f":"VLOOKUP(12,INDIRECT($C$70),2,0)","v":" "},null,null,null,{"$f":"VLOOKUP(12,INDIRECT($C$70),3,0)","v":" "},null,{"$f":"IF(OR(H2=9,H2=12,H2=13),\"Wert - Abzug\",\"\")","v":""},""]
["Gesamtpunktzahl Bodenkomplexübung",null,null,null,null,null,null,{"$f":"SUM(H39:H50)","v":0}]
["Gesamtpunktzahl",null,null,null,null,null,null,{"$f":"SUM(H9,H19,H37,H51)","v":0}]
[]
[]
[null,"Shuttles",{"$f":"\"Shuttles_\"&F1&IF(H2=9,\"_9\",IF(H2<12,\"_10_11\",IF(H2<14,\"_12_13\",IF(H2<17,\"_14_16\",\"_17\"))))","v":"Shuttles_weiblich_10_11"}]
[null,null,{"$f":"\"Shuttles_\"&F1&IF(H2=9,\"_9\",IF(H2<12,\"_10_11\",IF(H2<14,\"_12_13\",IF(H2<17,\"_14_16\",\"_17\"))))&\"[Shuttle]\"","v":"Shuttles_weiblich_10_11[Shuttle]"}]
[null,null,{"$f":"\"Shuttles_\"&F1&IF(H2=9,\"_9\",IF(H2<12,\"_10_11\",IF(H2<14,\"_12_13\",IF(H2<17,\"_14_16\",\"_17\"))))&\"[Punkte]\"","v":"Shuttles_weiblich_10_11[Punkte]"}]
[]
[null,"G_TBN TN BKÜ",{"$f":"IF(H2<13,\"beide\",F1)","v":"beide"}]
[null,"AK",{"$f":"IF(OR(H2=9,H2=12),H2,IF(H2<12,\"10_11\",IF(H2<15,\"13_14\",IF(H2<17,\"15_16\",IF(H2<19,\"17_18\",19)))))","v":"10_11"}]
[]
[null,"TBN",{"$f":"\"TBN_\"&C59&\"_\"&C60","v":"TBN_beide_10_11"}]
[null,null,{"$f":"C62&\"[Beschreibung]\"","v":"TBN_beide_10_11[Beschreibung]"}]
[]
[null,"TN",{"$f":"\"TN_\"&C59&\"_\"&C60","v":"TN_beide_10_11"}]
[null,null,{"$f":"C65&\"[Beschreibung]\"","v":"TN_beide_10_11[Beschreibung]"}]
[]
[null,"TV",{"$f":"\"TV_\"&F1&\"_\"&C60","v":"TV_weiblich_10_11"}]
[]
[null,"BKÜ",{"$f":"\"BKÜ\"&IF(H2=9,\"_9\",IF(H2<12,\"_10_11\",IF(H2<14,\"_12_13\",IF(H2<17,\"_14_16\",\"_17\"))))","v":"BKÜ_10_11"}]
[]
[null,"G_TV",{"$f":"IF(H2<17,\"beide\",F1)","v":"beide"}]
[null,"TV",{"$f":"\"TV_\"&C72&\"_\"&C60","v":"TV_beide_10_11"}]
[]
[null,{"$f":"SUM(H19,H9,H51)","v":0},"Vergleichspunktzahl aus Kraft, Beweglichkeit, Grundlagenausdauer, Bodenübung"]
[null,{"$f":"IF(B75>95,\"Ja\",\"Nein\")","v":"Nein"},"Vergleichspunktzahl erfüllt?"]
[null,{"$f":"IF(F1=\"Weiblich\",VLOOKUP(H2,Punktetabellen!$D$43:$F$49,3,1),VLOOKUP(H2,Punktetabellen!$D$43:$F$49,2,1))","v":112},"Mindest-Gesamtwert"]
[null,{"$f":"IF(H52>=B77,\"Ja\",\"Nein\")","v":"Nein"},"Gesamtwert erfüllt?"]
[null,{"$f":"IF(AND(B76=\"Ja\",B78=\"Ja\"),\"Ja\",\"Nein\")","v":"Nein"},"Alles erfüllt?"]

{"sheet":"Listen","index":42,"n_rows":140,"n_cols":20,"rows_kept":140,"cut":false,"hidden":true,"merged":[[66,3,66,5],[112,0,112,1],[98,0,98,1],[84,0,84,1],[70,0,70,1],[127,0,127,1],[0,0,0,1],[56,0,56,1],[42,0,42,1],[28,0,28,1],[14,0,14,1],[56,3,56,5],[19,7,19,10],[9,7,9,10],[0,7,0,10],[0,3,0,5],[12,3,12,5],[24,3,24,5],[40,3,40,5],[49,3,49,5],[43,7,43,10],[33,7,33,10],[64,17,64,19],[48,17,48,19],[119,7,119,10],[105,7,105,10],[93,7,93,10],[82,7,82,10],[67,7,67,10],[54,7,54,10],[45,12,45,15],[54,12,54,15],[32,17,32,19],[16,17,16,19],[0,17,0,19],[0,12,0,15],[9,12,9,15],[18,12,18,15],[27,12,27,15],[36,12,36,15]]}
["Shuttles_weiblich_9",null,null,"TBN_beide_9",null,null,null,"TN_beide_9",null,null,null,null,"TV_beide_12",null,null,null,null,"BKÜ_9"]
["Shuttle","Punkte",null,"Beschreibung","Wert","MaxAbzug",null,"Beschreibung","Kürzel","Wert","MaxAbzug",null,"Element","Übung","Wert","MaxAbzug",null,"Element","Beschreibung","Wert"]
["vor L3 S4",0,null,"Sitz, Bauch, Sitz (3x)",3,1,null,"Salto rw c","40°rw",5,4,null,1,"40°",5,3,null,1,"Rolle vorwärts",3]
["L3 S4",1,null,"Sitz, 3/4 vw Salto Rücken, Sitz (3x)",4,2,null,"Salto rw b","40<rw",6,4,null,2,"41°",6,3,null,2,"Bückstand zum Liegestütz",1.5]
["L3 S8",2,null,"Sitz, halbe Schraube Bauch, Sitz (3x)",3,1,null,"Salto rw c zum Sitz","40°Srw",5,4,null,3,"40<",6,3,null,3,"Stützschraube links, rechts",3]
["L4 S4",3,null,"Rücken, Bücke Stand, Rücken (3x)",3,1,null,"Salto vw c","40°vw",5,4,null,4,"41<",6,3,null,4,"Grätschwinkelstand",1.5]
["L4 S9",4,null,"Rücken, 1/2 Schraube 1/2 Salto vw Rücken (3x)",4,2,null,"Salto vw b","40<vw",6,4,null,5,"40/",6,3,null,5,"Kopfstand",4.5]
["L5 S5",5,null,"Rücken, 1/1 Schraube Rücken (1x)",4,2,null,"2/1 Standsprüngschraube","04/",4,2,null,6,"02/",2,3,null,6,"Schiffchenposition",1.5]
["L5 S9",6,null,"Rücken, Muffel Stand, Rücken (3x)",4,2,null,null,null,null,null,null,null,null,null,null,null,7,"Drehung links, rechts",1.5]
["L6 S5",7,null,"Bauch, Bücke Bauch (3x)",3,1,null,"TN_beide_10_11",null,null,null,null,"TV_beide_13_14",null,null,null,null,8,"Kerze ohne Arme",3]
["L6 S10",8,null,"Bauch, 1/2 Salto rw Rücken, 1/2 Salto vw Bauch (3x)",4,2,null,"Beschreibung","Kürzel","Wert","MaxAbzug",null,"Element","Übung","Wert","MaxAbzug",null,9,"Abbücken, Strecken über Kerze",1.5]
["L7 S5",9,null,null,null,null,null,"Barani c","51°",6,4,null,1,"40/",6,3,null,10,"Rolle --> Stand, Strecksprung 1/2 Drehung",2.5]
["L7 S10",10,null,"TBN_beide_10_11",null,null,null,"Barani b","51<",6,4,null,2,"41/",6,3,null,11,"Rolle rückwärts",3]
[null,null,null,"Beschreibung","Wert","MaxAbzug",null,"3/4 rw c zum Bauch","30°B",3,1,null,3,"42/",7,3,null,12,"Vorspreizen, Rad",3.5]
["Shuttles_weiblich_10_11",null,null,"Bauch, 1/2 Schraube 1/2 Salto rw, Bauch (3x)",3,1,null,"3/4 rw b zum Bauch","30<B",3,1,null,4,"40°",5,3]
["Shuttle","Punkte",null,"Bauch, Handstand, Rücken, Bauch (3x)",4,2,null,"5/4 rw c zum Rücken","50°R",6,4,null,5,"41°",6,3]
["vor L3 S8",0,null,"Rücken, rw Bauch, rw Rücken (3x)",3,1,null,"3/4 vw a zum Rücken","30/R",3,1,null,6,"800°",10,3,null,"BKÜ_10_11","AK 10 - 11"]
["L3 S8",1,null,"Rücken, 1/1 Schraube Rücken (3x)",4,2,null,"Salto rw a","40/",6,4,null,null,null,null,null,null,"Element","Beschreibung","Wert"]
["L4 S4",2,null,"Sitz, 1/1 Schraube Sitz (1x)",3,1,null,null,null,null,null,null,"TV_beide_15_16",null,null,null,null,1,"Flugrolle mit Anlauf",3]
["L4 S9",3,null,"Rücken, Salto vw c Rücken (1x)",4,2,null,"TN_beide_12",null,null,null,null,"Element","Übung","Wert","MaxAbzug",null,2,"Grätschwinkelsprung",3]
["L5 S5",4,null,"Rücken, Salto vw b Rücken (1x)",5,4,null,"Beschreibung","Kürzel","Wert","MaxAbzug",null,1,"801<",13,3,null,3,"Vorspreizen, Handstandhüpfer, Abrollen Hockstand",3]
["L5 S9",5,null,"Rücken, 3/2 Schrauben 1/2 Salto vw Rücken (1x)",4,2,null,"Barani a","41/",6,4,null,2,"40<",6,3,null,4,"Absprung gehockt zum Handstand",2]
["L6 S5",6,null,"3/4 Salto vw a mit 1/2 Schraube (1x)",4,2,null,"Babyfliffis c","51°",7,6,null,3,"801°",11,3,null,5,"1/2 Drehung, abrollen in den Stand",4]
["L6 S10",7,null,null,null,null,null,"Babyfliffis b","51<",7,6,null,4,"40/",6,3,null,6,"Vorspreizen, Beistellschritt, Strecksprung 1/1 Drehung",3]
["L7 S5",8,null,"TBN_beide_12",null,null,null,"Babyfliffis a","51/",7,6,null,5,"41/",6,3,null,7,"Vorspreizen, Standwaage",2]
["L7 S10",9,null,"Beschreibung","Wert","MaxAbzug",null,"3/4 rw a zum Bauch","30/B",3,1,null,6,"800°",10,3,null,8,"Vorspreizen, Standwaage andere Seite",2]
["L8 S5",10,null,"Bauch, ganze Schraube Bauch (3x)",3,1,null,"Cody c","50°",6,4,null,null,null,null,null,null,9,"Rolle rückwärts durch Handstand",4]
[null,null,null,"Sitz, 2/1 Schraube Sitz (1x)",3,1,null,"Cody b","50<",7,6,null,"TV_weiblich_17_18",null,null,null,null,10,"Vorspreizen, Rad",2]
["Shuttles_weiblich_12_13",null,null,"Rücken, 2/1 Schraube Rücken (1x)",4,2,null,"7/4 vw c zum Rücken","700°R",8,6,null,"Element","Übung","Wert","MaxAbzug",null,11,"Vorspreizen, Rad, andere Richtung",2]
["Shuttle","Punkte",null,"Rücken, Bauch, Rücken vw (3x)",3,1,null,"7/4 vw b zum Rücken","700<R",9,6,null,1,"803<",15,3,null,12," "," "]
["vor L4 S9",0,null,"Rücken, Salto vw b Rücken (3x)",6,4,null,"Schraubensalto","42/",7,6,null,2,"40<",6,3]
["L4 S9",1,null,"Rücken, Schraubensalto vw Rücken (1x)",6,4,null,"Doppelsalto rw c","800°",10,6,null,3,"801<",13,3]
["L5 S5",2,null,"Rücken, Salto vw a Rücken (3x)",6,4,null,null,null,null,null,null,4,"40/",6,3,null,"BKÜ_12_13","AK 12 - 13"]
["L5 S9",3,null,"Rücken, 3/2 Schrauben 1/2 Salto vw Rücken (3x)",5,4,null,"TN_weiblich_13_14",null,null,null,null,5,"41/",6,3,null,"Element","Beschreibung","Wert"]
["L6 S5",4,null,"Rücken, Salto vw c Rücken (5x)",5,4,null,"Beschreibung","Kürzel","Wert","MaxAbzug",null,6,"811°",12,3,null,1,"Salto vorwärts mit Anlauf",3]
["L6 S10",5,null,"5/4 rw b Rücken (1x)",7,6,null,"Rudolf","43/",8,6,null,null,null,null,null,null,2,"Handstand, 1/1 Drehung, Abrollen",3]
["L7 S5",6,null,"3/4 vw a mit 1/1 Schraube (1x)",5,4,null,"Babyrudi","53/",9,6,null,"TV_weiblich_19",null,null,null,null,3,"Strecksprung 1/2 Drehung",1.5]
["L7 S10",7,null,"3/4 rw a mit 3/2 Schraube (1x)",6,4,null,"Fliffis c","801°",11,6,null,"Element","Übung","Wert","MaxAbzug",null,4,"Vorspreizen, Handstandhüpfer, Abrollen Grätschsitz",1.5]
["L8 S5",8,null,"5/4 vw mit 3/2 Schraube c (Babyrudi c)",9,6,null,"Fliffis b","801<",13,6,null,1,"803<",15,3,null,5,"Briefmarke, Rückgrätschen --> Bauchlage",3]
["L8 S11",9,null,null,null,null,null,"Doppelsalto rw b","800<",12,6,null,2,"40<",6,3,null,6,"Kniestand, Abdrücken gebückt --> Handstand, abrollen",3]
["L9 S5",10,null,"TBN_weiblich_13_14",null,null,null,"1/2 ein 1/2 aus c","811°",12,6,null,3,"801<",13,3,null,7,"Vorspreizen, Standwaage --> abrollen, einbeinig rechts auf",3.5]
[null,null,null,"Beschreibung","Wert","MaxAbzug",null,"Doppelschraube rw","44/",9,6,null,4,"40/",6,3,null,8,"Vorspreizen, Standwaage --> abrollen, einbeinig links auf",3.5]
["Shuttles_weiblich_14_16",null,null,"7/4 vw c zum Rücken, platt, Arme angelegt",8,6,null,null,null,null,null,null,5,"41/",6,3,null,9,"Rolle rückwärts durch Handstand",3]
["Shuttle","Punkte",null,"7/4 vw b zum Rücken, platt, Arme angelegt",9,6,null,"TN_weiblich_15_16",null,null,null,null,6,"811<",14,3,null,10,"Strecksprung 1/2 Drehung",1]
["vor L5 S5",0,null,"7/4 rw c zum Rücken, 1/2 Schraube ein",9,6,null,"Beschreibung","Kürzel","Wert","MaxAbzug",null,null,null,null,null,null,11,"Sprungrolle mit Anlauf",2]
["L5 S5",1,null,"7/4 rw b zum Rücken, 1/2 Schraube ein",9,6,null,"Fliffisrudi c","803°",13,6,null,"TV_männlich_17_18",null,null,null,null,12,"Strecksprung 1/1 Drehung",2]
["L5 S9",2,null,"2/1 Salto vw c aus der Rückenlage",10,6,null,"Fliffisrudi b","803<",15,6,null,"Element","Übung","Wert","MaxAbzug"]
["L6 S5",3,null,"5/4 vw mit 3/2 Schraube b (Babyrudy b)",9,6,null,"1/2 ein 1/2 aus b","811<",14,6,null,1,"803<",15,3]
["L6 S10",4,null,null,null,null,null,"1/1 ein 0 aus c","820°",12,6,null,2,"800°",10,3,null,"BKÜ_14_16","AK 14 - 16"]
["L7 S5",5,null,"TBN_weiblich_15_16",null,null,null,"0 ein 1/1 aus c","802°",12,6,null,3,"801<",13,3,null,"Element","Beschreibung","Wert"]
["L7 S10",6,null,"Beschreibung","Wert","MaxAbzug",null,"Doppelsalto rw a","800/",12,6,null,4,"40/",6,3,null,1,"Flugrolle mit Überstrecken mit Anlauf",3]
["L8 S5",7,null,"7/4 Salto vw c zum Rücken, 1/1 aus",10,6,null,"1/1 ein 1/2 aus c","821°",13,6,null,5,"801°",11,3,null,2,"--> Strecksprung, Salto vorwärts gehockt",4.5]
["L8 S11",8,null,"7/4 Salto vw b zum Rücken, 1/1 aus",10,6,null,"1/1 ein 1/2 aus b","821<",15,6,null,6,"811°",12,3,null,3,"Vorspreizen, Handstand mit 1/1 Drehung, abrollen",3]
["L9 S5",9,null,"11/4 (2 3/4) Salto vw c zum Rücken",13,6,null,null,null,null,null,null,null,null,null,null,null,4,"--> Aufstehen mit gestreckten Beinen",3]
["L9 S11",10,null,"7/4 Salto rw c, 1/1 ein 1/2 aus",11,6,null,"TN_weiblich_17_18",null,null,null,null,"TV_männlich_19",null,null,null,null,5,"Vorspreizen, Bestellschritt, Strecksprung 3/2 Drehung",3]
[null,null,null,null,null,null,null,"Beschreibung","Kürzel","Wert","MaxAbzug",null,"Element","Übung","Wert","MaxAbzug",null,6,"Salto rückwärts gehockt",3]
["Shuttles_weiblich_17",null,null,"TBN_männlich_13_14",null,null,null,"Fliffisrudi b","803<",15,6,null,1,"12001<",20,3,null,7,"Handstützüberschlag",3]
["Shuttle","Punkte",null,"Beschreibung","Wert","MaxAbzug",null,"1/1 ein 1/2 aus b","821<",15,6,null,2,"40<",6,3,null,8,"--> Ansprung Schrittstellung, Handstand mit zwei Hüpfern",3]
["vor L6 S5",0,null,"7/4 vw c zum Rücken, platt, Arme angelegt",8,6,null,"1/2 ein 1/2 aus b","811<",14,6,null,3,"12001°",17,3,null,9,"Abrollen --> Strecksprung 1/2 Drehung",1.5]
["L6 S5",1,null,"7/4 vw b zum Rücken, platt, Arme angelegt",9,6,null,"1/1 ein 1/1 aus c","822°",14,6,null,4,"40/",6,3,null,10,"Salto vorwärts gebückt mit Anlauf",3]
["L6 S10",2,null,"7/4 rw c zum Rücken, 1/2 Schraube ein",9,6,null,"1/1 ein 0 aus b","820<",14,6,null,5,"801<",13,3,null,11," "," "]
["L7 S5",3,null,"7/4 rw b zum Rücken, 1/2 Schraube ein",9,6,null,"0 ein 1/1 aus b","802<",14,6,null,6,"822/",16,3,null,12," "," "]
["L7 S10",4,null,"2/1 Salto vw c aus der Rückenlage",10,6,null,"1/2 ein 3/2 aus c","813°",14,6]
["L8 S5",5,null,"7/4 Salto vw c zum Rücken, 1/1 aus",10,6,null,"11/4 (2 3/4) vw c mit 90° Hüftwinkel, Arme zur Decke","11000°R",13,6]
["L8 S11",6,null,"5/4 vw mit 3/2 Schraube b (Babyrudy b)",9,6,null,"Fliffis c aus der Rückenlage","901°",12,6,null,null,null,null,null,null,"BKÜ_17"]
["L9 S5",7,null,null,null,null,null,"Triffis c","12001°",17,6,null,null,null,null,null,null,"Element","Beschreibung","Wert"]
["L9 S11",8,null,"TBN_männlich_15_16",null,null,null,null,null,null,null,null,null,null,null,null,null,1,"Salto vorwärts gehockt aus dem Stand",5]
["L10 S5",9,null,"Beschreibung","Wert","MaxAbzug",null,"TN_weiblich_19",null,null,null,null,null,null,null,null,null,2,"Vorspreizen, Bestellschritt, Strecksprung 3/2 Drehung",3]
["L10 S11",10,null,"7/4 Salto vw b zum Rücken, 1/1 aus",10,6,null,"Beschreibung","Kürzel","Wert","MaxAbzug",null,null,null,null,null,null,3,"Rolle rückwärts durch Handstand mit 1/2 Drehung",4]
[null,null,null,"11/4 (2 3/4) Salto vw c zum Rücken",13,6,null,"Triffis c","12001°",17,6,null,null,null,null,null,null,4,"--> Strecksprung --> Salto vorwärts gehockt",4]
["Shuttles_männlich_9",null,null,"7/4 Salto rw c, 1/1 ein 1/2 aus",11,6,null,"Triffis b","12001<",20,6,null,null,null,null,null,null,5,"Wiener, 1/2 Drehung, absenken zum Stand",4]
["Shuttle","Punkte",null,"7/4 Salto rw b, 1/1 ein 1/2 aus",12,6,null,"1/2 ein 1/2 aus Triffis c","12101°",18,6,null,null,null,null,null,null,6,"Handstand mit zwei Hüpfern, abrollen",2]
["vor L3 S4",0,null,null,null,null,null,"1/1 ein 1/1 aus a","822/",16,6,null,null,null,null,null,null,7,"--> aufstehen mit gestreckten Beinen",3]
["L3 S4",1,null,null,null,null,null,"1/2 ein 3/2 aus b","813<",16,6,null,null,null,null,null,null,8,"Salto rückwärts gebückt",5]
["L3 S8",2,null,null,null,null,null,"3/2 ein 1/2 aus b","831<",16,6,null,null,null,null,null,null,9," "," "]
["L4 S4",3,null,null,null,null,null,"1/1 ein 0 aus a","820/",14,6,null,null,null,null,null,null,10," "," "]
["L4 S9",4,null,null,null,null,null,"0 ein 1/1 aus a","802/",14,6,null,null,null,null,null,null,11," "," "]
["L5 S5",5,null,null,null,null,null,"Fliffisrandi c","805°",15,6,null,null,null,null,null,null,12," "," "]
["L5 S9",6,null,null,null,null,null,"Fliffisrandi b","805<",17,6]
["L6 S5",7,null,null,null,null,null,"1/1 ein 2/1 aus c","824°",16,6]
["L6 S10",8,null,null,null,null,null,"1/1 ein 2/1 aus a","824/",18,6]
["L7 S5",9]
["L7 S10",10,null,null,null,null,null,"TN_männlich_13_ 14"]
[null,null,null,null,null,null,null,"Beschreibung","Kürzel","Wert","MaxAbzug"]
["Shuttles_männlich_10_11",null,null,null,null,null,null,"Rudolf","43/",8,6]
["Shuttle","Punkte",null,null,null,null,null,"Babyrudi","53/",9,6]
["vor L4 S4",0,null,null,null,null,null,"Fliffis c","801°",11,6]
["L4 S4",1,null,null,null,null,null,"Fliffis b","801<",13,6]
["L4 S9",2,null,null,null,null,null,"Doppelsalto rw b","800<",12,6]
["L5 S5",3,null,null,null,null,null,"1/2 ein 1/2 aus c","811°",12,6]
["L5 S9",4,null,null,null,null,null,"Doppelschraube rw","44/",9,6]
["L6 S5",5,null,null,null,null,null,"Fliffisrudi c","803°",13,6]
["L6 S10",6]
["L7 S5",7,null,null,null,null,null,"TN_männlich_15_16"]
["L7 S10",8,null,null,null,null,null,"Beschreibung","Kürzel","Wert","MaxAbzug"]
["L8 S5",9,null,null,null,null,null,"Fliffisrudi b","803<",15,6]
["L8 S11",10,null,null,null,null,null,"1/2 ein 1/2 aus b","811<",14,6]
[null,null,null,null,null,null,null,"1/1 ein 1/2 aus c","821°",13,6]
["Shuttles_männlich_12_13",null,null,null,null,null,null,"1/1 ein 1/2 aus b","821<",15,6]
["Shuttle","Punkte",null,null,null,null,null,"1/1 ein 1/1 aus c","822°",14,6]
["vor L6 S5",0,null,null,null,null,null,"Doppelsalto rw a","800/",12,6]
["L6 S5",1,null,null,null,null,null,"Triffis c","12001°",17,6]
["L6 S10",2,null,null,null,null,null,"11/4 (2 3/4) vw c mit 90° Hüftwinkel, Arme zur Decke","11000°R",13,6]
["L7 S5",3,null,null,null,null,null,"Fliffis c aus der Rückenlage","901°",12,6]
["L7 S10",4]
["L8 S5",5,null,null,null,null,null,"TN_männlich_17_18"]
["L8 S11",6,null,null,null,null,null,"Beschreibung","Kürzel","Wert","MaxAbzug"]
["L9 S5",7,null,null,null,null,null,"1/1 ein 1/2 aus b","821<",15,6]
["L9 S11",8,null,null,null,null,null,"11/4 (2 3/4) vw b","11000<R",15,6]
["L10 S5",9,null,null,null,null,null,"Fliffis b aus der Rückenlage","901<",14,6]
["L10 S11",10,null,null,null,null,null,"Triffis c","12001°",17,6]
[null,null,null,null,null,null,null,"Triffis b","12001<",20,6]
["Shuttles_männlich_14_16",null,null,null,null,null,null,"3/2 ein 1/2 aus b","831<",16,6]
["Shuttle","Punkte",null,null,null,null,null,"1/1 ein 1/1 aus a","822/",16,6]
["vor L7 S5",0,null,null,null,null,null,"Fliffisrandi c","805°",15,6]
["L7 S5",1,null,null,null,null,null,"Fliffisrandi b","805<",17,6]
["L7 S10",2,null,null,null,null,null,"1/1 ein 2/1 aus c","824°",16,6]
["L8 S5",3,null,null,null,null,null,"1/1 ein 2/1 aus a","824/",18,6]
["L8 S11",4]
["L9 S5",5,null,null,null,null,null,"TN_männlich_19"]
["L9 S11",6,null,null,null,null,null,"Beschreibung","Kürzel","Wert","MaxAbzug"]
["L10 S5",7,null,null,null,null,null,"Triffis b","12001<",20,6]
["L10 S11",8,null,null,null,null,null,"1/2 ein 1/2 aus Triffis c","12101°",18,6]
["L11 S6",9,null,null,null,null,null,"1/2 ein 1/2 aus Triffis b","12101<",21,6]
["L11 S12",10,null,null,null,null,null,"1/1 ein 2/1 aus a","824/",18,6]
[null,null,null,null,null,null,null,"1/1 ein 3/2 aus c","823°",15,6]
[null,null,null,null,null,null,null,"1/1 ein 3/2 aus b","823<",17,6]
["Shuttles_männlich_17",null,null,null,null,null,null,"1/1 ein 3/2 aus a","823/",17,6]
["Shuttle","Punkte",null,null,null,null,null,"Triffisrudi c","12003°",19,6]
["vor L8 S11",0,null,null,null,null,null,"Triffisrudi b","12003<",22,6]
["L8 S11",1,null,null,null,null,null,"1/1 ein Triffis c","12201°",19,6]
["L9 S5",2,null,null,null,null,null,"1/1 ein Triffis b","12201<",22,6]
["L9 S11",3,null,null,null,null,null,"2/1 ein 2/1 aus a","844/",20,6]
["L10 S5",4]
["L10 S11",5]
["L11 S6",6]
["L11 S12",7]
["L12 S6",8]
["L12 S12",9]
["L13 S6",10]

{"sheet":"Punktetabellen","index":43,"n_rows":49,"n_cols":17,"rows_kept":49,"cut":false,"hidden":true,"merged":[[40,3,40,5],[0,0,0,1],[7,0,7,1],[0,12,0,16],[30,3,30,5],[0,3,0,5],[15,3,15,5],[0,7,0,10],[10,7,10,10],[16,0,16,1]]}
["Querspagat",null,null,"Klimmzug",null,null,null,"Flieger",null,null,null,null,"Prellsprünge"]
["cm vom Boden","Punkte",null,"AK 9 - 11","AK 12 - 21","Ausführung",null,"AK 9","AK 10 - 11","AK 12 - 21","Ausführung",null,"AK 9","AK 10 - 11","AK 12 - 13","AK 14 - 21","Ausführung"]
[0,10,null,"Wiederholungen","Wiederholungen","Punkte",null,"Haltezeit","Haltezeit","Haltezeit","Punkte",null,"Wiederholungen","Wiederholungen","Wiederholungen","Wiederholungen","Punkte"]
["<5 cm",6,null,0,0,0,null,0,0,0,0,null,0,0,0,0,0]
["<10 cm",2,null,1,6,1,null,60,75,80,2,null,14,18,22,1,1]
["10 cm oder mehr",0,null,2,7,2,null,65,80,90,4,null,16,20,24,2,2]
[null,null,null,3,8,3,null,70,85,100,6,null,18,22,26,3,3]
["Bückbeweglichkeit",null,null,4,9,4,null,75,90,110,8,null,20,24,28,4,4]
["cm am Kasten","Punkte",null,5,10,5,null,80,100,120,10,null,22,26,30,5,5]
[-50,0,null,6,11,6,null,null,null,null,null,null,24,28,32,6,6]
[12,2,null,7,12,7,null,"Rollenverbindung",null,null,null,null,26,30,34,7,7]
[14,4,null,8,13,8,null,"AK 9","AK 10 - 11","AK 12 - 21","Ausführung",null,28,32,36,8,8]
[16,6,null,9,14,9,null,"Wiederholungen","Wiederholungen","Wiederholungen","Punkte",null,30,34,38,9,9]
[18,8,null,10,15,10,null,0,0,0,0,null,32,36,40,10,10]
[20,10,null,null,null,null,null,3,7,11,1]
[null,null,null,"Beinheben",null,null,null,5,9,13,2]
["Schweizer, Wiener",null,null,"AK 9","AK 10 - 21","Ausführung",null,7,11,15,3]
["AK 9 - 21","Ausführung",null,"Wiederholungen","Wiederholungen","Punkte",null,9,13,17,4]
["Wiederholungen","Punkte",null,0,0,0,null,11,15,19,5]
[0,0,null,3,3,1,null,13,17,21,6]
[1,2,null,4,5,2,null,15,19,23,7]
[2,4,null,5,7,3,null,17,21,25,8]
[3,6,null,6,8,4,null,19,23,27,9]
[4,8,null,7,9,5,null,21,25,29,10]
[5,10,null,8,10,6]
[null,null,null,9,12,7]
[null,null,null,10,13,8]
[null,null,null,11,14,9]
[null,null,null,12,15,10]
[]
[null,null,null,"Handstandstehen"]
[null,null,null,"AK 9","AK 10 - 21","Ausführung"]
[null,null,null,"Wiederholungen","Wiederholungen","Punkte"]
[null,null,null,0,0,0]
[null,null,null,40,10,2]
[null,null,null,45,15,4]
[null,null,null,50,20,6]
[null,null,null,55,25,8]
[null,null,null,60,30,10]
[]
[null,null,null,"Mindestpunktzahlen"]
[null,null,null,"ab AK","männlich","weiblich"]
[null,null,null,1,111,111]
[null,null,null,10,112,112]
[null,null,null,12,129,129]
[null,null,null,13,144,143]
[null,null,null,15,162,159]
[null,null,null,17,186,169]
[null,null,null,19,198,178]

{"sheet":"Standsprünge","index":44,"n_rows":15,"n_cols":3,"rows_kept":15,"cut":false,"hidden":true,"merged":[[0,0,0,2]]}
["Standsprunghöhe"]
["AK","weiblich","männlich"]
[9,13,13]
[10,13.5,13.5]
[11,14,14.3]
[12,14.5,14.8]
[13,15.2,15.3]
[14,15.5,15.8]
[15,16,16.3]
[16,16.3,16.8]
[17,16.3,17.3]
[18,16.399999999999999,17.600000000000001]
[19,16.5,17.899999999999999]
[20,16.600000000000001,18.2]
[21,16.7,18.5]